BEGIN:VCALENDAR
VERSION:2.0
PRODID:-//Medilink Midlands - ECPv6.15.20//NONSGML v1.0//EN
CALSCALE:GREGORIAN
METHOD:PUBLISH
X-WR-CALNAME:Medilink Midlands
X-ORIGINAL-URL:https://staging.medilinkmidlands.com
X-WR-CALDESC:Events for Medilink Midlands
REFRESH-INTERVAL;VALUE=DURATION:PT1H
X-Robots-Tag:noindex
X-PUBLISHED-TTL:PT1H
BEGIN:VTIMEZONE
TZID:Europe/London
BEGIN:DAYLIGHT
TZOFFSETFROM:+0000
TZOFFSETTO:+0100
TZNAME:BST
DTSTART:20160327T010000
END:DAYLIGHT
BEGIN:STANDARD
TZOFFSETFROM:+0100
TZOFFSETTO:+0000
TZNAME:GMT
DTSTART:20161030T010000
END:STANDARD
BEGIN:DAYLIGHT
TZOFFSETFROM:+0000
TZOFFSETTO:+0100
TZNAME:BST
DTSTART:20170326T010000
END:DAYLIGHT
BEGIN:STANDARD
TZOFFSETFROM:+0100
TZOFFSETTO:+0000
TZNAME:GMT
DTSTART:20171029T010000
END:STANDARD
BEGIN:DAYLIGHT
TZOFFSETFROM:+0000
TZOFFSETTO:+0100
TZNAME:BST
DTSTART:20180325T010000
END:DAYLIGHT
BEGIN:STANDARD
TZOFFSETFROM:+0100
TZOFFSETTO:+0000
TZNAME:GMT
DTSTART:20181028T010000
END:STANDARD
END:VTIMEZONE
BEGIN:VEVENT
DTSTART;TZID=Europe/London:20170207T080000
DTEND;TZID=Europe/London:20170207T170000
DTSTAMP:20260421T120829
CREATED:20171013T125157Z
LAST-MODIFIED:20171013T125157Z
UID:17646-1486454400-1486486800@staging.medilinkmidlands.com
SUMMARY:A Midlands Engine Masterclass from MasterControl & UL
DESCRIPTION:Medilink East Midlands and West Midlands\, together with MasterControl\, and their partner UL LLC\, are pleased to offer a Midlands Engine Masterclass which will focus on the proposed changes to the Medical Device Regulation for the European Market. These changes are due to come into effect in late 2019 or early 2020\, detailing how they will impact all medical device manufacturers. \nMasterControl is a global provider of quality management software and services and UL LLC is a global independent health sciences company. \nThe masterclass will give delegates the opportunity to hear MasterControl & UL discuss the requirements within the regulation\, particularly concentrating on: \n\nCE Mark transition periods\nHeightened post market surveillance\nVigilance activities expected\nHow notified bodies will be required to act going forward\n\nThis will undoubtedly have an impact on the number of notified bodies left to cover the needs\, and costs will invariable rise. \nMasterControl & UL will also examine the new products brought within scope of the Regulation that have previously not had a medical purpose\, and how this might impact manufacturers not previously under the MDR requirements. \nTo register your place at this event\, please click here.
URL:https://staging.medilinkmidlands.com/event/a-midlands-engine-masterclass-from-mastercontrol-ul/
LOCATION:Jurys Inn Hinckley Island Hotel\, Watling Street\, Burbage\, Hinckley\, LE10 3JA
END:VEVENT
END:VCALENDAR