BEGIN:VCALENDAR
VERSION:2.0
PRODID:-//Medilink Midlands - ECPv6.15.20//NONSGML v1.0//EN
CALSCALE:GREGORIAN
METHOD:PUBLISH
X-WR-CALNAME:Medilink Midlands
X-ORIGINAL-URL:https://staging.medilinkmidlands.com
X-WR-CALDESC:Events for Medilink Midlands
REFRESH-INTERVAL;VALUE=DURATION:PT1H
X-Robots-Tag:noindex
X-PUBLISHED-TTL:PT1H
BEGIN:VTIMEZONE
TZID:Europe/London
BEGIN:DAYLIGHT
TZOFFSETFROM:+0000
TZOFFSETTO:+0100
TZNAME:BST
DTSTART:20160327T010000
END:DAYLIGHT
BEGIN:STANDARD
TZOFFSETFROM:+0100
TZOFFSETTO:+0000
TZNAME:GMT
DTSTART:20161030T010000
END:STANDARD
BEGIN:DAYLIGHT
TZOFFSETFROM:+0000
TZOFFSETTO:+0100
TZNAME:BST
DTSTART:20170326T010000
END:DAYLIGHT
BEGIN:STANDARD
TZOFFSETFROM:+0100
TZOFFSETTO:+0000
TZNAME:GMT
DTSTART:20171029T010000
END:STANDARD
BEGIN:DAYLIGHT
TZOFFSETFROM:+0000
TZOFFSETTO:+0100
TZNAME:BST
DTSTART:20180325T010000
END:DAYLIGHT
BEGIN:STANDARD
TZOFFSETFROM:+0100
TZOFFSETTO:+0000
TZNAME:GMT
DTSTART:20181028T010000
END:STANDARD
END:VTIMEZONE
BEGIN:VEVENT
DTSTART;TZID=Europe/London:20170216T080000
DTEND;TZID=Europe/London:20170216T170000
DTSTAMP:20260421T110331
CREATED:20171013T125617Z
LAST-MODIFIED:20171013T125617Z
UID:17649-1487232000-1487264400@staging.medilinkmidlands.com
SUMMARY:BioBrum Life Science event
DESCRIPTION:The BioHub Birmingham®\, Birmingham’s flagship life science incubator\, is hosting its first BioBrum Life Science event on 16th February 2017.  Aimed at pre-revenue life science companies the free event will include talks on finance\, intellectual property\, effective use of professional networks and business development.  There will also be an opportunity for one-to-one advice sessions with IP\, finance and business planning specialists. \nAll eligible companies registering for the event will have the opportunity to win six months free laboratory space at The BioHub*\, and complementary business assistance provided by the Enterprise Acceleration team at the University of Birmingham. We are looking for highly disruptive and innovative approaches\, and the projects will be judged on how novel they are\, as well as their long term commercial potential. \nTo register to attend this event or find out more information\, please email Dr Ewa Truchanowicz.
URL:https://staging.medilinkmidlands.com/event/biobrum-life-science-event/
LOCATION:Birmingham Research Park\, Vincent Drive\, Birmingham\, B15 2SQ
END:VEVENT
END:VCALENDAR