BEGIN:VCALENDAR
VERSION:2.0
PRODID:-//Medilink Midlands - ECPv6.15.20//NONSGML v1.0//EN
CALSCALE:GREGORIAN
METHOD:PUBLISH
X-WR-CALNAME:Medilink Midlands
X-ORIGINAL-URL:https://staging.medilinkmidlands.com
X-WR-CALDESC:Events for Medilink Midlands
REFRESH-INTERVAL;VALUE=DURATION:PT1H
X-Robots-Tag:noindex
X-PUBLISHED-TTL:PT1H
BEGIN:VTIMEZONE
TZID:Europe/London
BEGIN:DAYLIGHT
TZOFFSETFROM:+0000
TZOFFSETTO:+0100
TZNAME:BST
DTSTART:20170326T010000
END:DAYLIGHT
BEGIN:STANDARD
TZOFFSETFROM:+0100
TZOFFSETTO:+0000
TZNAME:GMT
DTSTART:20171029T010000
END:STANDARD
BEGIN:DAYLIGHT
TZOFFSETFROM:+0000
TZOFFSETTO:+0100
TZNAME:BST
DTSTART:20180325T010000
END:DAYLIGHT
BEGIN:STANDARD
TZOFFSETFROM:+0100
TZOFFSETTO:+0000
TZNAME:GMT
DTSTART:20181028T010000
END:STANDARD
BEGIN:DAYLIGHT
TZOFFSETFROM:+0000
TZOFFSETTO:+0100
TZNAME:BST
DTSTART:20190331T010000
END:DAYLIGHT
BEGIN:STANDARD
TZOFFSETFROM:+0100
TZOFFSETTO:+0000
TZNAME:GMT
DTSTART:20191027T010000
END:STANDARD
END:VTIMEZONE
BEGIN:VEVENT
DTSTART;TZID=Europe/London:20180522T093000
DTEND;TZID=Europe/London:20180522T133000
DTSTAMP:20260421T140822
CREATED:20180205T110702Z
LAST-MODIFIED:20180205T110702Z
UID:17778-1526981400-1526995800@staging.medilinkmidlands.com
SUMMARY:Biological Applications of Smart Materials for Life Science Businesses - CANCELLED
DESCRIPTION:  \n \nUnfortunately this event on ‘Biological Applications of Smart Materials for Life Science Businesses’ has been cancelled. \n  \nThis free to attend event is being held as part of the ACTIS programme – a project part-funded by the European Regional Development Fund\, click here to be re-directed to further information about the project. \nProgramme\nSpeaker Biographies \n  \n 
URL:https://staging.medilinkmidlands.com/event/biological-applications-of-smart-materials-for-life-science-businesses/
LOCATION:Mercure Milton Keynes\, The Approach\, Two Mile Ash\, Milton Keynes\, MK8 8LY\, United Kingdom
ATTACH;FMTTYPE=image/jpeg:https://staging.medilinkmidlands.com/wp-content/uploads/2022/04/erdflogo2.jpg
ORGANIZER;CN="Jo Rudzki":MAILTO:info@medilinkem.com
END:VEVENT
END:VCALENDAR