BEGIN:VCALENDAR
VERSION:2.0
PRODID:-//Medilink Midlands - ECPv6.15.20//NONSGML v1.0//EN
CALSCALE:GREGORIAN
METHOD:PUBLISH
X-WR-CALNAME:Medilink Midlands
X-ORIGINAL-URL:https://staging.medilinkmidlands.com
X-WR-CALDESC:Events for Medilink Midlands
REFRESH-INTERVAL;VALUE=DURATION:PT1H
X-Robots-Tag:noindex
X-PUBLISHED-TTL:PT1H
BEGIN:VTIMEZONE
TZID:Europe/London
BEGIN:DAYLIGHT
TZOFFSETFROM:+0000
TZOFFSETTO:+0100
TZNAME:BST
DTSTART:20190331T010000
END:DAYLIGHT
BEGIN:STANDARD
TZOFFSETFROM:+0100
TZOFFSETTO:+0000
TZNAME:GMT
DTSTART:20191027T010000
END:STANDARD
BEGIN:DAYLIGHT
TZOFFSETFROM:+0000
TZOFFSETTO:+0100
TZNAME:BST
DTSTART:20200329T010000
END:DAYLIGHT
BEGIN:STANDARD
TZOFFSETFROM:+0100
TZOFFSETTO:+0000
TZNAME:GMT
DTSTART:20201025T010000
END:STANDARD
BEGIN:DAYLIGHT
TZOFFSETFROM:+0000
TZOFFSETTO:+0100
TZNAME:BST
DTSTART:20210328T010000
END:DAYLIGHT
BEGIN:STANDARD
TZOFFSETFROM:+0100
TZOFFSETTO:+0000
TZNAME:GMT
DTSTART:20211031T010000
END:STANDARD
END:VTIMEZONE
BEGIN:VEVENT
DTSTART;TZID=Europe/London:20200318T080000
DTEND;TZID=Europe/London:20200318T110000
DTSTAMP:20260420T080814
CREATED:20200210T093713Z
LAST-MODIFIED:20200210T093713Z
UID:18061-1584518400-1584529200@staging.medilinkmidlands.com
SUMMARY:Breakfast Event: How Healthy is Your Business?
DESCRIPTION:POSTPONED \nDue to the recent outbreak of Coronavirus (COVID-19)\, we have regrettably had to postpone this event. We will endeavour to reschedule this event as soon as possible. \nWe sincerely apologise for this inconvenience and will update our website with further information as soon as this becomes available.\nIf you have any questions\, please email us at info@medilinkem.com\, or call us on 0115 822 3154. \nThis breakfast event in partnership with BHIB Insurance will provide an insight into the current challenges faced by SMEs. \nThe event will cover: \n-GDPR & Cyber threats \n-Fostering Wellness in the Workplace \n-Doing Business in a difficult climate \nProgramme \nSpeaker Profiles \nBHIB Insurance are proud Patrons of Medilink East Midlands. BHIB are a staunchly independent Insurance Broker based in the heart of the East Midlands. Their clients’ needs are always at the heart of everything they do and this has been the case for the over 50 years. Their Chartered Insurance Broker status is reassurance that when you deal with BHIB you are dealing with proven certified Insurance professionals. For more information please visit www.bhibinsurance.co.uk \n  \nHow to find AGM House: \nFor directions and a map to AGM House\, please click here.  The nearest mainline station is Leicester station\, which is 4.7 miles away.  Limited parking is available on site. \n 
URL:https://staging.medilinkmidlands.com/event/breakfast-event-how-healthy-is-your-business/
LOCATION:AGM House\, 3 Barton Close\, Grove Park\, Enderby\, Leicestershire\, LE19 1SJ
CATEGORIES:Medilink Midlands Event
ATTACH;FMTTYPE=image/jpeg:https://staging.medilinkmidlands.com/wp-content/uploads/2022/04/BHIB-Logo.jpg
ORGANIZER;CN="Jo Rudzki":MAILTO:info@medilinkem.com
END:VEVENT
END:VCALENDAR