BEGIN:VCALENDAR
VERSION:2.0
PRODID:-//Medilink Midlands - ECPv6.15.20//NONSGML v1.0//EN
CALSCALE:GREGORIAN
METHOD:PUBLISH
X-WR-CALNAME:Medilink Midlands
X-ORIGINAL-URL:https://staging.medilinkmidlands.com
X-WR-CALDESC:Events for Medilink Midlands
REFRESH-INTERVAL;VALUE=DURATION:PT1H
X-Robots-Tag:noindex
X-PUBLISHED-TTL:PT1H
BEGIN:VTIMEZONE
TZID:Europe/London
BEGIN:DAYLIGHT
TZOFFSETFROM:+0000
TZOFFSETTO:+0100
TZNAME:BST
DTSTART:20160327T010000
END:DAYLIGHT
BEGIN:STANDARD
TZOFFSETFROM:+0100
TZOFFSETTO:+0000
TZNAME:GMT
DTSTART:20161030T010000
END:STANDARD
BEGIN:DAYLIGHT
TZOFFSETFROM:+0000
TZOFFSETTO:+0100
TZNAME:BST
DTSTART:20170326T010000
END:DAYLIGHT
BEGIN:STANDARD
TZOFFSETFROM:+0100
TZOFFSETTO:+0000
TZNAME:GMT
DTSTART:20171029T010000
END:STANDARD
BEGIN:DAYLIGHT
TZOFFSETFROM:+0000
TZOFFSETTO:+0100
TZNAME:BST
DTSTART:20180325T010000
END:DAYLIGHT
BEGIN:STANDARD
TZOFFSETFROM:+0100
TZOFFSETTO:+0000
TZNAME:GMT
DTSTART:20181028T010000
END:STANDARD
END:VTIMEZONE
BEGIN:VEVENT
DTSTART;TZID=Europe/London:20170202T080000
DTEND;TZID=Europe/London:20170202T170000
DTSTAMP:20260421T100911
CREATED:20171013T124441Z
LAST-MODIFIED:20171013T124441Z
UID:17640-1486022400-1486054800@staging.medilinkmidlands.com
SUMMARY:Digital Health Special Interest Group
DESCRIPTION:The next Digital Health Special Interest Group is taking place on Thursday 2 February and the theme for the SIG is ‘environmental health’. \nThe final programme and speaker biographies are available on the links below. \nTopics include:\n– Improving healthcare with environmental data: the EPHI pilot project\n– Employing electronic textiles for monitoring human exposure to environmental factors \nThis free to attend event is being held as part of the SoLSTICE programme – a project part-funded by the European Regional Development Fund\, click here to be re-directed to further information about the project. \nTo book your place\, please complete the ‘book online now’ form below. 
URL:https://staging.medilinkmidlands.com/event/digital-health-special-interest-group/
LOCATION:Park Inn Hotel\, Mansfield Road\, Nottingham\, NG5 2BT
ORGANIZER;CN="Becky Brown":MAILTO:info@medilinkem.com
END:VEVENT
END:VCALENDAR