BEGIN:VCALENDAR
VERSION:2.0
PRODID:-//Medilink Midlands - ECPv6.15.20//NONSGML v1.0//EN
CALSCALE:GREGORIAN
METHOD:PUBLISH
X-WR-CALNAME:Medilink Midlands
X-ORIGINAL-URL:https://staging.medilinkmidlands.com
X-WR-CALDESC:Events for Medilink Midlands
REFRESH-INTERVAL;VALUE=DURATION:PT1H
X-Robots-Tag:noindex
X-PUBLISHED-TTL:PT1H
BEGIN:VTIMEZONE
TZID:Europe/London
BEGIN:DAYLIGHT
TZOFFSETFROM:+0000
TZOFFSETTO:+0100
TZNAME:BST
DTSTART:20180325T010000
END:DAYLIGHT
BEGIN:STANDARD
TZOFFSETFROM:+0100
TZOFFSETTO:+0000
TZNAME:GMT
DTSTART:20181028T010000
END:STANDARD
BEGIN:DAYLIGHT
TZOFFSETFROM:+0000
TZOFFSETTO:+0100
TZNAME:BST
DTSTART:20190331T010000
END:DAYLIGHT
BEGIN:STANDARD
TZOFFSETFROM:+0100
TZOFFSETTO:+0000
TZNAME:GMT
DTSTART:20191027T010000
END:STANDARD
BEGIN:DAYLIGHT
TZOFFSETFROM:+0000
TZOFFSETTO:+0100
TZNAME:BST
DTSTART:20200329T010000
END:DAYLIGHT
BEGIN:STANDARD
TZOFFSETFROM:+0100
TZOFFSETTO:+0000
TZNAME:GMT
DTSTART:20201025T010000
END:STANDARD
END:VTIMEZONE
BEGIN:VEVENT
DTSTART;TZID=Europe/London:20190307T090000
DTEND;TZID=Europe/London:20190307T130000
DTSTAMP:20260421T092324
CREATED:20190204T151904Z
LAST-MODIFIED:20190204T151904Z
UID:17931-1551949200-1551963600@staging.medilinkmidlands.com
SUMMARY:Food Supplements Special Interest Group (SIG)
DESCRIPTION:Probiotics and the Gut Microbiome. \nAs part of a two part special interest group initiative\, Farm to Fork\, with our sister SIG\, Infectious Disease (co-ordinated by Dr Katie Laird\, DMU) we are looking at the nutrition perspective of microbiology\, namely probiotics and why a healthy gut is important. Micro-organisms are integral to our health and wellbeing. In these two networking meetings we shall be exploring how the role of micro-organisms both good and bad are pivotal to our continued health. \n7 March – This event will look at the impact of the microbiome\, influence of probiotics (what they are and how they are regulated) and how to innovate in this area. \nThis free to attend event is held as part of the INSTILS programme – a project part-funded by the European Regional Development Fund\, click here to be re-directed to further information about the project. \nPlease note: Individual registration is required for each event. By clicking BOOK NOW you will be registered for 7 March only.  \n3 April – The Infectious Disease SIG will explore the links between food production and antibiotic resistance in the environment and the impact this can have on health. Click here for further details. \nProgramme \nSpeaker Profiles \nDelegate List \n 
URL:https://staging.medilinkmidlands.com/event/food-supplements-special-interest-group-sig-6/
LOCATION:Discovery Building\, BioCity Nottingham\, Pennyfoot Street\, Nottingham\, NG1 1GF
CATEGORIES:Project Event
ATTACH;FMTTYPE=image/jpeg:https://staging.medilinkmidlands.com/wp-content/uploads/2022/04/erdflogo2.jpg
ORGANIZER;CN="Jo Rudzki":MAILTO:info@medilinkem.com
END:VEVENT
END:VCALENDAR