BEGIN:VCALENDAR
VERSION:2.0
PRODID:-//Medilink Midlands - ECPv6.15.20//NONSGML v1.0//EN
CALSCALE:GREGORIAN
METHOD:PUBLISH
X-WR-CALNAME:Medilink Midlands
X-ORIGINAL-URL:https://staging.medilinkmidlands.com
X-WR-CALDESC:Events for Medilink Midlands
REFRESH-INTERVAL;VALUE=DURATION:PT1H
X-Robots-Tag:noindex
X-PUBLISHED-TTL:PT1H
BEGIN:VTIMEZONE
TZID:Europe/London
BEGIN:DAYLIGHT
TZOFFSETFROM:+0000
TZOFFSETTO:+0100
TZNAME:BST
DTSTART:20160327T010000
END:DAYLIGHT
BEGIN:STANDARD
TZOFFSETFROM:+0100
TZOFFSETTO:+0000
TZNAME:GMT
DTSTART:20161030T010000
END:STANDARD
BEGIN:DAYLIGHT
TZOFFSETFROM:+0000
TZOFFSETTO:+0100
TZNAME:BST
DTSTART:20170326T010000
END:DAYLIGHT
BEGIN:STANDARD
TZOFFSETFROM:+0100
TZOFFSETTO:+0000
TZNAME:GMT
DTSTART:20171029T010000
END:STANDARD
BEGIN:DAYLIGHT
TZOFFSETFROM:+0000
TZOFFSETTO:+0100
TZNAME:BST
DTSTART:20180325T010000
END:DAYLIGHT
BEGIN:STANDARD
TZOFFSETFROM:+0100
TZOFFSETTO:+0000
TZNAME:GMT
DTSTART:20181028T010000
END:STANDARD
END:VTIMEZONE
BEGIN:VEVENT
DTSTART;TZID=Europe/London:20170119T080000
DTEND;TZID=Europe/London:20170119T170000
DTSTAMP:20260421T104301
CREATED:20171013T125001Z
LAST-MODIFIED:20171013T125001Z
UID:17644-1484812800-1484845200@staging.medilinkmidlands.com
SUMMARY:Industry Focus Group- Investment Finance
DESCRIPTION:Medilink West Midlands are holding a workshop to better understand the landscape from the perspective of SME’s and start-ups within the Life Sciences Sector in accessing investment finance; establishing what gaps and opportunities may exist and exploring how improved provision might look. This event will help Medilink WM to inform and feed into both regional and national agencies with regards future initiatives\, to try to ensure that the right types of finance support are there for you at the right time. \nAgenda: \nPresentation by Peter Dines \nAn opportunity to hear from and talk individually to Peter Dines of Mercia Fund Management\, a leading investment business in UK innovation and a subsidiary of Mercia Technologies PLC. Mercia is collaborating with the West Midlands Academic Health Science Network (WMAHSN) to help build and support healthcare start-ups across the West Midlands. \nOpen Forum/Discussion \n  \n\nHave you tried to obtain investment finance?\nWhat is the purpose of your requirements?\nWhat current initiatives are you aware of?\nWhat would you like to see done to address gaps/deficiencies?\n\nSummary & Close \nTo find out more about this event\, please go to the Medilink West Midlands website. Alternatively you can reserve your place by emailing Vanessa Bailey.
URL:https://staging.medilinkmidlands.com/event/industry-focus-group-investment-finance/
LOCATION:Medical Technologies Innovation Centre\, 4 Greenfield Crescent\, Birmingham\, B15 3BE
END:VEVENT
END:VCALENDAR