BEGIN:VCALENDAR
VERSION:2.0
PRODID:-//Medilink Midlands - ECPv6.15.20//NONSGML v1.0//EN
CALSCALE:GREGORIAN
METHOD:PUBLISH
X-WR-CALNAME:Medilink Midlands
X-ORIGINAL-URL:https://staging.medilinkmidlands.com
X-WR-CALDESC:Events for Medilink Midlands
REFRESH-INTERVAL;VALUE=DURATION:PT1H
X-Robots-Tag:noindex
X-PUBLISHED-TTL:PT1H
BEGIN:VTIMEZONE
TZID:Europe/London
BEGIN:DAYLIGHT
TZOFFSETFROM:+0000
TZOFFSETTO:+0100
TZNAME:BST
DTSTART:20190331T010000
END:DAYLIGHT
BEGIN:STANDARD
TZOFFSETFROM:+0100
TZOFFSETTO:+0000
TZNAME:GMT
DTSTART:20191027T010000
END:STANDARD
BEGIN:DAYLIGHT
TZOFFSETFROM:+0000
TZOFFSETTO:+0100
TZNAME:BST
DTSTART:20200329T010000
END:DAYLIGHT
BEGIN:STANDARD
TZOFFSETFROM:+0100
TZOFFSETTO:+0000
TZNAME:GMT
DTSTART:20201025T010000
END:STANDARD
BEGIN:DAYLIGHT
TZOFFSETFROM:+0000
TZOFFSETTO:+0100
TZNAME:BST
DTSTART:20210328T010000
END:DAYLIGHT
BEGIN:STANDARD
TZOFFSETFROM:+0100
TZOFFSETTO:+0000
TZNAME:GMT
DTSTART:20211031T010000
END:STANDARD
END:VTIMEZONE
BEGIN:VEVENT
DTSTART;TZID=Europe/London:20200312T093000
DTEND;TZID=Europe/London:20200312T130000
DTSTAMP:20260420T080955
CREATED:20200113T142338Z
LAST-MODIFIED:20200113T142338Z
UID:18055-1584005400-1584018000@staging.medilinkmidlands.com
SUMMARY:Infectious Diseases Special Interest Group (SIG)
DESCRIPTION:The next Infectious Diseases Special Interest Group (SIG) will take place on Thursday 12 March in Leicester. The theme for this SIG is ‘Infection control of biofilms: new perspectives on tackling a persistent problem’. \nThe event will include presentations on: \n– Communicating with biofilms to improve removal \n– Biofilm and its effect on Vascular Access Devices \n– Commercialisation of an anti-biofilm polymer coating \n– Novel approaches to probing the microniches of biofilms and develop enhanced antimicrobial strategies \n  \nThis free to attend event is held as part of the SoLSTICE programme – a project part-funded by the European Regional Development Fund\,  click here to be re-directed to further information about the project. This event is classed as State Aid to participating businesses\, the value of which is £380\, but is delivered completely free of charge to participants. \nProgramme \nSpeaker Profiles \nDelegate List \n\nHow to find Winstanley House\, Leicester: \nAccess to Winstanley House is through a public park\, please enter via Hinckley Road – if using a Sat Nav use the postcode LE3 1HX.  Parking is available on site and free of charge to delegates. To view a map on the venue’s website\, please click here. The nearest train station is Leicester train station\, which is 4 miles from the venue.
URL:https://staging.medilinkmidlands.com/event/infectious-diseases-special-interest-group-sig-7/
LOCATION:Winstanley House\, Hinckley Road\, Leicester\, LE3 1HX\, United Kingdom
CATEGORIES:Project Event
ATTACH;FMTTYPE=image/jpeg:https://staging.medilinkmidlands.com/wp-content/uploads/2022/04/erdflogo2.jpg
ORGANIZER;CN="Becky Sharpe":MAILTO:events@medilinkmidlands.com
END:VEVENT
END:VCALENDAR