BEGIN:VCALENDAR
VERSION:2.0
PRODID:-//Medilink Midlands - ECPv6.15.20//NONSGML v1.0//EN
CALSCALE:GREGORIAN
METHOD:PUBLISH
X-WR-CALNAME:Medilink Midlands
X-ORIGINAL-URL:https://staging.medilinkmidlands.com
X-WR-CALDESC:Events for Medilink Midlands
REFRESH-INTERVAL;VALUE=DURATION:PT1H
X-Robots-Tag:noindex
X-PUBLISHED-TTL:PT1H
BEGIN:VTIMEZONE
TZID:Europe/London
BEGIN:DAYLIGHT
TZOFFSETFROM:+0000
TZOFFSETTO:+0100
TZNAME:BST
DTSTART:20190331T010000
END:DAYLIGHT
BEGIN:STANDARD
TZOFFSETFROM:+0100
TZOFFSETTO:+0000
TZNAME:GMT
DTSTART:20191027T010000
END:STANDARD
BEGIN:DAYLIGHT
TZOFFSETFROM:+0000
TZOFFSETTO:+0100
TZNAME:BST
DTSTART:20200329T010000
END:DAYLIGHT
BEGIN:STANDARD
TZOFFSETFROM:+0100
TZOFFSETTO:+0000
TZNAME:GMT
DTSTART:20201025T010000
END:STANDARD
BEGIN:DAYLIGHT
TZOFFSETFROM:+0000
TZOFFSETTO:+0100
TZNAME:BST
DTSTART:20210328T010000
END:DAYLIGHT
BEGIN:STANDARD
TZOFFSETFROM:+0100
TZOFFSETTO:+0000
TZNAME:GMT
DTSTART:20211031T010000
END:STANDARD
END:VTIMEZONE
BEGIN:VEVENT
DTSTART;TZID=Europe/London:20200304T093000
DTEND;TZID=Europe/London:20200304T130000
DTSTAMP:20260420T110858
CREATED:20191218T134445Z
LAST-MODIFIED:20191218T134445Z
UID:18032-1583314200-1583326800@staging.medilinkmidlands.com
SUMMARY:Is Your Business Case NHS Ready?
DESCRIPTION:The challenge as innovators and companies to the NHS\, is often that when you have a product that improves patient outcomes and saves cost\, you still cannot get it adopted by the NHS. This is often because there is not a fully developed business case. \nDelivered by EMAHSN staff\, this interactive and informative event will enable you to prepare better business case. \nDuring the event you will learn about: \n-What is a business case\, what is its purpose and why it is so important? \n-Who reviews the business case and how are they evaluated from a commissioning point of view? \n-How to construct a good business case \nThis is the second part of a 3 workshop programme ‘Getting Ready for NHS Market Entry ‘\, designed to get you ready to successfully secure business with NHS Organisations. Please see below for details of part 3. \nProgramme\nSpeaker Profiles \nDelegate List \nPlaces are strictly limited to one delegate per organisation. Priority will be given to SMEs. \nNon-Attendance: should you book on Medilink East Midlands events and fail to attend on two occasions without letting us know\, we reserve the right to refuse to accept bookings from your organisation in the future. \n \nALTERNATIVE DATES \nPart 3 – ‘Creating Valid Evidence & Evaluation for the NHS’  Thursday 19 March\, Kettering Conference & Leisure Village\, Northampton. For further details please click here. \nAlternative Dates for Part 2 : \n\nThursday 7 May\, Leicestershire\, Venue TBC. For further details please click here.\nThursday 18 June\, Lincolnshire\, Venue TBC. For further details please click here.\nThursday 10 September\, Northamptonshire\, Venue TBC. For further details please click here.
URL:https://staging.medilinkmidlands.com/event/is-your-business-case-nhs-ready/
LOCATION:We are Pioneer Group Nottingham\, Innovation Building\, (formerly BioCity)\, Pennyfoot Street\, Nottingham\, NG1 1GF\, United Kingdom
CATEGORIES:Project Event
ATTACH;FMTTYPE=image/png:https://staging.medilinkmidlands.com/wp-content/uploads/2022/04/Badge-for-EMAHSN-Events-1.png
ORGANIZER;CN="Becky Sharpe":MAILTO:events@medilinkmidlands.com
END:VEVENT
END:VCALENDAR