BEGIN:VCALENDAR
VERSION:2.0
PRODID:-//Medilink Midlands - ECPv6.15.20//NONSGML v1.0//EN
CALSCALE:GREGORIAN
METHOD:PUBLISH
X-WR-CALNAME:Medilink Midlands
X-ORIGINAL-URL:https://staging.medilinkmidlands.com
X-WR-CALDESC:Events for Medilink Midlands
REFRESH-INTERVAL;VALUE=DURATION:PT1H
X-Robots-Tag:noindex
X-PUBLISHED-TTL:PT1H
BEGIN:VTIMEZONE
TZID:Europe/London
BEGIN:DAYLIGHT
TZOFFSETFROM:+0000
TZOFFSETTO:+0100
TZNAME:BST
DTSTART:20170326T010000
END:DAYLIGHT
BEGIN:STANDARD
TZOFFSETFROM:+0100
TZOFFSETTO:+0000
TZNAME:GMT
DTSTART:20171029T010000
END:STANDARD
BEGIN:DAYLIGHT
TZOFFSETFROM:+0000
TZOFFSETTO:+0100
TZNAME:BST
DTSTART:20180325T010000
END:DAYLIGHT
BEGIN:STANDARD
TZOFFSETFROM:+0100
TZOFFSETTO:+0000
TZNAME:GMT
DTSTART:20181028T010000
END:STANDARD
BEGIN:DAYLIGHT
TZOFFSETFROM:+0000
TZOFFSETTO:+0100
TZNAME:BST
DTSTART:20190331T010000
END:DAYLIGHT
BEGIN:STANDARD
TZOFFSETFROM:+0100
TZOFFSETTO:+0000
TZNAME:GMT
DTSTART:20191027T010000
END:STANDARD
END:VTIMEZONE
BEGIN:VEVENT
DTSTART;TZID=Europe/London:20180517T080000
DTEND;TZID=Europe/London:20180517T103000
DTSTAMP:20260421T093925
CREATED:20180416T120816Z
LAST-MODIFIED:20180416T120816Z
UID:17810-1526544000-1526553000@staging.medilinkmidlands.com
SUMMARY:Managing and Mitigating Risk of Cybercrime and Protection of your data
DESCRIPTION:This free to attend breakfast event will cover some very important topics\, whilst providing you with the opportunity to get your questions answered by the experts. \nIn partnership with BHIB Insurance Brokers and Shakespeare Martineau\, the topics will include: \n– What trends BHIB are seeing and what they believe are the significant risks to the life sciences industry \n– Ways to mitigate risk \n– Reasons for imminent changes to data protection legislation \n– Key GDPR concepts and changes \nEvent Documents: \nProgramme \nSpeaker Profiles \nDelegate List \n 
URL:https://staging.medilinkmidlands.com/event/managing-and-mitigating-risk-in-cybercrime-and-protection-of-your-data/
LOCATION:Discovery Building\, BioCity Nottingham\, Pennyfoot Street\, Nottingham\, NG1 1GF\, United Kingdom
CATEGORIES:Medilink Midlands Event
ORGANIZER;CN="Becky Sharpe":MAILTO:events@medilinkmidlands.com
END:VEVENT
END:VCALENDAR