BEGIN:VCALENDAR
VERSION:2.0
PRODID:-//Medilink Midlands - ECPv6.15.20//NONSGML v1.0//EN
CALSCALE:GREGORIAN
METHOD:PUBLISH
X-WR-CALNAME:Medilink Midlands
X-ORIGINAL-URL:https://staging.medilinkmidlands.com
X-WR-CALDESC:Events for Medilink Midlands
REFRESH-INTERVAL;VALUE=DURATION:PT1H
X-Robots-Tag:noindex
X-PUBLISHED-TTL:PT1H
BEGIN:VTIMEZONE
TZID:Europe/London
BEGIN:DAYLIGHT
TZOFFSETFROM:+0000
TZOFFSETTO:+0100
TZNAME:BST
DTSTART:20180325T010000
END:DAYLIGHT
BEGIN:STANDARD
TZOFFSETFROM:+0100
TZOFFSETTO:+0000
TZNAME:GMT
DTSTART:20181028T010000
END:STANDARD
BEGIN:DAYLIGHT
TZOFFSETFROM:+0000
TZOFFSETTO:+0100
TZNAME:BST
DTSTART:20190331T010000
END:DAYLIGHT
BEGIN:STANDARD
TZOFFSETFROM:+0100
TZOFFSETTO:+0000
TZNAME:GMT
DTSTART:20191027T010000
END:STANDARD
BEGIN:DAYLIGHT
TZOFFSETFROM:+0000
TZOFFSETTO:+0100
TZNAME:BST
DTSTART:20200329T010000
END:DAYLIGHT
BEGIN:STANDARD
TZOFFSETFROM:+0100
TZOFFSETTO:+0000
TZNAME:GMT
DTSTART:20201025T010000
END:STANDARD
END:VTIMEZONE
BEGIN:VEVENT
DTSTART;TZID=Europe/London:20191126T090000
DTEND;TZID=Europe/London:20191126T133000
DTSTAMP:20260420T110935
CREATED:20191008T134524Z
LAST-MODIFIED:20191008T134524Z
UID:18019-1574758800-1574775000@staging.medilinkmidlands.com
SUMMARY:Medical Technologies & Systems Special Interest Group (SIG)
DESCRIPTION:This Medical Technologies & Systems SIG will provide an opportunity for discussion and networking with a range of delegates from industry and academia linked to Digital Health Care and Artificial Intelligence. \nThe event will include presentations on:\n-Machine Learning for Interrogating Biomolecular Data- a revolution in biomarker and drug target discovery? \n-AI in Healthcare: from Concept to Care \n-AI in Surgery \n-AI and Connected Healthcare \nThis free to attend event was being held as part of the INSTILS programme – a project part-funded by the European Regional Development Fund\, click here to be re-directed to further information about the project. \nProgramme \nSpeaker Profiles \nDelegate List \nNon-Attendance: should you book on Medilink East Midlands events and fail to attend on two occasions without letting us know\, we reserve the right to refuse to accept bookings from your organisation in the future. \n 
URL:https://staging.medilinkmidlands.com/event/medical-technologies-systems-special-interest-group-sig-2/
LOCATION:We are Pioneer Group Nottingham\, Innovation Building\, (formerly BioCity)\, Pennyfoot Street\, Nottingham\, NG1 1GF\, United Kingdom
CATEGORIES:Project Event
ATTACH;FMTTYPE=image/jpeg:https://staging.medilinkmidlands.com/wp-content/uploads/2022/04/colour-landscape-1-1-scaled.jpg
ORGANIZER;CN="Jo Rudzki":MAILTO:info@medilinkem.com
END:VEVENT
END:VCALENDAR