BEGIN:VCALENDAR
VERSION:2.0
PRODID:-//Medilink Midlands - ECPv6.15.20//NONSGML v1.0//EN
CALSCALE:GREGORIAN
METHOD:PUBLISH
X-WR-CALNAME:Medilink Midlands
X-ORIGINAL-URL:https://staging.medilinkmidlands.com
X-WR-CALDESC:Events for Medilink Midlands
REFRESH-INTERVAL;VALUE=DURATION:PT1H
X-Robots-Tag:noindex
X-PUBLISHED-TTL:PT1H
BEGIN:VTIMEZONE
TZID:Europe/London
BEGIN:DAYLIGHT
TZOFFSETFROM:+0000
TZOFFSETTO:+0100
TZNAME:BST
DTSTART:20240331T010000
END:DAYLIGHT
BEGIN:STANDARD
TZOFFSETFROM:+0100
TZOFFSETTO:+0000
TZNAME:GMT
DTSTART:20241027T010000
END:STANDARD
BEGIN:DAYLIGHT
TZOFFSETFROM:+0000
TZOFFSETTO:+0100
TZNAME:BST
DTSTART:20250330T010000
END:DAYLIGHT
BEGIN:STANDARD
TZOFFSETFROM:+0100
TZOFFSETTO:+0000
TZNAME:GMT
DTSTART:20251026T010000
END:STANDARD
BEGIN:DAYLIGHT
TZOFFSETFROM:+0000
TZOFFSETTO:+0100
TZNAME:BST
DTSTART:20260329T010000
END:DAYLIGHT
BEGIN:STANDARD
TZOFFSETFROM:+0100
TZOFFSETTO:+0000
TZNAME:GMT
DTSTART:20261025T010000
END:STANDARD
END:VTIMEZONE
BEGIN:VEVENT
DTSTART;VALUE=DATE:20250910
DTEND;VALUE=DATE:20250913
DTSTAMP:20260421T092448
CREATED:20250623T145711Z
LAST-MODIFIED:20250805T082840Z
UID:36887-1757462400-1757721599@staging.medilinkmidlands.com
SUMMARY:IN-PERSON EVENT: Medical Fair\, Thailand
DESCRIPTION:Established in 2003\, this is Thailand’s leading medical and healthcare trade show\, attracting the region’s hospital\, diagnostic\, pharmaceutical\, medical and rehabilitation sectors in one convenient location. \nThe last edition of the event attracted over 11\,000 visitors from Thailand and Southeast Asia and 900 global exhibitors\, showcasing a huge variety of innovative products and services. \nWhy exhibit? \n\nGenerate new business\nNetwork with industry leaders and potential buyers\nLaunch new products and services\nIncrease brand exposure\nEnhance your international presence\n\nTo enquire about exhibiting\, please contact our friendly and helpful team;# \nPlease click here to enquire for more details
URL:https://staging.medilinkmidlands.com/event/medilink-uk-medicalfair-thailand/
CATEGORIES:Medilink Partner Event
END:VEVENT
END:VCALENDAR