BEGIN:VCALENDAR
VERSION:2.0
PRODID:-//Medilink Midlands - ECPv6.15.20//NONSGML v1.0//EN
CALSCALE:GREGORIAN
METHOD:PUBLISH
X-WR-CALNAME:Medilink Midlands
X-ORIGINAL-URL:https://staging.medilinkmidlands.com
X-WR-CALDESC:Events for Medilink Midlands
REFRESH-INTERVAL;VALUE=DURATION:PT1H
X-Robots-Tag:noindex
X-PUBLISHED-TTL:PT1H
BEGIN:VTIMEZONE
TZID:Europe/London
BEGIN:DAYLIGHT
TZOFFSETFROM:+0000
TZOFFSETTO:+0100
TZNAME:BST
DTSTART:20160327T010000
END:DAYLIGHT
BEGIN:STANDARD
TZOFFSETFROM:+0100
TZOFFSETTO:+0000
TZNAME:GMT
DTSTART:20161030T010000
END:STANDARD
BEGIN:DAYLIGHT
TZOFFSETFROM:+0000
TZOFFSETTO:+0100
TZNAME:BST
DTSTART:20170326T010000
END:DAYLIGHT
BEGIN:STANDARD
TZOFFSETFROM:+0100
TZOFFSETTO:+0000
TZNAME:GMT
DTSTART:20171029T010000
END:STANDARD
BEGIN:DAYLIGHT
TZOFFSETFROM:+0000
TZOFFSETTO:+0100
TZNAME:BST
DTSTART:20180325T010000
END:DAYLIGHT
BEGIN:STANDARD
TZOFFSETFROM:+0100
TZOFFSETTO:+0000
TZNAME:GMT
DTSTART:20181028T010000
END:STANDARD
END:VTIMEZONE
BEGIN:VEVENT
DTSTART;TZID=Europe/London:20170203T080000
DTEND;TZID=Europe/London:20170203T170000
DTSTAMP:20260421T123455
CREATED:20171013T132112Z
LAST-MODIFIED:20171013T132112Z
UID:17655-1486108800-1486141200@staging.medilinkmidlands.com
SUMMARY:Midlands Engine Innovation Group Medical Technologies and Pharma Workshop
DESCRIPTION:The Midlands Engine (an initiative to make the East and West Midlands an engine for growth in the UK economy) completed a government sponsored Science & Innovation Audit over the summer. The audit was developed through a wide range of consultation and analysis of data across many different stakeholders. \nThe Audit identified four market driven priorities\, one of which is ‘Medical Technologies and Pharma’ which our region has world-leading aspects in and the potential to develop further. The Midlands Engine has established an Innovation Group\, in part to take forward the results of the audit and help build cases for investment in the infrastructure and ecosystem. The first opportunity to develop such proposals will be for potential inclusion in the Spring budget. \nYou’re invited to attend this workshop to support the development of proposals relating to ‘Medical Technologies and Pharma’. To find out more information or register your place\, please click here.
URL:https://staging.medilinkmidlands.com/event/midlands-engine-innovation-group-medical-technologies-and-pharma-workshop/
LOCATION:Leicester Conferences Stamford Court\, University of Leicester\, Manor Road\, Oadby\, Leicestershire\, LE2 2LH
END:VEVENT
END:VCALENDAR