BEGIN:VCALENDAR
VERSION:2.0
PRODID:-//Medilink Midlands - ECPv6.15.20//NONSGML v1.0//EN
CALSCALE:GREGORIAN
METHOD:PUBLISH
X-WR-CALNAME:Medilink Midlands
X-ORIGINAL-URL:https://staging.medilinkmidlands.com
X-WR-CALDESC:Events for Medilink Midlands
REFRESH-INTERVAL;VALUE=DURATION:PT1H
X-Robots-Tag:noindex
X-PUBLISHED-TTL:PT1H
BEGIN:VTIMEZONE
TZID:Europe/London
BEGIN:DAYLIGHT
TZOFFSETFROM:+0000
TZOFFSETTO:+0100
TZNAME:BST
DTSTART:20150329T010000
END:DAYLIGHT
BEGIN:STANDARD
TZOFFSETFROM:+0100
TZOFFSETTO:+0000
TZNAME:GMT
DTSTART:20151025T010000
END:STANDARD
BEGIN:DAYLIGHT
TZOFFSETFROM:+0000
TZOFFSETTO:+0100
TZNAME:BST
DTSTART:20160327T010000
END:DAYLIGHT
BEGIN:STANDARD
TZOFFSETFROM:+0100
TZOFFSETTO:+0000
TZNAME:GMT
DTSTART:20161030T010000
END:STANDARD
BEGIN:DAYLIGHT
TZOFFSETFROM:+0000
TZOFFSETTO:+0100
TZNAME:BST
DTSTART:20170326T010000
END:DAYLIGHT
BEGIN:STANDARD
TZOFFSETFROM:+0100
TZOFFSETTO:+0000
TZNAME:GMT
DTSTART:20171029T010000
END:STANDARD
END:VTIMEZONE
BEGIN:VEVENT
DTSTART;TZID=Europe/London:20161007T080000
DTEND;TZID=Europe/London:20161007T170000
DTSTAMP:20260421T123440
CREATED:20171013T121935Z
LAST-MODIFIED:20171013T121935Z
UID:17621-1475827200-1475859600@staging.medilinkmidlands.com
SUMMARY:NMPN Annual General Meeting
DESCRIPTION:You are invited to attend the Annual General Meeting for the Nottingham Molecular Pathology Node (NMPN). Refreshments will be served from 9am\, and lunch will be provided following the meeting. \nLast year the MRC awarded a £2.5 million grant over 4 years to establish the Nottingham Molecular Pathology Node to develop molecular diagnostic tests which will help deliver better targeted\, more effective treatments – known as ‘stratified medicine’ – across a wide range of respiratory\, gastro-intestinal and liver diseases. \nNMPN integrates informatics\, computational modelling and molecular pathology in the development of new diagnostic tools and algorithms. \nThe AGM will give you an update on the project progress to date. For those who aren’t part of the NMPM it will highlight opportunities for interacting with the node and targeting new funding opportunities through the node. \nTo find out more or register your free place\, please click here.
URL:https://staging.medilinkmidlands.com/event/nmpn-annual-general-meeting/
LOCATION:Room A50\, Clinical Sciences Building\, Nottingham City Hospital\, Hucknall Road\, Nottingham\, NG5 1PB
END:VEVENT
END:VCALENDAR