BEGIN:VCALENDAR
VERSION:2.0
PRODID:-//Medilink Midlands - ECPv6.15.20//NONSGML v1.0//EN
CALSCALE:GREGORIAN
METHOD:PUBLISH
X-WR-CALNAME:Medilink Midlands
X-ORIGINAL-URL:https://staging.medilinkmidlands.com
X-WR-CALDESC:Events for Medilink Midlands
REFRESH-INTERVAL;VALUE=DURATION:PT1H
X-Robots-Tag:noindex
X-PUBLISHED-TTL:PT1H
BEGIN:VTIMEZONE
TZID:Europe/London
BEGIN:DAYLIGHT
TZOFFSETFROM:+0000
TZOFFSETTO:+0100
TZNAME:BST
DTSTART:20240331T010000
END:DAYLIGHT
BEGIN:STANDARD
TZOFFSETFROM:+0100
TZOFFSETTO:+0000
TZNAME:GMT
DTSTART:20241027T010000
END:STANDARD
BEGIN:DAYLIGHT
TZOFFSETFROM:+0000
TZOFFSETTO:+0100
TZNAME:BST
DTSTART:20250330T010000
END:DAYLIGHT
BEGIN:STANDARD
TZOFFSETFROM:+0100
TZOFFSETTO:+0000
TZNAME:GMT
DTSTART:20251026T010000
END:STANDARD
BEGIN:DAYLIGHT
TZOFFSETFROM:+0000
TZOFFSETTO:+0100
TZNAME:BST
DTSTART:20260329T010000
END:DAYLIGHT
BEGIN:STANDARD
TZOFFSETFROM:+0100
TZOFFSETTO:+0000
TZNAME:GMT
DTSTART:20261025T010000
END:STANDARD
END:VTIMEZONE
BEGIN:VEVENT
DTSTART;VALUE=DATE:20250513
DTEND;VALUE=DATE:20250516
DTSTAMP:20260421T114838
CREATED:20250226T173350Z
LAST-MODIFIED:20250226T173519Z
UID:35534-1747094400-1747353599@staging.medilinkmidlands.com
SUMMARY:IN-PERSON EVENT: Biofilms 11 – Interdisciplinary Momentum: Accelerating Biofilm Research and Innovation Across Boundaries
DESCRIPTION:  \nBiofilms 11 is the latest conference in the internationally renowned Biofilms series showcasing the broad scientific and societal opportunities and challenges of microbial biofilms. A key objective is to capitalise on the interdisciplinary nature of this exciting research topic by fostering discussion and catalysing the exchange of ideas across boundaries. \nHosted by the National Biofilms Innovation Centre and the Microbiology Society\, Biofilms 11 continues its tradition of focusing on the fundamental understanding of biofilms and their role in driving the dynamics\, activity\, structure and function of microbial communities. This includes their interactions across microbiomes and viromes\, and within environmental\, industrial\, and health settings. \nBiofilms 11 will also address cutting-edge technology developments\, such as imaging\, data-driven\, and modelling approaches\, integrating advances from both life and physical sciences for research and innovation applications. The conference will spotlight speakers from diverse career pathways and backgrounds within the biofilm community to offer inspiration and guidance to attendees at all career stages. \nTo find out more\, view the agenda and register your place\, please click here.\nThe deadline for the early bird discounted price is 23:59 GMT on 14 March 2025. \nPlease contact exhibitions@microbiologysociety.org to enquire about exhibition and sponsorship opportunities
URL:https://staging.medilinkmidlands.com/event/nterdisciplinary-momentum-accelerating-biofilm-research-and-innovation-across-boundaries/
LOCATION:Mercure Cardiff Holland House Hotel & Spa\, 24 26 Newport Road\, Cardiff\, CF24 0DD
CATEGORIES:Medilink Partner Event
END:VEVENT
END:VCALENDAR