BEGIN:VCALENDAR
VERSION:2.0
PRODID:-//Medilink Midlands - ECPv6.15.20//NONSGML v1.0//EN
CALSCALE:GREGORIAN
METHOD:PUBLISH
X-WR-CALNAME:Medilink Midlands
X-ORIGINAL-URL:https://staging.medilinkmidlands.com
X-WR-CALDESC:Events for Medilink Midlands
REFRESH-INTERVAL;VALUE=DURATION:PT1H
X-Robots-Tag:noindex
X-PUBLISHED-TTL:PT1H
BEGIN:VTIMEZONE
TZID:Europe/London
BEGIN:DAYLIGHT
TZOFFSETFROM:+0000
TZOFFSETTO:+0100
TZNAME:BST
DTSTART:20230326T010000
END:DAYLIGHT
BEGIN:STANDARD
TZOFFSETFROM:+0100
TZOFFSETTO:+0000
TZNAME:GMT
DTSTART:20231029T010000
END:STANDARD
BEGIN:DAYLIGHT
TZOFFSETFROM:+0000
TZOFFSETTO:+0100
TZNAME:BST
DTSTART:20240331T010000
END:DAYLIGHT
BEGIN:STANDARD
TZOFFSETFROM:+0100
TZOFFSETTO:+0000
TZNAME:GMT
DTSTART:20241027T010000
END:STANDARD
BEGIN:DAYLIGHT
TZOFFSETFROM:+0000
TZOFFSETTO:+0100
TZNAME:BST
DTSTART:20250330T010000
END:DAYLIGHT
BEGIN:STANDARD
TZOFFSETFROM:+0100
TZOFFSETTO:+0000
TZNAME:GMT
DTSTART:20251026T010000
END:STANDARD
END:VTIMEZONE
BEGIN:VEVENT
DTSTART;TZID=Europe/London:20241022T090000
DTEND;TZID=Europe/London:20241022T113000
DTSTAMP:20260421T092405
CREATED:20241011T151725Z
LAST-MODIFIED:20241011T151949Z
UID:33051-1729587600-1729596600@staging.medilinkmidlands.com
SUMMARY:IN-PERSON EVENT: Tech Growth Forum - Attract investment and gain a competitive edge
DESCRIPTION:  \nAs part of Birmingham Tech Week (21-25 October)\, join Marks & Clerk to learn how to attract investment and gain a competitive edge in the tech industry. \nUnderstanding the commercial potential of intellectual property (IP) is vital for businesses seeking to turn innovation into profit. Businesses that have a clear IP strategy have a higher likelihood of growth\, attract greater attention from investors and have increased revenue. This session will help you understand how to use intellectual property to protect the value of your business and how this can help you secure investment in the future. \nOur speakers include an investor and the CEO of a successful tech business\, who will share their insights on how to grow and attract investment. You will then be able to ask the speakers questions during the panel discussion. \nThere will also be the opportunity to book a free\, confidential 1-2-1 chat with an IP expert at the IP clinic (to take place after the event). \nThe experts: \n\nGlenn Fletcher\, CEO of Tribosonics\, a 2024 Tech Climber whose innovative sensing technologies are driving digital transformation.\nSurjit Kooner\, Investment Director at Midven\, a venture capital firm who have invested more than £100m into early-stage businesses and startups to help grow some of the West Midlands’ most exciting businesses.\nPhilip Cupitt\, Martin Hyden and Amy Dunn\, Patent and Trade Mark Attorneys from Marks & Clerk\, a specialist intellectual property firm.\n\n\nTo view the agenda and book your place\, please click here.
URL:https://staging.medilinkmidlands.com/event/tech-growth-forum-attract-investment-and-gain-a-competitive-edge/
LOCATION:Marks & Clerk\, Alpha Tower\, Birmingham\, B1 1TT\, United Kingdom
CATEGORIES:Medilink Partner Event
END:VEVENT
END:VCALENDAR