BEGIN:VCALENDAR
VERSION:2.0
PRODID:-//Medilink Midlands - ECPv6.15.20//NONSGML v1.0//EN
CALSCALE:GREGORIAN
METHOD:PUBLISH
X-WR-CALNAME:Medilink Midlands
X-ORIGINAL-URL:https://staging.medilinkmidlands.com
X-WR-CALDESC:Events for Medilink Midlands
REFRESH-INTERVAL;VALUE=DURATION:PT1H
X-Robots-Tag:noindex
X-PUBLISHED-TTL:PT1H
BEGIN:VTIMEZONE
TZID:Europe/London
BEGIN:DAYLIGHT
TZOFFSETFROM:+0000
TZOFFSETTO:+0100
TZNAME:BST
DTSTART:20180325T010000
END:DAYLIGHT
BEGIN:STANDARD
TZOFFSETFROM:+0100
TZOFFSETTO:+0000
TZNAME:GMT
DTSTART:20181028T010000
END:STANDARD
BEGIN:DAYLIGHT
TZOFFSETFROM:+0000
TZOFFSETTO:+0100
TZNAME:BST
DTSTART:20190331T010000
END:DAYLIGHT
BEGIN:STANDARD
TZOFFSETFROM:+0100
TZOFFSETTO:+0000
TZNAME:GMT
DTSTART:20191027T010000
END:STANDARD
BEGIN:DAYLIGHT
TZOFFSETFROM:+0000
TZOFFSETTO:+0100
TZNAME:BST
DTSTART:20200329T010000
END:DAYLIGHT
BEGIN:STANDARD
TZOFFSETFROM:+0100
TZOFFSETTO:+0000
TZNAME:GMT
DTSTART:20201025T010000
END:STANDARD
END:VTIMEZONE
BEGIN:VEVENT
DTSTART;TZID=Europe/London:20191119T093000
DTEND;TZID=Europe/London:20191119T173000
DTSTAMP:20260422T093127
CREATED:20190715T101429Z
LAST-MODIFIED:20190715T101429Z
UID:17989-1574155800-1574184600@staging.medilinkmidlands.com
SUMMARY:UK Biobanking Showcase
DESCRIPTION:Back for its 5th year\, the UK Biobanking Showcase is the premier event for all those working in the human tissue sector.\nAgenda and Speakers\nThe UK Biobanking Showcase provisional agenda is available as a PDF or in text format. A full confirmed agenda and list of speakers will be available soon. \nA celebratory pre-conference dinner on the 18th November at 7 PM is planned. Book your spot when registering to attend the Showcase. \nThere will also be a free workshop on the 18th November from 4:00 to 5:30 PM on “Making your resource visible: help and tips for registration”. \nIt is being organised for delegates to receive 5 CPD credits from the Royal College of Pathologists for attendance. \nFor more information\, click here \nTo register for the event\, click here
URL:https://staging.medilinkmidlands.com/event/uk-biobanking-showcase/
LOCATION:De Vere East Midlands Conference Centre\, Beeston Lane\, Nottingham\, NG7 2RJ\, United Kingdom
CATEGORIES:Other Event
END:VEVENT
END:VCALENDAR