BEGIN:VCALENDAR
VERSION:2.0
PRODID:-//Medilink Midlands - ECPv6.15.20//NONSGML v1.0//EN
CALSCALE:GREGORIAN
METHOD:PUBLISH
X-WR-CALNAME:Medilink Midlands
X-ORIGINAL-URL:https://staging.medilinkmidlands.com
X-WR-CALDESC:Events for Medilink Midlands
REFRESH-INTERVAL;VALUE=DURATION:PT1H
X-Robots-Tag:noindex
X-PUBLISHED-TTL:PT1H
BEGIN:VTIMEZONE
TZID:Europe/London
BEGIN:DAYLIGHT
TZOFFSETFROM:+0000
TZOFFSETTO:+0100
TZNAME:BST
DTSTART:20170326T010000
END:DAYLIGHT
BEGIN:STANDARD
TZOFFSETFROM:+0100
TZOFFSETTO:+0000
TZNAME:GMT
DTSTART:20171029T010000
END:STANDARD
BEGIN:DAYLIGHT
TZOFFSETFROM:+0000
TZOFFSETTO:+0100
TZNAME:BST
DTSTART:20180325T010000
END:DAYLIGHT
BEGIN:STANDARD
TZOFFSETFROM:+0100
TZOFFSETTO:+0000
TZNAME:GMT
DTSTART:20181028T010000
END:STANDARD
BEGIN:DAYLIGHT
TZOFFSETFROM:+0000
TZOFFSETTO:+0100
TZNAME:BST
DTSTART:20190331T010000
END:DAYLIGHT
BEGIN:STANDARD
TZOFFSETFROM:+0100
TZOFFSETTO:+0000
TZNAME:GMT
DTSTART:20191027T010000
END:STANDARD
END:VTIMEZONE
BEGIN:VEVENT
DTSTART;TZID=Europe/London:20180510T090000
DTEND;TZID=Europe/London:20180510T130000
DTSTAMP:20260423T172422
CREATED:20180430T063130Z
LAST-MODIFIED:20180430T063130Z
UID:17813-1525942800-1525957200@staging.medilinkmidlands.com
SUMMARY:Topical Legal Considerations for a Life Science SME
DESCRIPTION:Attend this free half-day training course to learn about a variety of legal matters including: \n\n– Corporate\n– Employment\n– Immigration\n– Commercial IP\n\nThe Skills Support for the Workforce (SSW) programme provides fully funded workplace training to SMEs to meet individual\, employer and regional economic needs. The training includes bespoke and vocationally relevant qualifications that are responsive to the needs identified. All training is delivered in the workplace or at nearby convenient locations.\nlearndirect have Skills Support for the Workforce contracts covering Derbyshire & Nottinghamshire\, Lancashire\, Somerset and Devon. These are delivered in conjunction with specialist delivery partners in each location. To provide you with the best training for your workforce\, we work in partnership with the relevant Local Enterprise Partnership (LEP) in your area. \nLimited spaces available on this course and priority will be given to D2N2 (Derbyshire & Nottinghamshire) SMEs. Non- D2N2 SMEs will be added to a waiting list and we will let you know if a place is available prior to the event. \nEvent Documents: \nProgramme\nSpeaker Profiles \n 
URL:https://staging.medilinkmidlands.com/event/topical-legal-considerations-for-a-life-science-sme/
LOCATION:Shakespeare Martineau Offices\, Waterfront House\, 35 Station Street\, Nottingham\, NG2 3DQ
CATEGORIES:Medilink Midlands Event
ATTACH;FMTTYPE=image/png:https://staging.medilinkmidlands.com/wp-content/uploads/2022/04/esf-logo-2.png
ORGANIZER;CN="Becky Sharpe":MAILTO:events@medilinkmidlands.com
END:VEVENT
BEGIN:VEVENT
DTSTART;TZID=Europe/London:20180517T080000
DTEND;TZID=Europe/London:20180517T103000
DTSTAMP:20260423T172422
CREATED:20180416T120816Z
LAST-MODIFIED:20180416T120816Z
UID:17810-1526544000-1526553000@staging.medilinkmidlands.com
SUMMARY:Managing and Mitigating Risk of Cybercrime and Protection of your data
DESCRIPTION:This free to attend breakfast event will cover some very important topics\, whilst providing you with the opportunity to get your questions answered by the experts. \nIn partnership with BHIB Insurance Brokers and Shakespeare Martineau\, the topics will include: \n– What trends BHIB are seeing and what they believe are the significant risks to the life sciences industry \n– Ways to mitigate risk \n– Reasons for imminent changes to data protection legislation \n– Key GDPR concepts and changes \nEvent Documents: \nProgramme \nSpeaker Profiles \nDelegate List \n 
URL:https://staging.medilinkmidlands.com/event/managing-and-mitigating-risk-in-cybercrime-and-protection-of-your-data/
LOCATION:Discovery Building\, BioCity Nottingham\, Pennyfoot Street\, Nottingham\, NG1 1GF\, United Kingdom
CATEGORIES:Medilink Midlands Event
ORGANIZER;CN="Becky Sharpe":MAILTO:events@medilinkmidlands.com
END:VEVENT
BEGIN:VEVENT
DTSTART;TZID=Europe/London:20180524T090000
DTEND;TZID=Europe/London:20180524T163000
DTSTAMP:20260423T172422
CREATED:20180227T153909Z
LAST-MODIFIED:20180227T153909Z
UID:17791-1527152400-1527179400@staging.medilinkmidlands.com
SUMMARY:MPD Training Course: Medical Device Audit Fundamentals
DESCRIPTION:This one-day course is designed for those who need to better understand what medical device audit is\, what it is trying to do\, how to do it\, and when it is required. \nYou might be new to medical devices\, about to get involved with internal audit\, perhaps you are thinking of becoming an auditor? Perhaps you are a senior manager who wants to know the fundamentals to help you manage your team? \nIn just one day\, the course will cover: \n– Role of the key players in Europe: Competent Authorities and Notified Bodies.\n– Where to find key guidance so you can answer the exam question!\n– Standards you can learn from.\n– What is the ‘Blue Guide’ and why it is so important.\n– Notified Body Unannounced Audits and the effect on the supply chain.\n– Differences between Competent Authority and Notified Body Audits.\n– MDR/IVDR and ISO 13485: 2016 and effect on audits.\n– Insights about United States (US) Food and Drug Administration (FDA) Inspections.\n– Comments on the Medical Device Single Audit Program (MDSAP) and why this matters so much to those who want to market to Canada!\n– The Direction of Travel!\n– What is CE marking and why the ‘Blue Guide’ matters.\n– Auditing – the process for effective results. \nTo view the programme and further information (including target audience\, learning outcomes and speaker profile) click on the Event Brochure link below. \nMember cost: £ 200\nNon-Member cost: £ 300 \nAll prices are excluding VAT \nOnce we receive your booking form\, you will be sent a confirmation email and an invoice. \nEvent Brochure\nDelegate List \n \n  \n 
URL:https://staging.medilinkmidlands.com/event/mpd-training-course-medical-device-audit-fundamentals/
LOCATION:MeetPoint Midlands\, Conference Centre\, 28 High Street\, Kegworth\, Derbyshire\, DE74 2DA
CATEGORIES:Medilink Midlands Event
ORGANIZER;CN="Becky Sharpe":MAILTO:events@medilinkmidlands.com
END:VEVENT
END:VCALENDAR