BEGIN:VCALENDAR
VERSION:2.0
PRODID:-//Medilink Midlands - ECPv6.15.20//NONSGML v1.0//EN
CALSCALE:GREGORIAN
METHOD:PUBLISH
X-WR-CALNAME:Medilink Midlands
X-ORIGINAL-URL:https://staging.medilinkmidlands.com
X-WR-CALDESC:Events for Medilink Midlands
REFRESH-INTERVAL;VALUE=DURATION:PT1H
X-Robots-Tag:noindex
X-PUBLISHED-TTL:PT1H
BEGIN:VTIMEZONE
TZID:Europe/London
BEGIN:DAYLIGHT
TZOFFSETFROM:+0000
TZOFFSETTO:+0100
TZNAME:BST
DTSTART:20170326T010000
END:DAYLIGHT
BEGIN:STANDARD
TZOFFSETFROM:+0100
TZOFFSETTO:+0000
TZNAME:GMT
DTSTART:20171029T010000
END:STANDARD
BEGIN:DAYLIGHT
TZOFFSETFROM:+0000
TZOFFSETTO:+0100
TZNAME:BST
DTSTART:20180325T010000
END:DAYLIGHT
BEGIN:STANDARD
TZOFFSETFROM:+0100
TZOFFSETTO:+0000
TZNAME:GMT
DTSTART:20181028T010000
END:STANDARD
BEGIN:DAYLIGHT
TZOFFSETFROM:+0000
TZOFFSETTO:+0100
TZNAME:BST
DTSTART:20190331T010000
END:DAYLIGHT
BEGIN:STANDARD
TZOFFSETFROM:+0100
TZOFFSETTO:+0000
TZNAME:GMT
DTSTART:20191027T010000
END:STANDARD
END:VTIMEZONE
BEGIN:VEVENT
DTSTART;TZID=Europe/London:20180613T100000
DTEND;TZID=Europe/London:20180613T220000
DTSTAMP:20260423T160229
CREATED:20170929T093113Z
LAST-MODIFIED:20170929T093113Z
UID:17510-1528884000-1528927200@staging.medilinkmidlands.com
SUMMARY:Medilink East Midlands Innovation Day 2018
DESCRIPTION:Innovation Day sits firmly in our calendar of events and is a must-attend event for those in the Life Sciences sector across the East Midlands.  The day includes a conference\, exhibition\, ample networking opportunities and our annual business awards. \nHosted by Vivienne Parry OBE\, the conference will feature top speakers covering key industry topics. Speakers include: \n• Dr Darren Clark\, Chief Executive\, Medilink East Midlands\n• Karen Taylor\, Research Director\, Centre for Health Solutions\, Deloitte LLP\n• Dr David Boocock\, Group Leader of the Clinical Proteomics/Biological Mass Spectrometry Group\, Nottingham Trent University\n• Dr Carl Edwards\, Commercial Manager\, Leicester Precision Medicine Institute\n• East Midlands Academic Health Science Network Commercial Team\n• Dr Glenn Crocker MBE\, Chief Executive Officer\, BioCity\n• Dr Faz Chowdhury\, Chief Executive\, Nemaura Pharma\n• Philip Salt\, Chief Executive\, Salts Healthcare\n• Plus showcase presentations by members of Medilink EM \nThe day concluded with the celebration of our regional business awards\, the winners and highlights are below:\nStart Up Winner: SurePulse Medical\nExport Achievement Winner: Charnwood Molecular \nCollaboration with the NHS Winner: Questmark \nInnovation Winner: Ariane Medical Systems \nOutstanding Achievement Winner: Quotient Sciences  \nView the finalist and winner videos here and the photographs from the evening here.
URL:https://staging.medilinkmidlands.com/event/medilink-east-midlands-innovation-day-2018-save-the-date/
LOCATION:The Nottingham Belfry\, Mellors Way\, Off Woodhouse Way\, Nottingham\, NG8 6PY\, United Kingdom
CATEGORIES:Medilink Midlands Event
ORGANIZER;CN="Becky Sharpe":MAILTO:events@medilinkmidlands.com
END:VEVENT
BEGIN:VEVENT
DTSTART;TZID=Europe/London:20180628T090000
DTEND;TZID=Europe/London:20180628T163000
DTSTAMP:20260423T160229
CREATED:20180411T065316Z
LAST-MODIFIED:20180411T065316Z
UID:17805-1530176400-1530203400@staging.medilinkmidlands.com
SUMMARY:MPD Training Course: Medical Device Software
DESCRIPTION:This one-day course by Medical Device Consultancy will cover Regulatory insights into Medical Device Software. Find out what you need to do to comply with regulation\, and work with the experts to plan how you are going to do it. \nLearning outcomes will include: \n•Understand what software is\, and what the essential requirements are according to the MDD and MDR\n•Understand FDA requirements for software\, how it is classified and regulated\n•Write a rationale for classification of an application under the MDD and MDR\n•Outline an action plan for software compliance in your organisation \nMember cost: £200\nNon-Member cost: £300 \nAll prices are subject to VAT. \nEvent Brochure\nDelegate List  \nOnce we receive your booking form\, you will be sent a confirmation email and an invoice. \n  \n 
URL:https://staging.medilinkmidlands.com/event/mpd-training-course-medical-device-software/
LOCATION:MeetPoint Midlands\, Conference Centre\, 28 High Street\, Kegworth\, Derbyshire\, DE74 2DA
CATEGORIES:Medilink Midlands Event
ORGANIZER;CN="Becky Sharpe":MAILTO:events@medilinkmidlands.com
END:VEVENT
END:VCALENDAR