BEGIN:VCALENDAR
VERSION:2.0
PRODID:-//Medilink Midlands - ECPv6.15.20//NONSGML v1.0//EN
CALSCALE:GREGORIAN
METHOD:PUBLISH
X-WR-CALNAME:Medilink Midlands
X-ORIGINAL-URL:https://staging.medilinkmidlands.com
X-WR-CALDESC:Events for Medilink Midlands
REFRESH-INTERVAL;VALUE=DURATION:PT1H
X-Robots-Tag:noindex
X-PUBLISHED-TTL:PT1H
BEGIN:VTIMEZONE
TZID:Europe/London
BEGIN:DAYLIGHT
TZOFFSETFROM:+0000
TZOFFSETTO:+0100
TZNAME:BST
DTSTART:20170326T010000
END:DAYLIGHT
BEGIN:STANDARD
TZOFFSETFROM:+0100
TZOFFSETTO:+0000
TZNAME:GMT
DTSTART:20171029T010000
END:STANDARD
BEGIN:DAYLIGHT
TZOFFSETFROM:+0000
TZOFFSETTO:+0100
TZNAME:BST
DTSTART:20180325T010000
END:DAYLIGHT
BEGIN:STANDARD
TZOFFSETFROM:+0100
TZOFFSETTO:+0000
TZNAME:GMT
DTSTART:20181028T010000
END:STANDARD
BEGIN:DAYLIGHT
TZOFFSETFROM:+0000
TZOFFSETTO:+0100
TZNAME:BST
DTSTART:20190331T010000
END:DAYLIGHT
BEGIN:STANDARD
TZOFFSETFROM:+0100
TZOFFSETTO:+0000
TZNAME:GMT
DTSTART:20191027T010000
END:STANDARD
END:VTIMEZONE
BEGIN:VEVENT
DTSTART;TZID=Europe/London:20180719T093000
DTEND;TZID=Europe/London:20180719T153000
DTSTAMP:20260423T160245
CREATED:20180625T085902Z
LAST-MODIFIED:20180625T085902Z
UID:17836-1531992600-1532014200@staging.medilinkmidlands.com
SUMMARY:Preparing your NHS Business Case
DESCRIPTION:  \n  \n  \nThis free interactive training course on ‘Preparing your NHS Business Case’ will enable you to prepare better business cases with input from NHS staff. You will also learn about: \n– What is a business case\, what is its purpose and why it is so important? \n– Who reviews the business case and how are they evaluated from a commissioning point of view? \n– How to construct a good business case \nThe Challenge as a supplier to the NHS is often that when you have a product which from your perspective improves patient outcomes and saves cost you still cannot get it adopted by the NHS. This is often because there is not a fully developed business case\, without this a group within the NHS interested in taking on board a new product or service are unlikely to get approval of the case for change before procurement of the innovation can proceed. \nOrganisations that supply to the NHS are often challenged by the process\, timescales\, evidence and documentary requirements. This can often seem like an unnecessary complication\, or simply a reason to not issue a purchase order. A good business case is fundamental to successful adoption and developing a long term business partnership. Preparing the business case can also be difficult for your NHS contacts because they are busy or not experienced in their preparation and often even more difficult for companies with little or no experience of the process. \nEvent Documents\nProgramme\nSpeaker Profiles\nDelegate List\n \nAbout the Skills Support for the Workforce programme\nThe Skills Support for the Workforce (SSW) programme provides fully funded workplace training to SMEs to meet individual\, employer and regional economic needs. The training includes bespoke and vocationally relevant qualifications that are responsive to the needs identified. All training is delivered in the workplace or at nearby convenient locations. \nlearndirect have Skills Support for the Workforce contracts covering Derbyshire & Nottinghamshire\, Lancashire\, Somerset and Devon. These are delivered in conjunction with specialist delivery partners in each location. To provide you with the best training for your workforce\, we work in partnership with the relevant Local Enterprise Partnership (LEP) in your area. \nThis course has limited spaces available and priority will be given to D2N2 (Derbyshire & Nottinghamshire) SMEs. Non- D2N2 SMEs will be added to a waiting list and we will let you know if a place is available prior to the event.
URL:https://staging.medilinkmidlands.com/event/preparing-an-nhs-business-case/
LOCATION:Discovery Building\, BioCity Nottingham\, Pennyfoot Street\, Nottingham\, NG1 1GF\, United Kingdom
CATEGORIES:Medilink Midlands Event
ATTACH;FMTTYPE=image/png:https://staging.medilinkmidlands.com/wp-content/uploads/2022/04/esf-logo-2.png
ORGANIZER;CN="Becky Sharpe":MAILTO:events@medilinkmidlands.com
END:VEVENT
END:VCALENDAR