BEGIN:VCALENDAR
VERSION:2.0
PRODID:-//Medilink Midlands - ECPv6.15.20//NONSGML v1.0//EN
CALSCALE:GREGORIAN
METHOD:PUBLISH
X-WR-CALNAME:Medilink Midlands
X-ORIGINAL-URL:https://staging.medilinkmidlands.com
X-WR-CALDESC:Events for Medilink Midlands
REFRESH-INTERVAL;VALUE=DURATION:PT1H
X-Robots-Tag:noindex
X-PUBLISHED-TTL:PT1H
BEGIN:VTIMEZONE
TZID:Europe/London
BEGIN:DAYLIGHT
TZOFFSETFROM:+0000
TZOFFSETTO:+0100
TZNAME:BST
DTSTART:20190331T010000
END:DAYLIGHT
BEGIN:STANDARD
TZOFFSETFROM:+0100
TZOFFSETTO:+0000
TZNAME:GMT
DTSTART:20191027T010000
END:STANDARD
BEGIN:DAYLIGHT
TZOFFSETFROM:+0000
TZOFFSETTO:+0100
TZNAME:BST
DTSTART:20200329T010000
END:DAYLIGHT
BEGIN:STANDARD
TZOFFSETFROM:+0100
TZOFFSETTO:+0000
TZNAME:GMT
DTSTART:20201025T010000
END:STANDARD
BEGIN:DAYLIGHT
TZOFFSETFROM:+0000
TZOFFSETTO:+0100
TZNAME:BST
DTSTART:20210328T010000
END:DAYLIGHT
BEGIN:STANDARD
TZOFFSETFROM:+0100
TZOFFSETTO:+0000
TZNAME:GMT
DTSTART:20211031T010000
END:STANDARD
END:VTIMEZONE
BEGIN:VEVENT
DTSTART;TZID=Europe/London:20200702T090000
DTEND;TZID=Europe/London:20200702T170000
DTSTAMP:20260421T222910
CREATED:20200108T124817Z
LAST-MODIFIED:20200108T124817Z
UID:18048-1593680400-1593709200@staging.medilinkmidlands.com
SUMMARY:RESCHEDULED: Innovation Day 2020
DESCRIPTION:Due to the current Coronavirus crisis\, we have made the difficult decision to reschedule Innovation Day from Thursday 2nd July 2020 to Thursday 25th March 2021. With the fast changing situation and no certainty\, we believe that this is the best decision for all involved to maximise the opportunity and ensure that the event is a success. \nFor further details please click here. \n 
URL:https://staging.medilinkmidlands.com/event/innovation-day-2020/
LOCATION:The Nottingham Belfry\, Mellors Way\, Off Woodhouse Way\, Nottingham\, NG8 6PY\, United Kingdom
CATEGORIES:Medilink Midlands Event
ATTACH;FMTTYPE=image/png:https://staging.medilinkmidlands.com/wp-content/uploads/2022/04/Biocity-Logo-Black.png
ORGANIZER;CN="Jo Rudzki":MAILTO:info@medilinkem.com
END:VEVENT
BEGIN:VEVENT
DTSTART;TZID=Europe/London:20200702T170000
DTEND;TZID=Europe/London:20200702T190000
DTSTAMP:20260421T222910
CREATED:20200108T101628Z
LAST-MODIFIED:20200108T101628Z
UID:18045-1593709200-1593716400@staging.medilinkmidlands.com
SUMMARY:RESCHEDULED: Medilink East Midlands Summer Networking
DESCRIPTION:Due to the current Coronavirus crisis\, this even will now follow on from the rescheduled date for Innovation Day on Thursday 25th March 2021 and will become our Spring Networking event. \nWith the fast changing situation and no certainty\, we believe that this is the best decision for all involved to maximise the opportunity and ensure that the event is a success. \n \n  \n  \nBook now for our Summer Networking event\, an evening of networking\, food and drink. Sponsored by proud Medilink East Midlands Patron Shakespeare Martineau\, this evening will provide a great opportunity for members and non-members to network in a relaxed environment. \nPlease note that this event will follow on from the Medilink East Midlands Innovation Day 2020\, the foremost Life Sciences event in the East Midlands\, regularly attracting 250+ delegates and 30+ exhibitors. For further information\, please click here. \nProgramme \n4.45pm – Welcome from Medilink East Midlands \n4.50pm – Presentation from Shakespeare Martineau \nShakespeare Martineau have one of the few life sciences specific legal teams in the country. They will use their legal skills\, experience and knowledge of the industry to provide you with relevant and practical advice and solutions. The team includes experts in commercial contracts\, intellectual property\, corporate finance\, employment\, business defence\, regulatory compliance and property law. \n5.05pm – Networking and refreshments \n7pm – Event Close \nThis evening is free for members of Medilink and for attendees of Innovation Day 2020. \nNon-member cost: £30+VAT \nSpaces are limited to 3 per company/organisation \n 
URL:https://staging.medilinkmidlands.com/event/medilink-east-midlands-summer-networking-2/
LOCATION:The Nottingham Belfry\, Mellors Way\, Off Woodhouse Way\, Nottingham\, NG8 6PY\, United Kingdom
CATEGORIES:Medilink Midlands Event
ATTACH;FMTTYPE=image/png:https://staging.medilinkmidlands.com/wp-content/uploads/2022/04/SHMA_Logo_Landscape_RGB_Hi_Res.png
ORGANIZER;CN="Jo Rudzki":MAILTO:info@medilinkem.com
END:VEVENT
BEGIN:VEVENT
DTSTART;TZID=Europe/London:20200707T143000
DTEND;TZID=Europe/London:20200707T153000
DTSTAMP:20260421T222910
CREATED:20200626T101959Z
LAST-MODIFIED:20200626T101959Z
UID:18240-1594132200-1594135800@staging.medilinkmidlands.com
SUMMARY:Medilink Midlands Virtual Coffee Break - Members Only
DESCRIPTION:Join Medilink Midlands for a virtual coffee break on Tuesday 7 July at 2.30pm. \nThis informal gathering is an opportunity for our members across the East & West Midlands regions to share their current challenges and experiences and we can make introductions to those that can help.  Or you could also join us just to see a friendly face and take time out from working at home. \nWe will be joined by Kevin Malecek\, the Director of Economic Development and International Trade at the City of Mentor\, Ohio\, USA. Kevin will give us his views of how industry in the USA has dealt with the COVID-19 pandemic – the impact on the national and local economy\, how business has adapted to the crisis and what they did\, and his prognosis for the US economy for the next year. Our coffee breaks are informal and interactive and you will therefore have the opportunity to ask Kevin any specific questions you may have. \nIf you have any topics that you’d like to discuss during the coffee break\, please feel free to email any suggestions to us by clicking here. \nGrab a coffee\, a biscuit and join us. \nPlease note\, confirmation is not automated for this event. Dial-in details will provided to delegates by a member of the Medlink EM events team once the online registration form has been completed. \nMedilink East and West Members only \n 
URL:https://staging.medilinkmidlands.com/event/medilink-em-virtual-coffee-break-members-only-6/
CATEGORIES:Medilink Midlands Event
ATTACH;FMTTYPE=image/png:https://staging.medilinkmidlands.com/wp-content/uploads/2022/04/City-of-Mentor-Seal.png
ORGANIZER;CN="Jo Rudzki":MAILTO:info@medilinkem.com
END:VEVENT
BEGIN:VEVENT
DTSTART;TZID=Europe/London:20200721T083000
DTEND;TZID=Europe/London:20200721T093000
DTSTAMP:20260421T222910
CREATED:20200708T100728Z
LAST-MODIFIED:20200708T100728Z
UID:18279-1595320200-1595323800@staging.medilinkmidlands.com
SUMMARY:Medilink EM Virtual Coffee Break - Members Only
DESCRIPTION:Join Medilink EM for a virtual coffee break on Tuesday 21 July at 8.30am. \nNetworking opportunities are one of the many Medilink EM member benefits and whilst the current COVID-19 crisis still won’t allow face to face events\, we have introduced an online opportunity to enable members to still connect with one another. This is an informal gathering\, hosted by Darren Clark\, our Chief Executive\, where you can share your current challenges and experiences and we can make introductions to those that can help. Or you could also join us just to see a friendly face and take time out from working at home. \nIf you have any topics that you’d like to discuss during the coffee break\, please feel free to email any suggestions to us by clicking here. \nGrab a coffee\, a slice of toast and join us. \nDial-in details will provided to delegates by a member of the Medlink EM events team once the online registration form has been completed. \nMedilink Members only \n  \n 
URL:https://staging.medilinkmidlands.com/event/medilink-em-virtual-coffee-break-members-only-7/
CATEGORIES:Medilink Midlands Event
END:VEVENT
BEGIN:VEVENT
DTSTART;TZID=Europe/London:20200730T110000
DTEND;TZID=Europe/London:20200730T120000
DTSTAMP:20260421T222910
CREATED:20200709T081252Z
LAST-MODIFIED:20200709T081252Z
UID:18276-1596106800-1596110400@staging.medilinkmidlands.com
SUMMARY:WEBINAR: The role of International Trade in COVID-19 recovery
DESCRIPTION:Join this Medilink Midlands webinar to hear from Ian Harrison\, Head of Exports – Midlands Region. Ian will be talking about how the Department for International Trade is supporting companies post coronavirus in recovery and international opportunities available to Life Science companies. \nAttend to find out about: \n– Trade support available\n– Bounceback support\n– FTA Agreements\n– COVID 19 Support\n– Events \nPlus the opportunity to ask your questions in a Q&A session \nDURATION: 1 hour \n\nSpeaker Profile\n\nIan Harrison\, Head of Exports – Midlands Region\, Department for International Trade  \nIan’s main responsibilities are to lead on the promotion and delivery of International Trade services of behalf of the Department for International Trade (DIT) across both the East and West Midlands\, work closely with and Commonwealth Office (FCO) and the UK’s overseas network spanning some 108 countries\, liaise with Ministers\, and lead a programme of events and an expert team of International Trade Advisers. Ian also represents the DIT Midlands Engine team on Trade matters in Whitehall. \nIan has over 25 years’ experience of dealing with publicly funded business support and has worked in several organisations in roles that have provided advice and expertise to all sizes of business. Before joining DIT Ian worked within the Department for Business\, Innovation Foreign & Skills (BIS) where he was an Assistant Director for Business Engagement responsible for areas covering the Government’s Industrial Strategy\, business support\, Innovation and access to finance agendas.
URL:https://staging.medilinkmidlands.com/event/webinar-the-role-of-international-trade-in-covid-19-recovery/
CATEGORIES:Medilink Midlands Event
ATTACH;FMTTYPE=image/jpeg:https://staging.medilinkmidlands.com/wp-content/uploads/2022/04/Ian-Harrison-new.jpg
ORGANIZER;CN="Becky Sharpe":MAILTO:events@medilinkmidlands.com
END:VEVENT
END:VCALENDAR