BEGIN:VCALENDAR
VERSION:2.0
PRODID:-//Medilink Midlands - ECPv6.15.20//NONSGML v1.0//EN
CALSCALE:GREGORIAN
METHOD:PUBLISH
X-ORIGINAL-URL:https://staging.medilinkmidlands.com
X-WR-CALDESC:Events for Medilink Midlands
REFRESH-INTERVAL;VALUE=DURATION:PT1H
X-Robots-Tag:noindex
X-PUBLISHED-TTL:PT1H
BEGIN:VTIMEZONE
TZID:Europe/London
BEGIN:DAYLIGHT
TZOFFSETFROM:+0000
TZOFFSETTO:+0100
TZNAME:BST
DTSTART:20190331T010000
END:DAYLIGHT
BEGIN:STANDARD
TZOFFSETFROM:+0100
TZOFFSETTO:+0000
TZNAME:GMT
DTSTART:20191027T010000
END:STANDARD
BEGIN:DAYLIGHT
TZOFFSETFROM:+0000
TZOFFSETTO:+0100
TZNAME:BST
DTSTART:20200329T010000
END:DAYLIGHT
BEGIN:STANDARD
TZOFFSETFROM:+0100
TZOFFSETTO:+0000
TZNAME:GMT
DTSTART:20201025T010000
END:STANDARD
BEGIN:DAYLIGHT
TZOFFSETFROM:+0000
TZOFFSETTO:+0100
TZNAME:BST
DTSTART:20210328T010000
END:DAYLIGHT
BEGIN:STANDARD
TZOFFSETFROM:+0100
TZOFFSETTO:+0000
TZNAME:GMT
DTSTART:20211031T010000
END:STANDARD
END:VTIMEZONE
BEGIN:VEVENT
DTSTART;TZID=Europe/London:20201005T133000
DTEND;TZID=Europe/London:20201006T210000
DTSTAMP:20260421T175456
CREATED:20200907T114109Z
LAST-MODIFIED:20200907T114109Z
UID:18365-1601904600-1602018000@staging.medilinkmidlands.com
SUMMARY:Mentor Means Business - Conference and Networking
DESCRIPTION:  \n  \n  \n  \n  \n  \nThe Northeast Ohio region is home to some of the leading medical institutions in the United States\, including the Cleveland Clinic\, and the region has developed one of the nation’s most important biomedical clusters. \nOver 700 biomedical firms are located there\, including over 400 medical device manufacturers specializing in imaging\, neuro-stimulation\, orthopaedics\, cardiovascular\, and sterilization.  Among these are world leaders such as General Electric Healthcare\, Siemens\, Toshiba\, Hitachi\, Philips Healthcare\, and STERIS.  STERIS Corporation was founded in Mentor in 1985. Today\, STERIS is a global leader in infection prevention\, contamination control\, surgical and critical care technologies\, and more.  Other top Mentor biomedical companies include Volk Optical\, Frantz Medical Group\, SourceOne Merry X-Ray Corporation\, and Integrated Medical Solutions. \nInternationally recognized clinical research institutions\, including the prestigious Cleveland Clinic\, University Hospitals\, and Case Western Reserve University\, provide Mentor biomedical and med-tech companies a world-class platform for research\, design\, and innovation. \nOhio’s commitment to supporting investment in the biotech industry and these centres of excellence and innovation have driven Ohio’s biomedical industry to grow by 59% since the year 2000\, now employing over 80\,000 experienced workers. \nMentor\, Ohio is strategically located in the heart of this cluster and ready to assist international biomedical and MedTech companies to invest for success. \nOn 5 October 2020\, we are pleased to offer you the opportunity to learn more about the advantages of doing business in Northeast Ohio and the City of Mentor by participating in a virtual conference focused on Ohio’s Medtech innovation corridor. \nConference activities include: \n\nDiscussion with experienced legal advisors on setting up your US business operations and positioning your company for success in the North American market.\nGuidance from high-level US hospital system personnel on the particulars of getting your products and services into the US healthcare system.\nDirect interaction and potential dialogue with US companies and officials that can help you bring your products and services into the United States.\nA company panel talk on doing business in MedTech and BioMed in the US\, featuring TWO Medilink EM Members\, Uvamed and eg Technology.\nMedilink Autumn Networking will be incorporated into the B2B International Networking towards the end of the Conference\, providing an opportunity for both members and non-members to engage with their US counterparts.\n\nFor more information\, contact the Department of Planning and Development at business@cityofmentor.com or visit www.mentormeansbusiness.com. \nTo register for the conference\, click here\nCONFERENCE AGENDA \n8:30 AM EDT / 13.30 BST / 14.30 EST\nWelcome and Presentation\nNortheast Ohio and the City of Mentor – Discovering the competitive advantage for international companies\, particularly in the biomedical and medtech sector\, impacts of COVID-19. \n9:15 AM EDT / 14.15 BST / 15.15 EST\nPresentation\nSetting up your US business operation – things to keep in mind\, effective strategies\, and pitfalls to consider\n     Howard Goulden\, Howard Kennedy\nSteven Howard Roth\, Associate\, Roetzel and Andress \n10:00 AM EDT / 15.00 BST / 16.00 EST      \nBrief Break \n10:10 AM EDT / 15.10 BST / 16.1- EST\nPresentation\nThe Healthcare/BioTech/MedTech Ecosystem in the US/State of Ohio\n       Tyler Allchin\, Director\, Healthcare\, JobsOhio  \n10:35AM EDT / 15.15 BST / 16.15 EST       \nPresentations\nAccessing the business operations of US medical centres\, strategies for success.\n     David Sylvan\, President\, UH Ventures\, University Hospitals\nCleveland Clinic Personnel \n11:15AM EDT / 16.00 BST / 17.00 EST       \nPanel Discussion\nDoing business in biomedical/medtech in the United States\, particularly in a COVID and post-COVID environment\n       Steve Norton\, STERIS Corporation\nJustin Bloyd\, RB Sigma\nKeith Fawdington and Jon Snyder\, UVAMED/Rainbow Trays\nDr. Rouzet Agaiby\, EG Technology \n11:45AM EDT / 16.45 BST / 17.45 EST       \nPresentation\nCleveland Clinic UK Operations from London\n     Travis Laird\, Chief Business Operations Officer \n12:00PM EDT/17.00 BST/18.00 EST\nVirtual B2B Networking\nOpportunity to talk real-time with biomedical and medtech companies from both sides of the Atlantic. \n12:30PM EDT / 17.30 BST / 18.30 EST\nConclusion\nClosing remarks \nTuesday\, 6 October \n9:00AM EDT / 2:00PM BST / 3:00PM EST \nCleveland Clinic Innovation Summit 2020 – Virtual \nTo register for the Cleveland Clinic Summit go to:  https://innovations.clevelandclinic.org/Summit/Overview.aspx
URL:https://staging.medilinkmidlands.com/event/mentor-means-business/
CATEGORIES:Medilink Midlands Event
ATTACH;FMTTYPE=image/png:https://staging.medilinkmidlands.com/wp-content/uploads/2022/04/City-of-Mentor-Seal-1.png
END:VEVENT
BEGIN:VEVENT
DTSTART;TZID=Europe/London:20201005T170000
DTEND;TZID=Europe/London:20201005T180000
DTSTAMP:20260421T175456
CREATED:20200403T084137Z
LAST-MODIFIED:20200403T084137Z
UID:18136-1601917200-1601920800@staging.medilinkmidlands.com
SUMMARY:Medilink Midlands Virtual Autumn Networking
DESCRIPTION:  \n  \n  \n  \n  \nJoin Medilink Midlands for our virtual Autumn Networking event\, in association with the City of Mentor\, USA. \nNetworking opportunities are one of the many Medilink Midlands member benefits and as the current COVID-19 restricts the opportunity for face to face events\, our Autumn Networking event will now be virtual. \nThis is an informal gathering and will provide an opportunity for both members and non-members to engage with one another as well as their US counterparts. \nBecause of our growing relationship with the City of Mentor\, Ohio\, we have moved our autumn networking to the 5th October\, and it will now be incorporated within the B2B International Networking  at the annual trade mission made by the City of Mentor. The networking will take place towards the end of the conference. As well as the B2B International Networking \, they are hosting an afternoon’s conference. This will provide a chance to learn more about the advantages of doing business in Northeast Ohio and the City of Mentor . \nTo book your place and for further details please click here.\nOpen to both Medilink members and non-members. There is no charge for attending this event. \nPlease note: When booking\, you will be registered for the whole conference\, however you have the option to join at any time\, including just the B2B International Networking opportunity. \nBookings are being managed by The City of Mentor International Trade Initiative\, via Eventbrite. Delegates will receive login credentials and instructions in the week prior to 5 October.
URL:https://staging.medilinkmidlands.com/event/autumn-networking/
CATEGORIES:Medilink Midlands Event
ATTACH;FMTTYPE=image/jpeg:https://staging.medilinkmidlands.com/wp-content/uploads/2022/04/potter-clarkson-hires-rgb-logo-colour-scaled.jpg
ORGANIZER;CN="Jo Rudzki":MAILTO:info@medilinkem.com
END:VEVENT
BEGIN:VEVENT
DTSTART;TZID=Europe/London:20201008T153000
DTEND;TZID=Europe/London:20201008T173000
DTSTAMP:20260421T175456
CREATED:20200916T115752Z
LAST-MODIFIED:20200916T115752Z
UID:18340-1602171000-1602178200@staging.medilinkmidlands.com
SUMMARY:Medilink UK Healthcare Virtual Business Awards 2020
DESCRIPTION:Join us for the very first virtual Medilink UK Healthcare Business Awards 2020 and celebrate the very best of UK Life Sciences companies. \nHosted by Chris Turner\, Comedian and Freestyle Rapper\, join us for an afternoon of virtual celebrations\, be entertained and take the opportunity to celebrate with the best of the best in the life sciences sector\, whilst forming new connections with leading professionals on a unique platform of virtual networking. \nThe awards demonstrate that regional depth and national reach by recognising the achievements of the regional Medilink awards winners for 2019-2020 categories; \n– Start Up\, sponsored by HORIBA\n– Export Achievement\, sponsored by Morningside Pharmaceuticals\n– Collaboration with the NHS\, sponsored by the AHSN Network\n– Innovation\, sponsored by Kallik\n– Outstanding Achievement\, sponsored by Mills & Reeve \nMedilink UK are delighted to announce that Grant Thornton are the headline sponsor for these prestigious awards and we are proud to bring you these awards in association with Med-Tech Innovation and MedTech Integrates. \n\nTo read more about our sponsors and the finalists\, please click here. \nNote: These national awards are managed by Medilink East Midlands on behalf of Medilink UK
URL:https://staging.medilinkmidlands.com/event/medilink-uk-healthcare-virtual-business-awards-2020/
CATEGORIES:Medilink Midlands Event
ATTACH;FMTTYPE=image/jpeg:https://staging.medilinkmidlands.com/wp-content/uploads/2022/04/MedilinkUK_Logo_1.jpg
ORGANIZER;CN="Becky Sharpe":MAILTO:events@medilinkmidlands.com
END:VEVENT
BEGIN:VEVENT
DTSTART;TZID=Europe/London:20201013T133000
DTEND;TZID=Europe/London:20201013T143000
DTSTAMP:20260421T175456
CREATED:20200923T153541Z
LAST-MODIFIED:20200923T153541Z
UID:18379-1602595800-1602599400@staging.medilinkmidlands.com
SUMMARY:Medilink East Midlands Virtual Coffee Break - Members Only
DESCRIPTION:Join Medilink EM for an afternoon virtual coffee break on Tuesday 13 October at 1.30pm. \nNetworking opportunities are one of the many Medilink EM member benefits and whilst the current COVID-19 crisis still won’t allow face to face events\, we have introduced an online opportunity to enable members to still connect with one another. This is an informal gathering\, hosted by Darren Clark\, our Chief Executive\, where you can share your current challenges and experiences and we can make introductions to those that can help. Or you could also join us just to see a friendly face and take time out from working at home. \nGrab a coffee\, a biscuit and join us. \nDial-in details will provided to delegates by a member of the Medlink EM events team once the online registration form has been completed. \nMedilink Members only \nBook Now
URL:https://staging.medilinkmidlands.com/event/medilink-east-midlands-virtual-coffee-break-members-only-3/
CATEGORIES:Medilink Midlands Event
ORGANIZER;CN="Jo Rudzki":MAILTO:info@medilinkem.com
END:VEVENT
BEGIN:VEVENT
DTSTART;TZID=Europe/London:20201027T083000
DTEND;TZID=Europe/London:20201027T093000
DTSTAMP:20260421T175456
CREATED:20201012T162833Z
LAST-MODIFIED:20201012T162833Z
UID:18387-1603787400-1603791000@staging.medilinkmidlands.com
SUMMARY:Medilink Midlands Virtual Coffee Break - Members Only
DESCRIPTION:Join Medilink Midlands for an early morning virtual coffee break on Tuesday 27 October at 8.30am. \nNetworking opportunities are one of the many Medilink Midlands member benefits and whilst the current COVID-19 crisis still won’t allow face to face events\, we have introduced an online opportunity to enable members to still connect with one another. This is an informal gathering\, hosted by Darren Clark\, our Chief Executive\, where you can share your current challenges and experiences and we can make introductions to those that can help. Or you could also join us just to see a friendly face and take time out from working at home. \nGrab a coffee\, a biscuit and join us. \nDial-in details will provided to delegates by a member of the Medilink EM events team once the online registration form has been completed. \nMedilink Members only \n 
URL:https://staging.medilinkmidlands.com/event/medilink-midlands-virtual-coffee-break-6/
CATEGORIES:Medilink Midlands Event
ORGANIZER;CN="Jo Rudzki":MAILTO:info@medilinkem.com
END:VEVENT
END:VCALENDAR