BEGIN:VCALENDAR
VERSION:2.0
PRODID:-//Medilink Midlands - ECPv6.15.20//NONSGML v1.0//EN
CALSCALE:GREGORIAN
METHOD:PUBLISH
X-ORIGINAL-URL:https://staging.medilinkmidlands.com
X-WR-CALDESC:Events for Medilink Midlands
REFRESH-INTERVAL;VALUE=DURATION:PT1H
X-Robots-Tag:noindex
X-PUBLISHED-TTL:PT1H
BEGIN:VTIMEZONE
TZID:Europe/London
BEGIN:DAYLIGHT
TZOFFSETFROM:+0000
TZOFFSETTO:+0100
TZNAME:BST
DTSTART:20220327T010000
END:DAYLIGHT
BEGIN:STANDARD
TZOFFSETFROM:+0100
TZOFFSETTO:+0000
TZNAME:GMT
DTSTART:20221030T010000
END:STANDARD
BEGIN:DAYLIGHT
TZOFFSETFROM:+0000
TZOFFSETTO:+0100
TZNAME:BST
DTSTART:20230326T010000
END:DAYLIGHT
BEGIN:STANDARD
TZOFFSETFROM:+0100
TZOFFSETTO:+0000
TZNAME:GMT
DTSTART:20231029T010000
END:STANDARD
BEGIN:DAYLIGHT
TZOFFSETFROM:+0000
TZOFFSETTO:+0100
TZNAME:BST
DTSTART:20240331T010000
END:DAYLIGHT
BEGIN:STANDARD
TZOFFSETFROM:+0100
TZOFFSETTO:+0000
TZNAME:GMT
DTSTART:20241027T010000
END:STANDARD
END:VTIMEZONE
BEGIN:VEVENT
DTSTART;TZID=Europe/London:20230207T100000
DTEND;TZID=Europe/London:20230207T110000
DTSTAMP:20260421T092656
CREATED:20230112T111512Z
LAST-MODIFIED:20230112T111512Z
UID:21896-1675764000-1675767600@staging.medilinkmidlands.com
SUMMARY:Life Sciences Legal Forum: Competition Law
DESCRIPTION:  \n \nMedilink Midlands member company\, Mills & Reeve\, invite you to attend the first webinar in their Life Sciences Legal Forum series. This first online session provides sector-specific guidance on key competition law (anti-trust) issues relating to the life sciences sector. \nThe Forum will take place on Tuesday 7 February via Zoom. \nMills & Reeve’s Head of Life Sciences\, James Fry will be joined by Kate Newman who heads their Competition Law Practice to discuss: \n\nEnforcement activity by the UK and EU competition authorities – what types of conduct have been scrutinised and what will the authorities focus on next?\nThe expanding reach of merger control and what it means for the life sciences sector\nNational Security and Investments Act – sector themes we’re seeing\nHorizon scanning – what’s coming up?\n\nTo book your place\, please click here. \nUpon confirmation of your place\, you will have the opportunity to send questions to the speakers so they can be covered if possible\, during the webinar.
URL:https://staging.medilinkmidlands.com/event/life-sciences-legal-forum-competition-law/
LOCATION:Online via Zoom
CATEGORIES:Medilink Partner Event
END:VEVENT
BEGIN:VEVENT
DTSTART;TZID=Europe/London:20230209T100000
DTEND;TZID=Europe/London:20230209T110000
DTSTAMP:20260421T092656
CREATED:20221220T120157Z
LAST-MODIFIED:20221220T120905Z
UID:21643-1675936800-1675940400@staging.medilinkmidlands.com
SUMMARY:ONLINE: The Value of Implementing an ISO 13485 Compliant QMS
DESCRIPTION:SEHTA and IVDeology Ltd a leading regulatory company specifically within the in vitro diagnostic medical device industry\, are delighted to offer this webinar to start-up companies who want to know more about quality management systems and how they impact an organisation. The session will be led by Nancy Consterdine\, Director of Training and Compliance Services\, IVDeology. \nPlease click here to book your free place today. \nAgenda \n10:00 – 10:05  Welcome & Introduction \n10:05 – 10:50: \n\nComponents of and timing of initiating a quality management system\nAdvantages of early implementation for device development\nGlobal regulatory requirement for a QMS\nMeasurable value to a well maintained QMS\n\n10:50 – 11:00  Q&A \n11:00   Close
URL:https://staging.medilinkmidlands.com/event/iso-13485-compliant-qms/
LOCATION:Online
CATEGORIES:Medilink Partner Event
END:VEVENT
BEGIN:VEVENT
DTSTART;TZID=Europe/London:20230214T093000
DTEND;TZID=Europe/London:20230214T130000
DTSTAMP:20260421T092656
CREATED:20221220T115428Z
LAST-MODIFIED:20221220T115621Z
UID:21641-1676367000-1676379600@staging.medilinkmidlands.com
SUMMARY:IN-PERSON EVENT: Innovation\, Resilience and Productivity: New Methods to Future Proof your Business Growth
DESCRIPTION:The next Charnwood Campus Cluster event\, sponsored by Weiss Technik UK\, is focused on how innovation can drive productivity\, something very important in the current business climate. You may already be focusing on ways to improve your productivity by looking at operations optimisation\, distribution of work\, automation and rationalisations\, however harnessing the power of innovation can make a real difference. Join our local leaders and experts to explore how to increase productivity in new ways by focusing on innovating and building resilience in your business at an organisational\, social and mental health level. \nSpeakers already confirmed include: \n\nProfessor Dean Fathers\, Centre for Organisational Resilience\nJennifer Turner\, Founder and Director\, JT Rehab\nMichael Watts\, Managing Director\, Blum Health\nMalcolm Youll\, Managing Director\, Weiss Technik UK\n\nTo book your ticket\, click here.
URL:https://staging.medilinkmidlands.com/event/innovation-resilience-and-productivity/
LOCATION:Charnwood Campus\, Bakewell Road\, Loughborough\, LE11 5RB
CATEGORIES:Medilink Partner Event
END:VEVENT
BEGIN:VEVENT
DTSTART;TZID=Europe/London:20230215T180000
DTEND;TZID=Europe/London:20230215T200000
DTSTAMP:20260421T092656
CREATED:20221220T113854Z
LAST-MODIFIED:20221220T123021Z
UID:21633-1676484000-1676491200@staging.medilinkmidlands.com
SUMMARY:Midlands Meet-Up Networking Event
DESCRIPTION:     \nWe are delighted to announce details of the OBN Midlands-focused networking evening on 15 February 2023\, organised in collaboration with our sponsor Penningtons Manches Cooper​ and co-promoted by ourselves and The West Midlands Healthtech Cluster. \nThe purpose of the evening is to showcase the West Midlands’ strong and growing life sciences ecosystem and get to know some of the most innovative R & D companies in the region. \nIf you would like to find out more and build your Midlands network\, please click here to book your complimentary ticket. The event starts at 18.00\, with a drink on arrival and Pizza during the evening. \n 
URL:https://staging.medilinkmidlands.com/event/obn-midlands-meet-up/
LOCATION:Lost and Found\, Birmingham\, B2 5RS
CATEGORIES:Medilink Midlands Event,Medilink Partner Event
END:VEVENT
END:VCALENDAR