BEGIN:VCALENDAR
VERSION:2.0
PRODID:-//Medilink Midlands - ECPv6.15.20//NONSGML v1.0//EN
CALSCALE:GREGORIAN
METHOD:PUBLISH
X-WR-CALNAME:Medilink Midlands
X-ORIGINAL-URL:https://staging.medilinkmidlands.com
X-WR-CALDESC:Events for Medilink Midlands
REFRESH-INTERVAL;VALUE=DURATION:PT1H
X-Robots-Tag:noindex
X-PUBLISHED-TTL:PT1H
BEGIN:VTIMEZONE
TZID:Europe/London
BEGIN:DAYLIGHT
TZOFFSETFROM:+0000
TZOFFSETTO:+0100
TZNAME:BST
DTSTART:20190331T010000
END:DAYLIGHT
BEGIN:STANDARD
TZOFFSETFROM:+0100
TZOFFSETTO:+0000
TZNAME:GMT
DTSTART:20191027T010000
END:STANDARD
BEGIN:DAYLIGHT
TZOFFSETFROM:+0000
TZOFFSETTO:+0100
TZNAME:BST
DTSTART:20200329T010000
END:DAYLIGHT
BEGIN:STANDARD
TZOFFSETFROM:+0100
TZOFFSETTO:+0000
TZNAME:GMT
DTSTART:20201025T010000
END:STANDARD
BEGIN:DAYLIGHT
TZOFFSETFROM:+0000
TZOFFSETTO:+0100
TZNAME:BST
DTSTART:20210328T010000
END:DAYLIGHT
BEGIN:STANDARD
TZOFFSETFROM:+0100
TZOFFSETTO:+0000
TZNAME:GMT
DTSTART:20211031T010000
END:STANDARD
END:VTIMEZONE
BEGIN:VEVENT
DTSTART;TZID=Europe/London:20200402T093000
DTEND;TZID=Europe/London:20200402T130000
DTSTAMP:20260423T140047
CREATED:20200325T140853Z
LAST-MODIFIED:20200325T140853Z
UID:18105-1585819800-1585832400@staging.medilinkmidlands.com
SUMMARY:Webinar: DCMS 5G Create - Competition Briefing
DESCRIPTION:DCMS\, working with UK5G\, is running a set of online webinars for the 5G Create Project as part of the 5G Testbeds and Trials Programme. \nUp to £30m will be available in this open competition\, aiming to explore and develop new use-cases and sustainable business models for 5G applications and services. \nParticipants will be briefed on the scope\, eligibility and how to make an application for funding. \n5G Create is open to all sectors\, including: Creative Industries\, Utilities (Energy and water)\, Health and Social Care and Logistics. \nThe 5G Testbeds and Trials Programme is the Government’s nationally coordinated programme of investment in 5G. The Programme looks to harness areas where the UK has a competitive advantage – such as in scientific research\, engineering talent and our rich variety of technology businesses. The Programme is working to deliver the following objectives: \n– Accelerate the deployment of 5G networks and ensure the UK can take early advantage of the applications those networks can enable\n– Maximise the productivity and efficiency benefits to the UK from 5G\n– Create new opportunities for UK businesses at home and abroad and encourage inward investment \nAlso\, if you are looking for potential collaborators there will be an opportunity for delegates to deliver a two-minute pitch to the room with a max of two slides for each pitch. \nTo find out more and to register\, click here.
URL:https://staging.medilinkmidlands.com/event/webinar-dcms-5g-create-competition-briefing-2/
CATEGORIES:Other Event
END:VEVENT
BEGIN:VEVENT
DTSTART;TZID=Europe/London:20200408T110000
DTEND;TZID=Europe/London:20200408T123000
DTSTAMP:20260423T140047
CREATED:20200325T141751Z
LAST-MODIFIED:20200325T141751Z
UID:18107-1586343600-1586349000@staging.medilinkmidlands.com
SUMMARY:Webinar: How to apply for Future Leaders Fellowships Round 5
DESCRIPTION:This webinar will providing details which are suitable for businesses planning to apply to Round 5.\nUK Research and Innovation’s (UKRI) Future Leaders Fellowships (FLF) is a £900 million fund that is helping establish the careers of world-class research and innovation leaders across the UK. The scheme will support early career researchers and innovators with outstanding potential in universities\, UK registered businesses\, and other research and user environments including Research Councils’ institutes and laboratories \nThe scheme provides investment of circa £1.5 million over four years\, with the ability to extend. It will enable the next generation of researcher and innovators to benefit from outstanding support to develop their careers\, and to work on difficult and novel challenges. The FLF scheme has already funded fellowships from business and academia from £300\,000 to over £2m. \nThis webinar is the second of two webinars. It i strongly recommend that you watch webinar 1 before attending webinar 2\, view webinar 1 here. \nFurther details on the scheme can be found here. \nThe webinar will cover: \n– A recap of the scheme\n– Information on submitting an outline and full application\n– Detail on the application documents\n– The Je-S application system. \nThe closing date for registering outline proposals is 30th April 2020 with a full proposal deadline on 2nd June 2020. \nTo find out more and to register online\, click here. 
URL:https://staging.medilinkmidlands.com/event/webinar-how-to-apply-for-future-leaders-fellowships-round-5/
CATEGORIES:Other Event
END:VEVENT
END:VCALENDAR