BEGIN:VCALENDAR
VERSION:2.0
PRODID:-//Medilink Midlands - ECPv6.15.20//NONSGML v1.0//EN
CALSCALE:GREGORIAN
METHOD:PUBLISH
X-ORIGINAL-URL:https://staging.medilinkmidlands.com
X-WR-CALDESC:Events for Medilink Midlands
REFRESH-INTERVAL;VALUE=DURATION:PT1H
X-Robots-Tag:noindex
X-PUBLISHED-TTL:PT1H
BEGIN:VTIMEZONE
TZID:Europe/London
BEGIN:DAYLIGHT
TZOFFSETFROM:+0000
TZOFFSETTO:+0100
TZNAME:BST
DTSTART:20190331T010000
END:DAYLIGHT
BEGIN:STANDARD
TZOFFSETFROM:+0100
TZOFFSETTO:+0000
TZNAME:GMT
DTSTART:20191027T010000
END:STANDARD
BEGIN:DAYLIGHT
TZOFFSETFROM:+0000
TZOFFSETTO:+0100
TZNAME:BST
DTSTART:20200329T010000
END:DAYLIGHT
BEGIN:STANDARD
TZOFFSETFROM:+0100
TZOFFSETTO:+0000
TZNAME:GMT
DTSTART:20201025T010000
END:STANDARD
BEGIN:DAYLIGHT
TZOFFSETFROM:+0000
TZOFFSETTO:+0100
TZNAME:BST
DTSTART:20210328T010000
END:DAYLIGHT
BEGIN:STANDARD
TZOFFSETFROM:+0100
TZOFFSETTO:+0000
TZNAME:GMT
DTSTART:20211031T010000
END:STANDARD
END:VTIMEZONE
BEGIN:VEVENT
DTSTART;TZID=Europe/London:20201104T100000
DTEND;TZID=Europe/London:20201104T123000
DTSTAMP:20260423T024154
CREATED:20201019T114917Z
LAST-MODIFIED:20201019T114917Z
UID:18392-1604484000-1604493000@staging.medilinkmidlands.com
SUMMARY:Developing Better Products for Chronic Disease and Rehab Markets
DESCRIPTION:Wednesday 4th Nov 20 \nAGENDA \nThe use of clinical data\, the application of artificial intelligence and the development of digital health have been predicted to revolutionise health care and the management and rehab of chronic conditions. This event will highlight gaps in the current healthcare landscape that require new products and the funded innovation support available to engage with clinicians and the healthcare system. \nAre you developing a medical devices\, medical apps or other interventions designed to manage or prevent chronic diseases such as diabetes\, cardiovascular or respiratory disease or the long term effects of COVID-19. Hear from Clinicians at Leicester hospitals who will be identifying what new products are required to improve proactive health management. \n\n\n\n10.00\nWelcome and Overview of Leicester Biomedical Research Centre \nProfessor Tom Yates\, Professor in Physical Activity\, Sedentary Behaviour and Health\, NIHR Leicester Biomedical Research Centre\n\n\n10.20\nUsing AI and data to develop better healthcare products \nChristine Nakatani\, Ph.D. Director of Artificial Intelligence NTT DATA UK \n\n\n10.40\nStand More AT Work– preventing chronic disease in office/home based workers  \nDr Charlotte Edwardson\, Associate Professor in Physical Activity\, Sedentary Behaviour and Health\, NIHR Leicester Biomedical Research Centre     \n\n\n11.55\nCollaborating to tackle COVID-19 complications  \nYour COVID-19 recovery ground-breaking NHS online COVID-19 Rehab service Nikki Gardiner\, Clinical Lead for Cardiac & Pulmonary Rehabilitation\, University Hospitals of Leicester NHS Trust \nPost-HOSPitalisation COVID-19 study – a national consortium to understand and improve long-term health outcomes  \nDr Aarti Parmar\, PHOSP programme Manager\, NIHR Leicester Biomedical Research Centre\n\n\n11.15\nElephant Kiosks – Developing COVID-19 screening in the workplace \nProfessor Toru Suzuki\, Professor of Cardiovascular Medicine\, University of Leicester\, Honorary Consultant\, Cardiology\, University Hospitals of Leicester NHS Trust and Annette Walker Managing Director Elephant Kiosks \n\n\n11.25\nPersonalised Space Technology Exercise Platform P-STEP \nProfessor Andre Ng\, Head of Department\, Cardiovascular Sciences\, Professor of Cardiac Electrophysiology\, Consultant Cardiologist and Electrophysiologist\n\n\n11.40\nChallenge workshop – What are your challenges in developing wearables and how can the Leicester Life Sciences Accelerator help \nConference participants can ask the clinical experts or highlight problems they have experienced in the development of wearables \nDr Christopher Brough\, Clinical Lead for Digital Health\, Dr Alex Rowlands\, Diabetes Research Centre\, Dr Lucy Alexander\, LLSA Manager\n\n\n12.30\nClose\n\n\n\nBook your tickets here \nhttps://lbf2020.ticketleap.com/developing-better-products-for-chronic-disease-and-rehab-markets/
URL:https://staging.medilinkmidlands.com/event/developing-better-products-for-chronic-disease-and-rehab-markets/
CATEGORIES:Other Event
END:VEVENT
BEGIN:VEVENT
DTSTART;VALUE=DATE:20201116
DTEND;VALUE=DATE:20201120
DTSTAMP:20260423T024154
CREATED:20200921T123156Z
LAST-MODIFIED:20200921T123156Z
UID:18374-1605484800-1605830399@staging.medilinkmidlands.com
SUMMARY:Midlands Engine Market Visit to Medica 2020
DESCRIPTION:Are you a life science company looking to showcase your expertise and innovative overseas? Have you never visited the Medica Exhibition before? \nIf you can answer yes to both – then the Midlands Engine market visit to Medica 2020\, the world’s largest medical technology and life sciences exhibition\, could be your next stop. \nAbout the visit \nThe visit will give businesses the opportunity to meet and connect with international buyers and establish valuable contacts. At the exhibition\, companies will be supported by a DIT life sciences sector specialist and have access to the following facilities: \n•  Meeting 1-2-1 programme and/or virtual 121 programme with DIT sector specialists\n•  A wealth of networking opportunities\n•  Access to British Pavilion facilities including internet\, seating and light refreshments\n•  Free use of meeting facilities\n•  Companies will feature in a Midlands Engine e-brochure and the UK@Medica exhibitor directory\n•  Access to a discounted hotel rate at a hotel within walking distance of the exhibition \nYour safety \nDuring these extraordinary times\, the organisers Messe are making provision to ensure social distancing is maintained at the fair with wider aisles between stands and hygiene management on site. To protect stand staff and visitors\, entry into the British Pavilion stand will be managed\, only allowing a limited number of people on the stand at any given time. Visitors will be asked to use the hand sanitiser provided before entering the stand. Meeting tables will be sanitised between visitors. \nMidlands Engine presence and activity at Medica will be in accordance with the most up to date UK guidance as well as that of the German Government. You can also see here for information about visiting Medica. \nCosts & Funding \nThere is a non-refundable commitment fee of £99 plus VAT\, payable upon registration. Funding of £250 per company is available to eligible companies\, which is payable on return. There is a limit of 1 delegate per company and delegates will be responsible for booking flights and accommodation. \nRegister your interest today \nFor more detailed information or to register your interest in this trade visit using the link below. \nClick here to book
URL:https://staging.medilinkmidlands.com/event/midlands-engine-market-visit-to-medica-2020/
LOCATION:Dusseldorf\, Germany
CATEGORIES:Other Event
END:VEVENT
END:VCALENDAR