BEGIN:VCALENDAR
VERSION:2.0
PRODID:-//Medilink Midlands - ECPv6.15.20//NONSGML v1.0//EN
CALSCALE:GREGORIAN
METHOD:PUBLISH
X-WR-CALNAME:Medilink Midlands
X-ORIGINAL-URL:https://staging.medilinkmidlands.com
X-WR-CALDESC:Events for Medilink Midlands
REFRESH-INTERVAL;VALUE=DURATION:PT1H
X-Robots-Tag:noindex
X-PUBLISHED-TTL:PT1H
BEGIN:VTIMEZONE
TZID:Europe/London
BEGIN:DAYLIGHT
TZOFFSETFROM:+0000
TZOFFSETTO:+0100
TZNAME:BST
DTSTART:20180325T010000
END:DAYLIGHT
BEGIN:STANDARD
TZOFFSETFROM:+0100
TZOFFSETTO:+0000
TZNAME:GMT
DTSTART:20181028T010000
END:STANDARD
BEGIN:DAYLIGHT
TZOFFSETFROM:+0000
TZOFFSETTO:+0100
TZNAME:BST
DTSTART:20190331T010000
END:DAYLIGHT
BEGIN:STANDARD
TZOFFSETFROM:+0100
TZOFFSETTO:+0000
TZNAME:GMT
DTSTART:20191027T010000
END:STANDARD
BEGIN:DAYLIGHT
TZOFFSETFROM:+0000
TZOFFSETTO:+0100
TZNAME:BST
DTSTART:20200329T010000
END:DAYLIGHT
BEGIN:STANDARD
TZOFFSETFROM:+0100
TZOFFSETTO:+0000
TZNAME:GMT
DTSTART:20201025T010000
END:STANDARD
END:VTIMEZONE
BEGIN:VEVENT
DTSTART;TZID=Europe/London:20190606T093000
DTEND;TZID=Europe/London:20190606T130000
DTSTAMP:20260423T032909
CREATED:20190401T125912Z
LAST-MODIFIED:20190401T125912Z
UID:17958-1559813400-1559826000@staging.medilinkmidlands.com
SUMMARY:Infection Prevention Special Interest Group (SIG)
DESCRIPTION:If you’re interested in Infection Prevention\, then this Special Interest Group will be of interest to you. \nDrawing on leading speakers and researchers in Infection Prevention\, the theme of the event will be Biofilms and will cover important topics such as: \n\nTreatment system for prevention of biofilms\nBiofilms and catheter associated infections: applying historical principles to a modern problem\nAquatic Biofilms as a reservoir for infection\n\nThe event will be highly interactive and opportunity will be given to engage with both speakers and other delegates. \nOpportunities available to present for 5 minutes to showcase your products/services that are relevant to this event – click here to email your interest. \nThis free to attend event is being held by Medilink EM and the East Midlands Academic Health Science Network\, under our joint project LARIS (Lincolnshire & Rutland Innovation Support). The project aims to provide Innovation Support for Medical and Life Science businesses based in Lincolnshire & Rutland – to find out more\, click here. \nProgramme  \nSpeaker Profiles \nDelegate List \n 
URL:https://staging.medilinkmidlands.com/event/infection-prevention-special-interest-group-sig/
LOCATION:Belton Woods Hotel\, Belton\, Grantham\, NG32 2LN\, United Kingdom
CATEGORIES:Project Event
ORGANIZER;CN="Jo Rudzki":MAILTO:info@medilinkem.com
END:VEVENT
BEGIN:VEVENT
DTSTART;TZID=Europe/London:20190620T093000
DTEND;TZID=Europe/London:20190620T153000
DTSTAMP:20260423T032909
CREATED:20190331T160744Z
LAST-MODIFIED:20190331T160744Z
UID:17952-1561023000-1561044600@staging.medilinkmidlands.com
SUMMARY:Preparing your NHS Business Case
DESCRIPTION:With input from the EMAHSN staff\, this interactive and informative event on ‘Preparing your NHS Business Case’ will enable you to prepare better business cases. \nThis free to attend event is being held as part of the INSTILS programme – a project part-funded by the European Regional Development Fund\, click here to be re-directed to further information about the project. \nDuring the event you will also learn about: \n– What is a business case\, what is its purpose and why it is so important? \n– Who reviews the business case and how are they evaluated from a commissioning point of view? \n– How to construct a good business case \nThe Challenge as a supplier to the NHS is often that when you have a product which from your perspective improves patient outcomes and saves cost you still cannot get it adopted by the NHS. This is often because there is not a fully developed business case\, without this a group within the NHS interested in taking on board a new product or service are unlikely to get approval of the case for change before procurement of the innovation can proceed. \nOrganisations that supply to the NHS are often challenged by the process\, timescales\, evidence and documentary requirements. This can often seem like an unnecessary complication\, or simply a reason to not issue a purchase order. A good business case is fundamental to successful adoption and developing a long term business partnership. Preparing the business case can also be difficult for your NHS contacts because they are busy or not experienced in their preparation and often even more difficult for companies with little or no experience of the process. \nDue to limited seating numbers are restricted to one delegate per organisation. \nProgramme \nSpeaker Profiles  \nDelegate List \nIntroduction to NHS Business Cases \nFull Business Case Template (Word Version) \nFull Business Case Template (Pdf Version) \n 
URL:https://staging.medilinkmidlands.com/event/preparing-your-nhs-business-case-3/
LOCATION:Enterprise Centre\, Bridge Street\, Derby\, DE1 3LD
CATEGORIES:Project Event
ATTACH;FMTTYPE=image/jpeg:https://staging.medilinkmidlands.com/wp-content/uploads/2022/04/Enterprise-Centre-Directions2-scaled.jpg
ORGANIZER;CN="Jo Rudzki":MAILTO:info@medilinkem.com
END:VEVENT
BEGIN:VEVENT
DTSTART;TZID=Europe/London:20190627T090000
DTEND;TZID=Europe/London:20190627T163000
DTSTAMP:20260423T032909
CREATED:20190401T095524Z
LAST-MODIFIED:20190401T095524Z
UID:17957-1561626000-1561653000@staging.medilinkmidlands.com
SUMMARY:How to get your Medical Device NHS Ready
DESCRIPTION:Getting your Medical Device NHS ready is one of the biggest challenges companies face. With several obstacles to overcome and for some\, unknown territory to cross\, working with CHEATA (Centre for Healthcare Equipment & Technology Adoption) at Nottingham University Hospitals NHS Trust we have this great free to attend event. \nThis full-day event will guide you through the following topics: \n– Human Factors and using a Simulation facility \n– Health Technology/Assessment in the NHS \nPlus information will be provided on:  \n– How SMEs engage with the NHS for clinical research studies \n– Regulator Compliance: What’s changed with the new MDR \nThroughout the day opportunities will be created to engage\, exchange ideas and explore possible collaborations between SMEs\, academia and the NHS. \nThis free to attend event is held as part of the INSTILS programme – a project part-funded by the European Regional Development Fund\, click here to be re-directed to further information about the project. \nProgramme \nSpeaker Profiles \nDelegate List \nNIHR Flyer
URL:https://staging.medilinkmidlands.com/event/how-to-get-your-medical-device-nhs-ready-2/
LOCATION:MeetPoint Midlands\, Conference Centre\, 28 High Street\, Kegworth\, Derbyshire\, DE74 2DA
CATEGORIES:Project Event
ATTACH;FMTTYPE=image/jpeg:https://staging.medilinkmidlands.com/wp-content/uploads/2022/04/erdflogo2.jpg
ORGANIZER;CN="Jo Rudzki":MAILTO:info@medilinkem.com
END:VEVENT
END:VCALENDAR