BEGIN:VCALENDAR
VERSION:2.0
PRODID:-//Medilink Midlands - ECPv6.15.20//NONSGML v1.0//EN
CALSCALE:GREGORIAN
METHOD:PUBLISH
X-ORIGINAL-URL:https://staging.medilinkmidlands.com
X-WR-CALDESC:Events for Medilink Midlands
REFRESH-INTERVAL;VALUE=DURATION:PT1H
X-Robots-Tag:noindex
X-PUBLISHED-TTL:PT1H
BEGIN:VTIMEZONE
TZID:Europe/London
BEGIN:DAYLIGHT
TZOFFSETFROM:+0000
TZOFFSETTO:+0100
TZNAME:BST
DTSTART:20190331T010000
END:DAYLIGHT
BEGIN:STANDARD
TZOFFSETFROM:+0100
TZOFFSETTO:+0000
TZNAME:GMT
DTSTART:20191027T010000
END:STANDARD
BEGIN:DAYLIGHT
TZOFFSETFROM:+0000
TZOFFSETTO:+0100
TZNAME:BST
DTSTART:20200329T010000
END:DAYLIGHT
BEGIN:STANDARD
TZOFFSETFROM:+0100
TZOFFSETTO:+0000
TZNAME:GMT
DTSTART:20201025T010000
END:STANDARD
BEGIN:DAYLIGHT
TZOFFSETFROM:+0000
TZOFFSETTO:+0100
TZNAME:BST
DTSTART:20210328T010000
END:DAYLIGHT
BEGIN:STANDARD
TZOFFSETFROM:+0100
TZOFFSETTO:+0000
TZNAME:GMT
DTSTART:20211031T010000
END:STANDARD
END:VTIMEZONE
BEGIN:VEVENT
DTSTART;TZID=Europe/London:20200603T140000
DTEND;TZID=Europe/London:20200603T150000
DTSTAMP:20260422T092047
CREATED:20200522T103753Z
LAST-MODIFIED:20200522T103753Z
UID:18193-1591192800-1591196400@staging.medilinkmidlands.com
SUMMARY:VIRTUAL MEETING: Innovation in lockdown: Meet the Advisers
DESCRIPTION:Medilink EM remains open for business during this unsettling period and we will continue to support our members\, clients and the life sciences community\, albeit in a more virtual way. \nFollowing on from our webinar\, join two of our Advisers for a more detailed interactive discussion on innovation support and how our projects can help. We will talk through examples of the types of projects we can fund and also what other support is available in your region. \nDuring this virtual meeting you will: \n– Find out how we can support you to fast-track your innovations and bring your ideas to market\n– Have the opportunity to ask questions directly to our knowledgeable advisers and find out how you can obtain further support\n– Receive information on the grants we have available to help companies overcome innovation barriers \nWe will also be joined by John O’ Donnell\, Business Finance Manager at D2N2 Growth Hub\,  who will be in attendance to provide information on the specific support D2N2 are able to offer across Derby\, Derbyshire\, Nottingham and Nottinghamshire. \nThis is an interactive meeting\, where attendees are encouraged to ask questions directly to our panel of speakers. \nDURATION: 1 HOUR \nPLEASE NOTE: The funding and support discussed in this meeting is only available for companies in the East Midlands region. \nThis free to attend meeting will be held as part of the INSTILS programme – a project part-funded by the European Regional Development Fund. Click here to be redirected to further information about the project. This event is classed as State Aid to participating businesses\, the value of which is £127\, but is delivered completely free of charge to participants. \nSpeaker Profiles \n \n  \nJo Maltby\, Project Leader Innovation\, Medilink East Midlands \n  \n  \n     Alasdair Gaw\, Project Leader Innovation\, Medilink East Midlands \n  \n  \n  \n \nJohn O’Donnell\, Business Finance Manager\, D2N2 Growth Hub
URL:https://staging.medilinkmidlands.com/event/9866/
CATEGORIES:Project Event
ATTACH;FMTTYPE=image/jpeg:https://staging.medilinkmidlands.com/wp-content/uploads/2022/04/image.jpg
END:VEVENT
BEGIN:VEVENT
DTSTART;TZID=Europe/London:20200604T110000
DTEND;TZID=Europe/London:20200604T120000
DTSTAMP:20260422T092047
CREATED:20200513T133815Z
LAST-MODIFIED:20200513T133815Z
UID:18190-1591268400-1591272000@staging.medilinkmidlands.com
SUMMARY:WEBINAR: Surviving the times - utilising your IP & related assets
DESCRIPTION:Specifically tailored to the Life Sciences Industry this webinar with Shakespeare Martineau will provide insights on how to utilise your IP and related assets during this difficult time for businesses. \nMore specifically the webinar will cover: \n– Brief introduction – what the term “intangible assets” covers by way of intellectual property and related rights (IPRs)\n– Commercial exploitation of IPRs\n– Determining the content of a business’ IPR portfolio\n– Who owns the IPRs created by an employee in the course of his/her employment?\n– Who owns the IPRs created by an external consultant or any other third party?\n– Types of commercial exploitation in relation to IPRs capable of commercial exploitation\n– Assignment including consideration of the main terms that tend to be included in any IPR assignment\n– Licensing/sub-licensing\n– Securitisation including discussion of the key issues to consider in taking security over IPRs and the nature of the main security interests taken\n– Joint ventures including discussion of the key elements to consider in any joint venture project involving IPRs \nDURATION: 1 hour \nThis free to attend webinar will be held as part of the SoLSTICE programme – a project part-funded by the European Regional Development Fund. Click here to be redirected to further information about the project. This event is classed as State Aid to participating businesses\, the value of which is £127\, but is delivered completely free of charge to participants. \nSpeaker:\n\nEd Wright\,  Partner\, Shakespeare Martineau\nEd works with clients from all sectors including life sciences and technology\, media and telecoms on wide-ranging non-contentious commercial\, contractual\, IP\, ICT\, e-commerce\, data protection\, competition and public procurement law issues.  He advises on IP creation\, ownership\, protection and exploitation\, including technology transfers\, R&D collaborations and agency\, distribution/reselling and franchising arrangements.\nEd has a keen interest in drafting/advising on IP licensing arrangements and\, whenever possible\, presents and writes on topical commercial and/or IP matters.
URL:https://staging.medilinkmidlands.com/event/survivingthetimes/
CATEGORIES:Project Event
ATTACH;FMTTYPE=image/jpeg:https://staging.medilinkmidlands.com/wp-content/uploads/2022/04/Ed_WrightBWweb-2.jpg
ORGANIZER;CN="Becky Sharpe":MAILTO:events@medilinkmidlands.com
END:VEVENT
BEGIN:VEVENT
DTSTART;TZID=Europe/London:20200609T093000
DTEND;TZID=Europe/London:20200609T130000
DTSTAMP:20260422T092047
CREATED:20191220T104157Z
LAST-MODIFIED:20191220T104157Z
UID:18040-1591695000-1591707600@staging.medilinkmidlands.com
SUMMARY:POSTPONED: Introduction to NHS Market Access
DESCRIPTION:[box type=”shadow” align=”” class=”” width=””]Due to the recent outbreak of Coronavirus (COVID-19)\, we have regrettably had to postpone this event. We will endeavour to reschedule this event as soon as possible. We sincerely apologise for this inconvenience and will update our website with further information as soon as this becomes available. If you have any questions\, please email us at info@medilinkem.com\, or call us on 0115 822 3154. [/box] \n \n  \nOur Introduction to NHS Market Access workshop gives innovators key insights into the complexities of the NHS and wider healthcare ecosystem\, as well as the support available to help you to introduce your health technology product or service. \nDelivered by EMAHSN staff\, the briefings are for small groups of companies or innovators to allow the session to be informal and interactive and for you to benefit from insider knowledge of those working in the NHS system. \nThis is the first part of a 3 workshop programme ‘Getting Ready for NHS Market Entry’\, designed to get you ready to successfully secure business with NHS Organisations. Please see below for details of part 2 & 3. \nProgramme and Speaker Profiles to follow. \nPlaces are strictly limited to one delegate per organisation. Priority will be given to SMEs. \n[popup_trigger id=”2016″ tag=”button” classes=”eventbutton”]Book Now[/popup_trigger] \n  \nNon-Attendance: should you book on Medilink East Midlands events and fail to attend on two occasions without letting us know\, we reserve the right to refuse to accept bookings from your organisation in the future. \n  \n \n  \n  \n  \nPart 2 – ‘Is your Business Case NHS Ready?’  Thursday 18 June\, Venue TBC Lincolnshire. For further details please click here. \nPart 3 – ‘Creating Valid Evidence & Evaluation for the NHS’  Wednesday 15 July\, Venue TBC Leicestershire. For further details please click here. \nAlternative Date for Part 1 (to register your interest please click here quoting which date you are interested in) \n\nThursday 6 August – Derbyshire\, Venue TBC. For further details please click here.
URL:https://staging.medilinkmidlands.com/event/8396/
LOCATION:Northamptonshire Venue TBC\, Northamptonshire
CATEGORIES:Project Event
ATTACH;FMTTYPE=image/png:https://staging.medilinkmidlands.com/wp-content/uploads/2022/04/Badge-for-EMAHSN-Events-1.png
ORGANIZER;CN="Jo Rudzki":MAILTO:info@medilinkem.com
END:VEVENT
BEGIN:VEVENT
DTSTART;TZID=Europe/London:20200611T110000
DTEND;TZID=Europe/London:20200611T120000
DTSTAMP:20260422T092047
CREATED:20200527T141027Z
LAST-MODIFIED:20200527T141027Z
UID:18201-1591873200-1591876800@staging.medilinkmidlands.com
SUMMARY:WEBINAR: Implications of COVID-19 for the Life Sciences sector
DESCRIPTION:Join Mills & Reeve partners\, James Fry and Melanie James\, for an insight into the legal and regulatory issues thrown up by the COVID-19 pandemic. James and Melanie will highlight some of the main questions facing businesses during this difficult period\, as they grapple with staffing issues\, contractual problems and regulatory turbulence. \nThis webinar will cover: \n-supply chain problems and how to improve your position\n-constraints on clinical trials and what authorities are doing to enable workarounds\n-how to maintain regulatory compliance – what flexibilities are available?\n-deferral of medical devices rule changes\n-Government schemes to support employment while controlling disease spread\n-looking beyond the crisis and planning for more normal activity to resume \nThere will also be an opportunity to directly ask questions to the presenters. \nDURATION: 1 hour \nThis free to attend webinar will be held as part of the INSTILS programme – a project part-funded by the European Regional Development Fund. Click here to be redirected to further information about the project. This event is classed as State Aid to participating businesses\, the value of which is £127\, but is delivered completely free of charge to participants. \nSpeaker Profiles \n \nJames Fry\, Head of Life Sciences and Partner – Mills & Reeve \nJames heads the firm’s fast growing\, multi-disciplinary life sciences practice and focuses exclusively on this sector. The practice supports clients in the pharma and biotech\, medical device\, diagnostic\, medtech and digital health sub-sectors. James’ own practice focuses on intellectual property\, commercial contracting and regulatory work. \n  \n Melanie James\, Partner\, Employment Lawyer – Mills & Reeve \nMelanie is the employment lawyer and has a wealth of experience supporting private sector employers\, both international and domestic\, at all stages of their lifecycle. Whilst Melanie’s practice is diverse\, she has a particular interest and focus on the Life Sciences sector. \n 
URL:https://staging.medilinkmidlands.com/event/9887/
CATEGORIES:Project Event
ATTACH;FMTTYPE=image/jpeg:https://staging.medilinkmidlands.com/wp-content/uploads/2022/04/james-fry.jpg
ORGANIZER;CN="Jo Rudzki":MAILTO:info@medilinkem.com
END:VEVENT
BEGIN:VEVENT
DTSTART;TZID=Europe/London:20200617T103000
DTEND;TZID=Europe/London:20200617T113000
DTSTAMP:20260422T092047
CREATED:20200518T115538Z
LAST-MODIFIED:20200518T115538Z
UID:18206-1592389800-1592393400@staging.medilinkmidlands.com
SUMMARY:East Midlands Academic Health Science Network Virtual Coffee Break
DESCRIPTION:A chance to meet other businesses\, share ideas and hear what’s happening from the East Midlands Academic Health Science Network Team. \nJoin EMAHSN for a virtual coffee break on Wednesday 17 June at 10.30am. \nNetworking opportunities are a key part of Medilink EM events and whilst the current COVID-19 crisis won’t allow face to face events\, we have introduced this online opportunity to enable the life sciences community to still connect with one another. In this informal gathering\, hosted by Nick Brown\, Commercial Manager at EMAHSN\, you will have the opportunity to share your current challenges and experiences and find out how the EMAHSN can help. During this coffee break we will be focusing on ‘When is the right time to approach the AHSN’. \nGrab a coffee\, a biscuit and join us. \nJoining details will provided to delegates by a member of the Medilink EM events team once the online registration form has been completed. \nIf you have any topics that you’d like to discuss in future AHSN coffee breaks\, please feel free to email any suggestions to us by clicking here. \nChairman:  \n \n  \nNick Brown\, Commercial Manager\, EMAHSN
URL:https://staging.medilinkmidlands.com/event/east-midlands-academic-health-science-network-virtual-coffee-break-2/
CATEGORIES:Project Event
ATTACH;FMTTYPE=image/png:https://staging.medilinkmidlands.com/wp-content/uploads/2022/04/Badge-for-EMAHSN-Events-1.png
ORGANIZER;CN="Becky Sharpe":MAILTO:events@medilinkmidlands.com
END:VEVENT
BEGIN:VEVENT
DTSTART;TZID=Europe/London:20200618T081500
DTEND;TZID=Europe/London:20200618T093000
DTSTAMP:20260422T092047
CREATED:20200518T105809Z
LAST-MODIFIED:20200518T105809Z
UID:18182-1592468100-1592472600@staging.medilinkmidlands.com
SUMMARY:Precision Imaging with the University of Nottingham – Webinar
DESCRIPTION:Are you working in the pharmaceuticals\, food and beverage or medical devices sector? Do you need to demonstrate mode of action\, product performance or efficacy? \nThe University of Nottingham is a world-leading centre for precision imaging and our experts are already working with companies like yours to transform healthcare and nutrition through our precision imaging technology. Innovations in the application of our imaging tools are shaping a step-change in understanding\, diagnosis and prediction of outcomes. By increasing our collaboration with companies like yours\, we seek to help you to enhance your products and services\, whilst further developing our pioneering research. \nCome and join us for this free webinar on Thursday 18th June 2020 to discover more about precision imaging for health with applications in pharmaceuticals\, food and beverage\, medical devices and biomarkers for health. You’ll have the opportunity to find out more our flagship Precision Imaging Beacon Hub in the Queen’s Medical Centre\, connect with the team and find out more about how to engage with us. \nThere are many mechanisms for engaging with the University of Nottingham’s imaging research including Knowledge Transfer Partnerships\, PhD placements\, Innovation Vouchers\, small pilot studies or large collaborative research projects\, depending on your project and needs. Our team will be happy to discuss any ideas you may have and advise what approach might be the best fit for your business. \nIn the meantime\, you can find out more about our capabilities in our brochure or follow us on Twitter and LinkedIn. \nThe agenda\n08:15 – 08:30   Join the webinar when you’re ready\n08:30 – 09:00   Presentations about the University of Nottingham’s imaging facilities and expertise \n• Welcome – Professor Dorothee Auer\n• Overview of Precision Imaging at Nottingham – Dr Luca Marciani \n09:00 – 09:15   Q&A\n09:15 – 09:30   Stay online to continue to chat with the team\n09:30                  Close \nState Aid\nThis event is part-funded by the European Regional Development Fund 2014-2020 and is part of the INSTILS project. This event is classed as State Aid to participating businesses\, the value of which is up to £254.18\, but is delivered completely free of charge to participants. \nHow to join\nDue to the ongoing social distancing restrictions\, this event will take place as a webinar. Please register by filling out the form below and the full joining instructions will be sent to you via email in the run up to the event. \nBook your place now…\nWhat are you doing with my data? \nWe will add the data you provide on this form to our Customer Relationship Management system for the purposes of administrating this event\, communicating with you about it and facilitating your company’s relationship with the University. We may also contact you about similar events in the future. \nWe are required by our funders (the European Regional Development Fund) to report which companies have attended our events as part of the INSTILS project\, which is led by Medilink EM. Your data will also therefore be shared with Medilink EM to comply with the reporting and monitoring requirements of our funders. \nFor further details on how your data is used and stored visit: https://ingenuitygateway.com/privacy-and-cookie-policy/ \nIf you have any questions about registering for this event\, please contact georgia.ames@nottingham.ac.uk.
URL:https://staging.medilinkmidlands.com/event/precision-imaging-with-the-university-of-nottingham-webinar-18-june-2020/
CATEGORIES:Project Event
ATTACH;FMTTYPE=image/jpeg:https://staging.medilinkmidlands.com/wp-content/uploads/2022/04/erdflogo2.jpg
END:VEVENT
BEGIN:VEVENT
DTSTART;TZID=Europe/London:20200618T093000
DTEND;TZID=Europe/London:20200618T130000
DTSTAMP:20260422T092047
CREATED:20191220T104436Z
LAST-MODIFIED:20191220T104436Z
UID:18041-1592472600-1592485200@staging.medilinkmidlands.com
SUMMARY:POSTPONED: Is your Business Case NHS Ready?
DESCRIPTION:[box type=”shadow” align=”” class=”” width=””]Due to the recent outbreak of Coronavirus (COVID-19)\, we have regrettably had to postpone this event. We will endeavour to reschedule this event as soon as possible. We sincerely apologise for this inconvenience and will update our website with further information as soon as this becomes available. If you have any questions\, please email us at info@medilinkem.com\, or call us on 0115 822 3154.  [/box] \n \nThe challenge as innovators and companies to the NHS\, is often that when you have a product that improves patient outcomes and saves cost\, you still cannot get it adopted by the NHS. This is often because there is not a fully developed business case. \nDelivered by EMAHSN staff\, this interactive and informative event will enable you to prepare better business case. \nDuring the event you will learn about: \n-What is a business case\, what is its purpose and why it is so important? \n-Who reviews the business case and how are they evaluated from a commissioning point of view? \n-How to construct a good business case \nThis is the second part of a 3 workshop programme ‘Getting Ready for NHS Market Entry ‘\, designed to get you ready to successfully secure business with NHS Organisations. Please see below for details of part 3. \nProgramme and Speaker Profiles to follow. \nPlaces are strictly limited to one delegate per organisation. Priority will be given to SMEs. \nNon-Attendance: should you book on Medilink East Midlands events and fail to attend on two occasions without letting us know\, we reserve the right to refuse to accept bookings from your organisation in the future.\n\n \nPart 3 – ‘Creating Valid Evidence & Evaluation for the NHS’ Wednesday 15 July\, Venue TBC\, Leicestershire. For further details please click here. \nAlternative Date for Part 2: \n\nThursday 10 September\, Northamptonshire\, Venue TBC. For further details please click here.
URL:https://staging.medilinkmidlands.com/event/is-your-business-case-nhs-ready-3/
LOCATION:Lincolnshire Venue TBC\, Lincolnshire
CATEGORIES:Project Event
ATTACH;FMTTYPE=image/png:https://staging.medilinkmidlands.com/wp-content/uploads/2022/04/Badge-for-EMAHSN-Events-1.png
ORGANIZER;CN="Becky Sharpe":MAILTO:events@medilinkmidlands.com
END:VEVENT
BEGIN:VEVENT
DTSTART;TZID=Europe/London:20200618T110000
DTEND;TZID=Europe/London:20200618T120000
DTSTAMP:20260422T092047
CREATED:20200513T133815Z
LAST-MODIFIED:20200513T133815Z
UID:18163-1592478000-1592481600@staging.medilinkmidlands.com
SUMMARY:WEBINAR: A personal account of CE marking during the COVID-19 pandemic
DESCRIPTION:This webinar tells the story of how PPE regulation was relaxed to fight the COVID-19 pandemic and the practical and personal experiences of becoming a manufacturer of protective face shields for local NHS trusts and nursing homes. \nAlongside speakers from The University of Nottingham\, Centre for Healthcare Technologies the webinar will cover: \n– Relaxation of PPE standards\, particularly EN 166\n– How this was implemented in the UK\n– Getting a COVID-19 CE mark\n– Local production for local NHS Trusts\n– What makes it personal \nPlus there will be the opportunity to ask questions. \nDURATION: 1 hour\nThis free to attend webinar will be held as part of the INSTILS programme – a project part-funded by the European Regional Development Fund. Click here to be redirected to further information about the project. This event is classed as State Aid to participating businesses\, the value of which is £127\, but is delivered completely free of charge to participants. \nSpeaker:\n\nProfessor Donal McNally\, Professor of Biomechanics\, The University of Nottingham \nDonal is Professor of Biomechanics and heads the Bioengineering Research Group at the University of Nottingham. His primary research interest is in spinal biomechanics and soft tissue biomechanics and he has been involved in the development of spinal implants\, safety legislation and other healthcare devices. Donal is Deputy Director of the Centre for Healthcare Technologies.
URL:https://staging.medilinkmidlands.com/event/webinar-a-personal-account-of-ce-marking-during-the-covid-19-pandemicnewdate/
CATEGORIES:Project Event
ATTACH;FMTTYPE=image/jpeg:https://staging.medilinkmidlands.com/wp-content/uploads/2022/04/Donal-McNally-2cropped.jpg
ORGANIZER;CN="Becky Sharpe":MAILTO:events@medilinkmidlands.com
END:VEVENT
BEGIN:VEVENT
DTSTART;TZID=Europe/London:20200624T110000
DTEND;TZID=Europe/London:20200624T120000
DTSTAMP:20260422T092047
CREATED:20200616T075103Z
LAST-MODIFIED:20200616T075103Z
UID:18223-1592996400-1593000000@staging.medilinkmidlands.com
SUMMARY:WEBINAR: Protecting Innovation in Digital Health
DESCRIPTION:Digital health brings together and builds on digital telecommunications\, data processing and storage technologies to improve patient outcomes.  Join us and Potter Clarkson at this webinar to hear about: \n– An overview on overcoming the challenges in protecting intellectual property in this space \n– Processes that can be put in place in innovative digital health companies to identify and protect their innovation \n–  A brief summary on recent medtech patent trends in Europe \n– Opportunity to ask your questions \nDURATION: 1 hour \nThis free to attend webinar will be held as part of the SoLSTICE programme – a project part-funded by the European Regional Development Fund. Click here to be redirected to further information about the project. This event is classed as State Aid to participating businesses\, the value of which is £127\, but is delivered completely free of charge to participants. \nSpeaker: \n \nDr Daniel Hudson\, UK and European Patent Attorney\, Partner at Potter Clarkson\nDaniel is a partner in the electronics and computing patent group at Potter Clarkson\, an award-winning\, top-tier firm of European patent and trade mark attorneys and IP solicitors. He works with innovative organisations to recognise and protection inventions. Dan drafts and prosecutes UK and European patent applications in the digital heath space\, and works with patent attorneys around the world to manage the international prosecution of families of patent applications. He particularly enjoys addressing the challenges involved with prosecuting related families of patent applications to obtain comprehensive protection for his clients’ inventions in view of their commercial objectives.
URL:https://staging.medilinkmidlands.com/event/webinar-protecting-innovation-in-digital-health/
CATEGORIES:Project Event
ATTACH;FMTTYPE=image/jpeg:https://staging.medilinkmidlands.com/wp-content/uploads/2022/04/Daniel20Hudson-new.jpg
ORGANIZER;CN="Becky Sharpe":MAILTO:events@medilinkmidlands.com
END:VEVENT
BEGIN:VEVENT
DTSTART;TZID=Europe/London:20200625T140000
DTEND;TZID=Europe/London:20200625T150000
DTSTAMP:20260422T092047
CREATED:20200518T135807Z
LAST-MODIFIED:20200518T135807Z
UID:18187-1593093600-1593097200@staging.medilinkmidlands.com
SUMMARY:Webinar: Materials for Virus Binding and RNA Vaccine Formations
DESCRIPTION:The coronavirus crisis has resulted in an unprecedented acceleration of efforts to develop vaccines. This webinar will cover some of the basic concepts underlying nucleic acid vaccines\, and how new materials and formulations might change the way in which vaccines are made and distributed. \nKey questions to be addressed include:\n-Why does it take so long to make a new vaccine?\n-How might DNA and RNA vaccines disrupt the current process?\n-In what ways could the SME sector contribute when vaccines have traditionally been dominated by Big Pharma?\n-What are the risks on the way? \nThe webinar will also include the opportunity to pose your questions to our presenter from the University of Nottingham.  \nDURATION: 1 hour \nPRICING: Free of charge \nThis free to attend webinar will be held as part of the INSTILS programme – a project part-funded by the European Regional Development Fund. Click here to be redirected to further information about the project. This event is classed as State Aid to participating businesses\, the value of which is £127\, but is delivered completely free of charge to participants. \nSpeaker Profile: \n \nProfessor Cameron Alexander\, Professor of Polmer Therapeutics/Royal Society Wolfson Research Merit Fellow\, School of Pharmacy\, University of Nottingham. \nCameron a Fellow of the Royal Society of Chemistry and received the UK Macro Group Medal in 2014 for contributions to polymer science. Research interests cover the use of polymers as carriers for drug\, gene and cell delivery\, with applications ranging from antimicrobial materials to cancer therapies and vaccines.
URL:https://staging.medilinkmidlands.com/event/webinar-materials-for-virus-binding-and-rna-vaccine-formations/
CATEGORIES:Project Event
ATTACH;FMTTYPE=image/jpeg:https://staging.medilinkmidlands.com/wp-content/uploads/2022/04/Cameron-Alexander.jpg
ORGANIZER;CN="Jo Rudzki":MAILTO:info@medilinkem.com
END:VEVENT
END:VCALENDAR