BEGIN:VCALENDAR
VERSION:2.0
PRODID:-//Medilink Midlands - ECPv6.15.20//NONSGML v1.0//EN
CALSCALE:GREGORIAN
METHOD:PUBLISH
X-WR-CALNAME:Medilink Midlands
X-ORIGINAL-URL:https://staging.medilinkmidlands.com
X-WR-CALDESC:Events for Medilink Midlands
REFRESH-INTERVAL;VALUE=DURATION:PT1H
X-Robots-Tag:noindex
X-PUBLISHED-TTL:PT1H
BEGIN:VTIMEZONE
TZID:Europe/London
BEGIN:DAYLIGHT
TZOFFSETFROM:+0000
TZOFFSETTO:+0100
TZNAME:BST
DTSTART:20190331T010000
END:DAYLIGHT
BEGIN:STANDARD
TZOFFSETFROM:+0100
TZOFFSETTO:+0000
TZNAME:GMT
DTSTART:20191027T010000
END:STANDARD
BEGIN:DAYLIGHT
TZOFFSETFROM:+0000
TZOFFSETTO:+0100
TZNAME:BST
DTSTART:20200329T010000
END:DAYLIGHT
BEGIN:STANDARD
TZOFFSETFROM:+0100
TZOFFSETTO:+0000
TZNAME:GMT
DTSTART:20201025T010000
END:STANDARD
BEGIN:DAYLIGHT
TZOFFSETFROM:+0000
TZOFFSETTO:+0100
TZNAME:BST
DTSTART:20210328T010000
END:DAYLIGHT
BEGIN:STANDARD
TZOFFSETFROM:+0100
TZOFFSETTO:+0000
TZNAME:GMT
DTSTART:20211031T010000
END:STANDARD
END:VTIMEZONE
BEGIN:VEVENT
DTSTART;TZID=Europe/London:20200908T110000
DTEND;TZID=Europe/London:20200908T120000
DTSTAMP:20260422T044220
CREATED:20200817T082646Z
LAST-MODIFIED:20200817T082646Z
UID:18327-1599562800-1599566400@staging.medilinkmidlands.com
SUMMARY:Webinar: How does the demise of the Privacy Shield impact Life Sciences businesses?
DESCRIPTION:[box type=”shadow” align=”” class=”” width=””]We have unfortunately had to postpone this webinar. We sincerely apologise for this inconvenience and will update our website with further information of a new date as soon as this becomes available. If you have any questions\, please email us at info@medilinkem.com\, or call us on 0115 822 3154. [/box] \nAt the end of July\, the European Court of Justice struck down the US Privacy Shield\, and although it focused on EU-US data transfers\, the ruling is already causing widespread aftershocks for international personal data transfers within the EEA. International group companies using personal data\, or even non-international organisations which are using Cloud or other service providers in non-EEA countries (such as India or elsewhere)\, need to be aware of the implications arising from the ruling. \nFor life sciences businesses\, the kinds of data that may be affected could be data about individual patients and their treatment\, clinical trial data and information about staff\, research colleagues and physicians. Organisations have become so used to working digitally that they may not even fully appreciate when international data transfers are taking place. \nJagvinder Singh Kang\, International and UK Head of IT at Mills & Reeve considers what steps you can take to protect your organisation following the ruling. \nThis webinar will be relevant to all organisations involved in international personal data transfers from within the EEA\, whether to group companies\, service providers or other organisations. \nThere will also be an opportunity to ask the presenters questions\, when Jagvinder will be joined by for a Q&A session byspecialist Life Sciences Lawyer Stephanie Caird. \nDURATION: 1 hour \nPlease note that due to privacy restrictions this webinar will NOT be recorded and the presentation slide will not be available to download. \nThis free to attend webinar will be held as part of the INSTILS programme – a project part-funded by the European Regional Development Fund. For further details please click here. This event is classed as State Aid to participating businesses\, the value of which is £127\, but is delivered completely free of charge to participants. \nSPEAKER PROFILES: \n Jagvinder Singh Kang – International and UK Head of IT (CIPP/E\, CIPM) \nJagvinder is a market leading technology lawyer. He is featured in Legal 500’s official ‘Hall of Fame’ – which Legal 500 confirms: “highlights\, to clients\, the law firm partners who are at the pinnacle of the profession.” He has been recognised for 9 consecutive years in Legal 500’s ‘Elite List of Outstanding Technology Lawyers Nationwide’\, and consistently been ranked number one for IT and technology law by Legal 500 and Chambers & Partners for the same period. Jagvinder is a specialist technology and GDPR/data protection lawyer (CIPP/E\, CIPM)\, as well as a qualified software engineer (First Class BSc (Hons) Computer Science & Software Engineering) and he has completed the academic requirements for Chartered Engineer status as well. Furthermore\, he has over 20 years of technology law expertise from having advised on billions of pounds worth of UK and international technology transactions\, involving FTSE 100\, NASDAQ listed and other world-class corporates. He has also undertaken global\, European and UK GDPR compliance projects. \n  \n \nStephanie Caird – Commercial Lawyer \nStephanie is a lawyer in the life sciences practice\, with significant experience in data protection\, intellectual property\, commercial contracting and regulatory work. She supports a wide range of clients in the pharma and biotech\, medical devices and diagnostic sectors. Stephanie has worked in-house in various life sciences organisations\, giving her a unique insight into her clients. She uses this experience to deliver pragmatic and commercial advice. A key focus of her work is supporting clients on strategic decisions influenced by the regulatory framework and contracts covering IP\, research collaborations and Brexit related intra-group arrangements.
URL:https://staging.medilinkmidlands.com/event/webinar-how-does-the-demise-of-the-privacy-shield-impact-life-sciences-businesses/
CATEGORIES:Project Event
ATTACH;FMTTYPE=image/jpeg:https://staging.medilinkmidlands.com/wp-content/uploads/2022/04/Jagvinder-Singh-Kang-scaled.jpg
END:VEVENT
BEGIN:VEVENT
DTSTART;TZID=Europe/London:20200910T103000
DTEND;TZID=Europe/London:20200910T113000
DTSTAMP:20260422T044220
CREATED:20200818T144321Z
LAST-MODIFIED:20200818T144321Z
UID:18332-1599733800-1599737400@staging.medilinkmidlands.com
SUMMARY:Webinar: Introduction to NHS Market Access
DESCRIPTION:REGISTRATION FOR THIS SESSION IS NOW CLOSED. The next date for this webinar is Wednesday 21st October. To register\, please click here. \nJoin our two-part CPD accredited virtual workshop\, Introduction to NHS Market Access\, delivered by the East Midlands Academic Health Science Network (EMAHSN). \nCombined\, the two sessions will give innovators key insights into the complexities of the NHS and wider healthcare ecosystem as well as the support available to help you to introduce your health technology product or service into the NHS. \nPART 1 is a pre-recorded 45 minute webinar that you can watch at a time convenient to you. \nThe webinar will cover: \n– The NHS Structure \n– Understanding pathways and cash flow \n– Getting your message right \n– What support you can expect from the AHSN \n—————— \nPART 2 is a live 1-hour Q&A session that will take place on Thursday 10th September. \nIn order to gain access to this live session\, delegates are required to watch the pre-recorded webinar prior to attending.  \nThe Q&A session will be held with a panel of experts from the EMAHSN and delegates will have the opportunity to ask questions directly to the team. \nThis free to attend virtual event will be held as part of the ACTIS programme – a project part-funded by the European Regional Development Fund. Click here to be redirected to further information about the project. This event is classed as State Aid to participating businesses\, the value of which is £222\, but is delivered completely free of charge to participants. \nUpon registration you will be sent a link to the pre-recorded webinar by a member of the Medilink East Midlands events team.  Joining details for the live Q&A session will be distributed separately once the webinar has been viewed.  \nSPEAKER PROFILE: \nNicholas Brown\, Commercial Manager\, East Midlands Academic Health Science Network \nNick joined the East Midlands Academic Health Science Network as Commercial Manager in 2015. Prior to this\, Nick has more than 20 years’ experience of the medical industry working with manufacturers\, distributors and clinical staff from the UK and European health sectors\, from both the sales and marketing side\, as well as in a consulting and advisory role. His Commercial Manager role focuses on building closer links between healthcare and businesses; identifying new services and products that can be introduced for the benefit of patients throughout the region – as well as marketed throughout the UK and abroad\, providing wealth creation opportunities across the East Midlands.
URL:https://staging.medilinkmidlands.com/event/introduction-to-nhs-market-access-3/
CATEGORIES:Project Event
ATTACH;FMTTYPE=image/jpeg:https://staging.medilinkmidlands.com/wp-content/uploads/2022/04/erdflogo2.jpg
ORGANIZER;CN="Jo Rudzki":MAILTO:info@medilinkem.com
END:VEVENT
BEGIN:VEVENT
DTSTART;TZID=Europe/London:20200917T103000
DTEND;TZID=Europe/London:20200917T120000
DTSTAMP:20260422T044220
CREATED:20200806T073511Z
LAST-MODIFIED:20200806T073511Z
UID:18304-1600338600-1600344000@staging.medilinkmidlands.com
SUMMARY:WEBINAR: Infectious Diseases Special Interest Group (SIG) - Infection Control during COVID-19: Masks\, hands and surfaces
DESCRIPTION:The next Infectious Diseases Special Interest Group will take place online and the focus will be on Infection Control during COVID-19: Masks\, hands and surfaces. \nThis event is in partnership with De Montfort University and led by Dr Katie Laird\, Reader in Microbiology and also Head of the Infectious Disease Research Group at De Montfort University. Presentations will be given on: \n– Masking the masses: Efficacy and controversies of face masks\n– Surface Disinfection\, hand sanitation and COVID-19.  What have we done\, and what should we have done?\n– Supporting the NHS during COVID-19 \nDURATION: 1.5 hours \nThis free to attend event is held as part of the SoLSTICE programme – a project part-funded by the European Regional Development Fund\, click here to be re-directed to further information about the project. This event is classed as State Aid to participating businesses\, the value of which is £190\, but is delivered completely free of charge to participants. \nSpeaker Profiles: \n\nDr Katie Laird\, Head of the Infectious Disease Research Group at Leicester School of Pharmacy\, De Montfort University \nKatie has a BSc (Hons) in Biology and obtained a PhD in applied microbiology in 2008. During her PhD she developed and patented an essential oil based antimicrobial vapour\, whilst her postdoctoral work included the assessment of natural antimicrobials efficacy against post-harvest pathogens.\nHer research interests include the use of natural products as antimicrobials in particular to combat hospital acquired infections and biofilms.  Her other area of research includes the assessment of healthcare laundry as a potential route of cross contamination in the clinical arena. \n \nDr Maitreyi Shivkumar\, Lecturer in Molecular Biology at Leicester School of Pharmacy\, De Montfort University\nMaitreyi is a virologist and lecturer in De Montfort University. Her research has focussed on host-pathogen interactions in the context of entry and transmission of viruses. She has recently established her lab at the Leicester School of Pharmacy\, where she is working on developing broad-spectrum antivirals as well as investigating infection control strategies against coronaviruses. \n\nDr Andrew Kemp\, Principal Scientific Officer\, Q Technologies\nAndrew holds a PhD in surface disinfection and decontamination. His specialist area of research is testing for bio burden\, long term disinfection and decontamination. Dr Kemp consults for BICSc\, governments\, private organisations and companies. He is regarded as a global expert in his specialist area of work\, undertaking research at the University of Lincoln and the University of Baltimore. He is a member of the steering group for the UK Infectious Diseases Research group. He recently completed writing the environmental cleaning and disinfection guide and standards for the UK NHS Improvement organisation. \n\nLinda Knight\, Training Specialist\, Pal International\nLinda has worked in medical consumables for over 25 years as a business development manger and specialist trainer primarily in the infection prevention sphere. Linda currently works for Pal International in the MediPal division. She has a keen interest in cooking having trained as a chef and loves to spend time with her grandchildren.
URL:https://staging.medilinkmidlands.com/event/webinar-infectious-diseases-special-interest-group-sig-infection-control-during-covid-19-masks-hands-and-surfaces/
CATEGORIES:Project Event
ATTACH;FMTTYPE=image/jpeg:https://staging.medilinkmidlands.com/wp-content/uploads/2022/04/Katie-Laird.jpg
ORGANIZER;CN="Becky Sharpe":MAILTO:events@medilinkmidlands.com
END:VEVENT
BEGIN:VEVENT
DTSTART;TZID=Europe/London:20200922T103000
DTEND;TZID=Europe/London:20200922T113000
DTSTAMP:20260422T044220
CREATED:20200818T151840Z
LAST-MODIFIED:20200818T151840Z
UID:18333-1600770600-1600774200@staging.medilinkmidlands.com
SUMMARY:Webinar: Is your Business Case NHS Ready?
DESCRIPTION:Join the second of our two-part CPD accredited virtual workshops\, Is your Business Case NHS Ready?\, delivered by the East Midlands Academic Health Science Network (EMAHSN). \nThe challenge as innovators and companies selling to the NHS is often that when you have a product that improves patient outcomes and saves cost you still cannot get it adopted by the NHS. This is frequently because there isn’t a fully developed business case. \nPART 1 is a pre-recorded 40 minute webinar that you can watch at a time convenient to you. \nThe webinar will cover: \n– What a business case is\, what is its purpose and why is it so important? \n– Who reviews the business case and how are they evaluated? \n– How to construct a good business case \n—————— \nPART 2 is a live 1-hour Q&A session that will take place on Tuesday 22nd September. \nIn order to gain access to this live session\, delegates are required to watch the pre-recorded webinar prior to attending.  \nThe Q&A session will be held with a panel of experts from the EMAHSN and delegates will have the opportunity to ask questions directly to the team. \nUpon registration you will be sent a link to the pre-recorded webinar by a member of the Medilink East Midlands events team.  Joining details for the live Q&A session will be distributed separately once the webinar has been viewed.  \nSPEAKER PROFILE: \n Nicholas Brown\, Commercial Manager\, East Midlands Academic Health Science Network \nNick joined the East Midlands Academic Health Science Network as Commercial Manager in 2015. Prior to this\, Nick has more than 20 years’ experience of the medical industry working with manufacturers\, distributors and clinical staff from the UK and European health sectors\, from both the sales and marketing side\, as well as in a consulting and advisory role. His Commercial Manager role focuses on building closer links between healthcare and businesses; identifying new services and products that can be introduced for the benefit of patients throughout the region – as well as marketed throughout the UK and abroad\, providing wealth creation opportunities across the East Midlands.
URL:https://staging.medilinkmidlands.com/event/webinar-is-your-business-case-nhs-ready/
CATEGORIES:Project Event
ATTACH;FMTTYPE=image/png:https://staging.medilinkmidlands.com/wp-content/uploads/2022/04/Badge-for-EMAHSN-Webinars.png
ORGANIZER;CN="Jo Rudzki":MAILTO:info@medilinkem.com
END:VEVENT
BEGIN:VEVENT
DTSTART;TZID=Europe/London:20200923T110000
DTEND;TZID=Europe/London:20200923T120000
DTSTAMP:20260422T044220
CREATED:20200212T133227Z
LAST-MODIFIED:20200212T133227Z
UID:18064-1600858800-1600862400@staging.medilinkmidlands.com
SUMMARY:Webinar: Precision Imaging- transforming healthcare and nutrition with pioneering imaging
DESCRIPTION:Join this webinar with the University of Nottingham where they will showcase the latest developments and capabilities in precision imaging. \nTopics will include innovations in the application of imaging tools to:\n-Pharmaceuticals\n-Nutrition in food and beverages\n-Medical Devices\n-Biomarkers for health \nThere will also be an opportunity to ask your questions directly to the presenters in a Q&A session. \nA wide range of available expertise will be explored from medicine\, physics\, mathematics\, psychology\, life sciences and computer sciences. Information will also be presented on the facilities dedicated to research full time\, so you can find facilities and expertise to help with your product development. \nThis free to attend event is held as part of the INSTILS programme – a project part-funded by the European Regional Development Fund\, click here to be re-directed to further information about the project.  This event is classed as State Aid to participating businesses\, the value of which is £127\, but is delivered completely free of charge to participants. \nSpeaker Profiles: \nProfessor Dorothee Auer\, Professor of Neuroimaging\, MD\, PhD  \nDirector\, Precision Imaging Beacon of Excellence\, Imaging Theme Lead\, NIHR ~Nottingham BRC \nDorothee’s research interest is to develop imaging biomarkers in Clinical Neurosciences using advanced MRI techniques. Aims are: (1)understand the pathophysiology of diseases/complex symptoms across diseases\, (2)improve diagnostic accuracy\, (3)predict and assess therapeutic interventions. Methods include MR proton spectroscopy\, diffusion tensor imaging\, perfusion\, relaxometry\, high resolution carotid imaging and combined electrophysiological/fMRI. \nProfessor Luca Marciani\, Precision Imaging Beacon\, Industrial Strategy and Business Engagement Lead\, University of Nottingham \nLuca’s expertise is in imaging the human gastrointestinal (GI) tract using MRI. His research focuses on GI physiology/pathology using MRI combined with other techniques. Luca is interested in in-body imaging of foods\, beverages\, dosage forms and formulations\, intestinal fluid distribution and developing novel MRI tests for GI motility and transit. \n  \n 
URL:https://staging.medilinkmidlands.com/event/precision-imaging-transforming-healthcare-and-nutrition-with-pioneering-imaging/
CATEGORIES:Project Event
ATTACH;FMTTYPE=image/jpeg:https://staging.medilinkmidlands.com/wp-content/uploads/2022/04/Dorothee-Auer.jpg
ORGANIZER;CN="Jo Rudzki":MAILTO:info@medilinkem.com
END:VEVENT
BEGIN:VEVENT
DTSTART;TZID=Europe/London:20200924T103000
DTEND;TZID=Europe/London:20200924T120000
DTSTAMP:20260422T044220
CREATED:20200819T071659Z
LAST-MODIFIED:20200819T071659Z
UID:18317-1600943400-1600948800@staging.medilinkmidlands.com
SUMMARY:WEBINAR: AI and Smart-Tech in the Home
DESCRIPTION:This webinar will explore AI and Smart-Tech in the Home\, take the opportunity to hear from Research Associates and Industry on this topic.  This event is in partnership with The Open University Faculty of Wellbeing\, Education and Language Studies. \nThe presenters will cover: \n– The MK:Smart programme\, a smart city initiative update and future directions for the smart city using the example of a hypothetical smart project using robots to encourage people to engage in active travel\, supporting healthy ageing and reducing social isolation \n– Hear from Pantri\, a company who embed AI into home appliances \n– Home assistance robots \n– A brief historical overview of robotic assistants plus overview of ‘Gatekeeper’ project including details on the application and it’s functionalities \nDURATION: 1.5 hours \nThis free to attend event is held as part of the ACTIS programme – a project part-funded by the European Regional Development Fund\, click here to be re-directed to further information about the project. This event is classed as State Aid to participating businesses\, the value of which is £190\, but is delivered completely free of charge to participants. \nSpeaker Profiles:\n\nGaynor Henry-Edwards\, Research Manager\, Faculty of Wellbeing\, Education and Language Studies – The Open University \nGaynor manages the Health and Wellbeing Strategic Research Area at The Open University. The Strategic Research Area supports\, coordinates and promotes health and wellbeing research across the university. Open University researchers conduct research in health and wellbeing across various disciplines and areas including healthcare management\, ageing studies\, reproductive and sexual rights\, assistive technologies\, patient data management\, mental health and biological health sciences. The scope of University expertise ranges from the science underpinning health and disease through to the medical humanities. The Open University is committed to working towards social justice specialising in participative and inclusive research methods with marginalised and vulnerable communities. \n\nMiguel Valdez\, Lecturer in Technology and Innovation Management\, School of Engineering and Innovation – The Open University\nMiguel began his career as a software engineer\, went on to become a technology journalist and is currently working as a Research Associate in the School of Engineering and Innovation at the Open University. His doctoral research interrogated sustainable transport pilots in Milton Keynes\, with a particular focus on the sensemaking activities that took place in organisations. He further developed this understanding of cities as experimental spaces within the transport work package of MK:Smart\, a £16 million smart city programme. Through his research\, Miguel has explored the role of innovative technologies in envisioned and developing future urban environments. His research has drawn insights from urban geography and innovation studies to interrogate how the experimental spaces in cities may facilitate the development of new knowledge about sustainable innovation\, and on how such knowledge coalesce and travel. \n\nTom Cooper\, CEO\, Pantri\nTom is the CEO and founder of Pantri – a new platform which aims to make the new breed of WiFi connected kitchen appliances shop for repeat purchases automatically.  He is considered a thought leader in the smart kitchen industry\, with regular appearances in industry publications where he shares his views on how over the next 10 years\, a lot of the weekly shop is going to become a lot easier and automated thanks to exciting new IoT and AI breakthroughs. \n\nGianluca Bardaro\, Research Associate\, Knowledge Media Institute – The Open University \nGianluca’s area of research is robotic software development. In particular\, he is interested in how to enhance the existing tools and approaches to streamline the development process and achieve more complex\, robust and functionality-rich robot applications. Currently\, he is involved in the GATEKEEPER European project\, as a task leader. As part of this project\, his aim is developing a robotic assistant which operates within a smart home environment and which is capable of addressing the healthcare needs of elderly people.
URL:https://staging.medilinkmidlands.com/event/webinar-ai-and-smart-tech-in-the-home/
CATEGORIES:Project Event
ATTACH;FMTTYPE=image/jpeg:https://staging.medilinkmidlands.com/wp-content/uploads/2022/04/GaynorHenryEdwards_OU.jpg
ORGANIZER;CN="Becky Sharpe":MAILTO:events@medilinkmidlands.com
END:VEVENT
BEGIN:VEVENT
DTSTART;TZID=Europe/London:20200930T110000
DTEND;TZID=Europe/London:20200930T120000
DTSTAMP:20260422T044220
CREATED:20200902T133927Z
LAST-MODIFIED:20200902T133927Z
UID:18346-1601463600-1601467200@staging.medilinkmidlands.com
SUMMARY:WEBINAR: Clinical Trial - Design or Disaster?
DESCRIPTION:Join this ‘Clinical Trial – Design or Disaster?’ webinar to hear from Afortori Development and Simplified Data. This one hour webinar will explore: \n– Why is diligent and robust trial design needed?\n– What does it need to prove?\n– How complex does it need to be?\n– What kind of analysis needs to be undertaken? \nAttend to learn about the above and take the opportunity to get your questions answered by the experts. \nDURATION: 1 hour \nThis free to attend event is held as part of the SoLSTICE programme – a project part-funded by the European Regional Development Fund\, click here to be re-directed to further information about the project. This event is classed as State Aid to participating businesses\, the value of which is £127\, but is delivered completely free of charge to participants. \nSpeaker Profiles:\n\nDanielle Bodicoat\, Medical Statistics & Writing Consultant\, Simplified Data\nDanielle has over 12 years of experience as a medical statistician and writer with extensive experience of designing\, conducting and analysing clinical trials. She began her career researching the causes of breast cancer at the Institute of Cancer Research (University of London). She then went on to be a researcher and lecturer at the University of Leicester\, with a focus on diabetes. After a period working at Walgreens Boots Alliance to gain industry experience\, Danielle set up Simplified Data in 2019.  Danielle has a wealth of research\, statistics and writing experience. Danielle has particular expertise in diabetes and cardiovascular disease trials. Danielle has a PhD in Epidemiology\, MSc in Medical Statistics (Distinction) and BSc in Mathematics with Statistics (1st Class). \nNicola Wall \, along with Elizabeth Ralph founded Afortiori Development after long careers in clinical research within a variety of roles. Both bring a commitment to well designed and successfully executed clinical trials. \n\nDr Nicola Wall\, Chief Executive Officer\, Afortori Development  \n\nElizabeth Ralph\, Chief Operating Officer\, Afortori Development \n\nCharlotte Culver\, Clinical Project Leader\, Afortori Development\nCharlotte has a strong project management background in clinical research Phases I-V while delivering both commercial and non-commercial research throughout her career to produce quality results.\nShe is experienced in both pharmaceutical and device trials across several disease areas throughout the lifecycle of the project\, in collaboration with key pharmaceutical and device companies in the industry.\nHer proven project management track record provides her with the tools to deliver excellence and detailed delivery in clinical\, regulatory\, and financial aspects of clinical research.\nThroughout her research career\, she has worked on projects internationally\, as either multicentered or single-centre as lead. \n 
URL:https://staging.medilinkmidlands.com/event/webinar-clinical-trial-design-or-disaster/
CATEGORIES:Project Event
ATTACH;FMTTYPE=image/jpeg:https://staging.medilinkmidlands.com/wp-content/uploads/2022/04/Danielle-Bodicoat.jpg
ORGANIZER;CN="Becky Sharpe":MAILTO:events@medilinkmidlands.com
END:VEVENT
END:VCALENDAR