BEGIN:VCALENDAR
VERSION:2.0
PRODID:-//Medilink Midlands - ECPv6.15.20//NONSGML v1.0//EN
CALSCALE:GREGORIAN
METHOD:PUBLISH
X-ORIGINAL-URL:https://staging.medilinkmidlands.com
X-WR-CALDESC:Events for Medilink Midlands
REFRESH-INTERVAL;VALUE=DURATION:PT1H
X-Robots-Tag:noindex
X-PUBLISHED-TTL:PT1H
BEGIN:VTIMEZONE
TZID:Europe/London
BEGIN:DAYLIGHT
TZOFFSETFROM:+0000
TZOFFSETTO:+0100
TZNAME:BST
DTSTART:20160327T010000
END:DAYLIGHT
BEGIN:STANDARD
TZOFFSETFROM:+0100
TZOFFSETTO:+0000
TZNAME:GMT
DTSTART:20161030T010000
END:STANDARD
BEGIN:DAYLIGHT
TZOFFSETFROM:+0000
TZOFFSETTO:+0100
TZNAME:BST
DTSTART:20170326T010000
END:DAYLIGHT
BEGIN:STANDARD
TZOFFSETFROM:+0100
TZOFFSETTO:+0000
TZNAME:GMT
DTSTART:20171029T010000
END:STANDARD
BEGIN:DAYLIGHT
TZOFFSETFROM:+0000
TZOFFSETTO:+0100
TZNAME:BST
DTSTART:20180325T010000
END:DAYLIGHT
BEGIN:STANDARD
TZOFFSETFROM:+0100
TZOFFSETTO:+0000
TZNAME:GMT
DTSTART:20181028T010000
END:STANDARD
END:VTIMEZONE
BEGIN:VEVENT
DTSTART;TZID=Europe/London:20170701T130000
DTEND;TZID=Europe/London:20170701T160000
DTSTAMP:20260425T023347
CREATED:20171016T092003Z
LAST-MODIFIED:20171016T092003Z
UID:17688-1498914000-1498924800@staging.medilinkmidlands.com
SUMMARY:The Ear Foundation Annual Open Day
DESCRIPTION:Join the Ear Foundation for their family open day- an opportunity to learn more about their services\, meet the team and meet the manufacturers whilst enjoying food\, entertainment and games! \nThe day will include: \n\nBBQ\nMagic Show\nCakes\nRaffle\nArts and Crafts\nTombola\nBouncy Castle\nFace Painting\n\nPlus FREE Hearing screening and Hearing aid repairs. \nIf you are able to donate anything to help on the day\, or you’d like to attend\, please contact Jo Collinson at The Ear Foundation.
URL:https://staging.medilinkmidlands.com/event/the-ear-foundation-annual-open-day/
LOCATION:The Ear Foundation\, Marjorie Sherman House\, 83 Sherwin Road\, Nottingham\, NG7 2FB\, United Kingdom
END:VEVENT
BEGIN:VEVENT
DTSTART;TZID=Europe/London:20170706T093000
DTEND;TZID=Europe/London:20170706T133000
DTSTAMP:20260425T023347
CREATED:20171016T092143Z
LAST-MODIFIED:20171016T092143Z
UID:17689-1499333400-1499347800@staging.medilinkmidlands.com
SUMMARY:MPD Training Course: The Challenges and Heartaches of Clinical Trials
DESCRIPTION:Join Medilink West Midlands and industry expert Alex Toft for an insight into Clinical Trials\, scientific advice and the challenges that you may come up against. This workshop will help you to overcome these challenges\, so come along with any questions you may have for the Q&A session at the end. \nCovered topics will include: \n  \n\nA brief overview of the various phases of clinical trials\nScientific advice and the different approaches of the FDA and EMA- mitigating strategies\nThe pitfalls and challenges with your hospital selections and appointments; here and overseas\nThe curved balls from your toxicological programme and the challenges\nMaking sure you are CMC ready to support your trials\nAnecdotal ethical committee challenge in overseas markets\nYour CRO – friend or foe\n\nBooking \nMedilink Members: £10\nNon-members: £25 \nFor more information or to register your place\, please click here.
URL:https://staging.medilinkmidlands.com/event/mpd-training-course-the-challenges-and-heartaches-of-clinical-trials/
LOCATION:Millenium Point\, Curzon Street\, Birmingham\, B4 7XG\, United Kingdom
ORGANIZER;CN="Vanessa Bailey":MAILTO:vanessab@medilinkwm.co.uk
END:VEVENT
BEGIN:VEVENT
DTSTART;TZID=Europe/London:20170706T150000
DTEND;TZID=Europe/London:20170706T160000
DTSTAMP:20260425T023347
CREATED:20171016T094653Z
LAST-MODIFIED:20171016T094653Z
UID:17692-1499353200-1499356800@staging.medilinkmidlands.com
SUMMARY:Webinar: The importance of dose prediction for early drug development
DESCRIPTION:XenoGesis is joining forces with Juniper Pharma Services to present a webinar on the importance of dose prediction for early drug development. \nGaining a thorough understanding of the chemical and pharmacological attributes of a drug substance through preclinical studies is paramount for providing an effective dosage form for first-in-human clinical trials. Yet often insufficient consideration is given to ‘knowing the compound’ before selecting a presentation for clinical evaluation. In particular\, an accurate prediction of an appropriate dose range is vitally important for adopting the most appropriate formulation strategy for the compound. If the formulation is not suitable to deliver the required quantity of the drug then the outcome of the clinical trial may be compromised. \nJuniper Pharma Services and XenoGesis work together successfully to provide an integrated biopharmaceutics service offering. The unique combined approach helps to remove the gap between ‘chemical’ and ‘biological’ to provide the most effective drug delivery solutions. \nGraham Trevitt joins Rob Harris to provide an insight into how our joint\, consultative approach to drug development can help in understanding the absorption and clearance characteristics of a drug substance and how these properties will influence dose prediction and selection of an appropriate formulation strategy. \nTo find out more or register for the webinar\, please click here.
URL:https://staging.medilinkmidlands.com/event/webinar-the-importance-of-dose-prediction-for-early-drug-development/
END:VEVENT
BEGIN:VEVENT
DTSTART;TZID=Europe/London:20170707T090000
DTEND;TZID=Europe/London:20170707T170000
DTSTAMP:20260425T023347
CREATED:20171016T084630Z
LAST-MODIFIED:20171016T084630Z
UID:17684-1499418000-1499446800@staging.medilinkmidlands.com
SUMMARY:Regmed Europe
DESCRIPTION:Get registered to meet key European stakeholders in the field of regenerative medicine! \nWhy participate? \n  \n\nGet information about the ongoing regenerative medicine issues\nLearn about the major European ecosystems\nGet the chance to present your innovative projects\nMeet the European actors in your field and build international partnerships\n\nTarget audience: companies\, universities\, research organisations and patient assoiations from Europe and beyond \nMain topics: Cell therapy\, gene therapy\, biomaterials and tissue engineering \nTo find out more information or register your free place\, please click here.
URL:https://staging.medilinkmidlands.com/event/regmed-europe/
LOCATION:Cité Internationale Universitaire de Paris\, 17 Boulevard Jourdan\, Paris\, 75014\, France
END:VEVENT
BEGIN:VEVENT
DTSTART;TZID=Europe/London:20170711T080000
DTEND;TZID=Europe/London:20170711T170000
DTSTAMP:20260425T023347
CREATED:20171016T095927Z
LAST-MODIFIED:20171016T095927Z
UID:17694-1499760000-1499792400@staging.medilinkmidlands.com
SUMMARY:Enhancing wellbeing\, transforming lives together
DESCRIPTION:Attend this exciting event to develop new research ideas to improve older people’s wellbeing. \nWho is the event for? \nAnyone with an interest in transforming the lives of older people: researchers\, clinicians\, older people and their carers and companies/organisations who provide support and services. \nWhat will happen? \nYou will work together in interdisciplinary teams to develop ideas for new research to improve the health and wellbeing of older people. These ideas will be judged by an expert panel\, and at the end of the day the successful people will be awarded seed-corn funding to begin this research. \nTo register for this event or you would like further information\, please email Katie Bell or call 0116 201 3881.
URL:https://staging.medilinkmidlands.com/event/enhancing-wellbeing-transforming-lives-together/
LOCATION:King Power Stadium\, Leicester City Football Club\, Filbert Way\, Leicester\, LE2 7FL\, United Kingdom
END:VEVENT
BEGIN:VEVENT
DTSTART;TZID=Europe/London:20170713T080000
DTEND;TZID=Europe/London:20170713T183000
DTSTAMP:20260425T023347
CREATED:20171013T141433Z
LAST-MODIFIED:20171013T141433Z
UID:17668-1499932800-1499970600@staging.medilinkmidlands.com
SUMMARY:ON Helix
DESCRIPTION:One of the key issues described by many researchers is how to overcome the innovation gaps on the translational research pathway. This includes identifying barriers on which to concentrate\, finding funding and meeting the right networks. \nON Helix is a must-attend translational research conference for the life science industry and academia. This one day event aims to inform delegates of how to turn early stage inventions and ideas into innovative health treatments. It will present the UK landscape of the business environment\, funding\, scientific and clinical research excellence and will be a unique knowledge-sharing environment between academia and business. It will combine keynote presentations from high profile global leaders\, practical information\, exceptional world class case studies and plenty of space for networking. \nWhy should I attend? \nAs the largest membership organisation in Europe for the sector\, One Nucleus has very strong engagement with the life science and healthcare sector nationally and internationally so is perfectly placed to ensure the attendance and engagement of key stakeholders in translational research. The feedback both from our exceptional Advisory Board and widely throughout the business and academic community has been unanimously positive about this event – its concept\, objectives and the platform it will create. \nWho should attend? \n  \n\n\nBiotech and healthcare company senior executives\nAcademic technology transfer executives\nPharma business and research development directors\nLife science investors\nTechnical and professional service providers\nScientists working in translational research or medicine\n\nThe following key-note speakers have been announced: \n  \n\nSharon Vosmek\, CEO\, Astia\nDavid Tapolczay\, CEO\, MRC Technology\nSara-Jane Dunn\, Microsoft\n\nTo view further information including the full event programme\, delegate fees and how to regsiter\, please click here. \n*SPECIAL OFFER* Medilink members can receive a 10% off the standard ticket price; please contact us here for a discount code.
URL:https://staging.medilinkmidlands.com/event/on-helix/
LOCATION:Wellcome Genome Campus Conference Centre\, Hinxton\, Cambridge\, CB10 1SA
END:VEVENT
BEGIN:VEVENT
DTSTART;TZID=Europe/London:20170714T180000
DTEND;TZID=Europe/London:20170714T230000
DTSTAMP:20260425T023347
CREATED:20171016T094537Z
LAST-MODIFIED:20171016T094537Z
UID:17691-1500055200-1500073200@staging.medilinkmidlands.com
SUMMARY:MediWales 25th Anniversary Party
DESCRIPTION:MediWales members and invited guests are very welcome to join MediWales for their Silver Anniversary. The party will be held at the Novotel in Cardiff on Friday 14 July from 6pm until late. \nIt’s free to attend but please register online – you can do so here.
URL:https://staging.medilinkmidlands.com/event/mediwales-25th-anniversary-party/
LOCATION:Novotel Cardiff\, Schooner Way\, Cardiff\, CF10 4RT
END:VEVENT
BEGIN:VEVENT
DTSTART;TZID=Europe/London:20170718T093000
DTEND;TZID=Europe/London:20170718T123000
DTSTAMP:20260425T023347
CREATED:20171016T104409Z
LAST-MODIFIED:20171016T104409Z
UID:17702-1500370200-1500381000@staging.medilinkmidlands.com
SUMMARY:NHS England's Innovation & Technology Payment (ITP) - A clear route to market for industry
DESCRIPTION:Find out how the NHS can fast-track commissioning of YOUR MedTECH\, diagnostic or digital technology and gain accelerated uptake for your innovation. \nFollowing the announcement of NHS England’s new ‘Innovation & Technology Payment (ITP)’ that will help NHS Trusts and CCGs to quickly spread new evidence-based innovations from the MedTech\, diagnostic and digital sectors across primary\, secondary and mental health care from April 2018 for a period of one year\, this event will provide an opportunity to learn more about the ITP and the clear ‘route to market’ it will provide for industry. \nWhy should I attend? \n-Find out how your product might become an ITP product\n-Find out how your business can apply to the ITP\n-Meet the successful ITT NIA Fellows\n-Hear from Rob Chesters Innovation Lead at NHS England\, lead for the ITP programme\n-Learn more about the medical devices and digital platforms that will be eligible to apply \nTo find out more and to book your free place\, please click here. \n\n 
URL:https://staging.medilinkmidlands.com/event/nhs-englands-innovation-technology-payment-itp-a-clear-route-to-market-for-industry/
LOCATION:Canalside\, The Cube\, Mailbox District\, Birmingham\, B1 1RN
ORGANIZER;CN="Vanessa Bailey":MAILTO:vanessab@medilinkwm.co.uk
END:VEVENT
BEGIN:VEVENT
DTSTART;TZID=Europe/London:20170720T080000
DTEND;TZID=Europe/London:20170720T170000
DTSTAMP:20260425T023347
CREATED:20171016T102237Z
LAST-MODIFIED:20171016T102237Z
UID:17696-1500537600-1500570000@staging.medilinkmidlands.com
SUMMARY:Preparing for the General Data Protection Regulation - What you should be doing now
DESCRIPTION:All businesses need to prepare themselves for when the General Data Protection Regulation (GDPR) comes in to force in 2018 and it will completely change how companies can use their business data. \nJoin us at this breakfast event for a great opportunity to find out about what you should be doing. \nThis event will be hosted and presented by one of our patron members; Shakespeare Martineau\, the event will specifically include: \n– Reasons for the new Regulation\n– Key concepts provided for by the new Regulation\n– Differences with DPA regime\n– Practical impact on businesses/employersSee the confirmed programme and speaker profile on the links below.\n\n\n\nEvent Documents\n\nProgramme\nSpeaker Biographies\nDelegate List
URL:https://staging.medilinkmidlands.com/event/preparing-for-the-general-data-protection-regulation-what-you-should-be-doing-now/
LOCATION:Shakespeare Martineau Offices\, Waterfront House\, 35 Station Street\, Nottingham\, NG2 3DQ
ATTACH;FMTTYPE=image/jpeg:https://staging.medilinkmidlands.com/wp-content/uploads/2022/04/cpd_certified_rgb-1-1-small.jpg
ORGANIZER;CN="Becky Brown":MAILTO:info@medilinkem.com
END:VEVENT
BEGIN:VEVENT
DTSTART;TZID=Europe/London:20170725T093000
DTEND;TZID=Europe/London:20170725T153000
DTSTAMP:20260425T023347
CREATED:20171016T091531Z
LAST-MODIFIED:20171016T091531Z
UID:17687-1500975000-1500996600@staging.medilinkmidlands.com
SUMMARY:Tapping into the Chinese Market
DESCRIPTION:This International Trade workshop will provide you with the opportunities and information to make entering the Chinese market possible. The workshop will present a model for how businesses can access the Chinese market whilst keeping risk to a minimum. This model will help to identify appropriate Chinese partners and investors\, provide advice and support on the medical sector and give access to office\, R&D and manufacturing facilities. \nCovered topics will include: \n  \n\nAn introduction to the Chinese medical sector\nThe drivers (central and regional policy\, demographics etc) behind the expanding medical sector\nOpportunities for British companies\nDoing business in China\nIdentifying the support available\n\nDelegate Fees: \nMedilink members: FREE\nNon-members: £25 \nThis workshop is designed for companies interested in exploring business opportunities in China. To book onto this event and for more information please click here.
URL:https://staging.medilinkmidlands.com/event/tapping-into-the-chinese-market-2/
LOCATION:Millenium Point\, Curzon Street\, Birmingham\, B4 7XG\, United Kingdom
ORGANIZER;CN="Vanessa Bailey":MAILTO:vanessab@medilinkwm.co.uk
END:VEVENT
BEGIN:VEVENT
DTSTART;TZID=Europe/London:20170726T093000
DTEND;TZID=Europe/London:20170726T134500
DTSTAMP:20260425T023347
CREATED:20171016T103725Z
LAST-MODIFIED:20171016T103725Z
UID:17699-1501061400-1501076700@staging.medilinkmidlands.com
SUMMARY:Technology Collaboration Workshop: SBRI Healthcare Funding for Cancer Screening & Diagnosis
DESCRIPTION:Attend this interactive Technology Collaboration Workshop in Nottingham and find out about the SBRI Healthcare Funding for Cancer Screening & Diagnosis.  This workshop will provide: \n– An introduction to SBRI Healthcare\n– Details of the cancer call\n– Sandpit discussion\n– Summary and discussion on possible SME bids\n– The opportunity to hear about the support that is available to SMEs through Medilink East Midlands from the European Regional Development Fund (ERDF) \nThis free to attend event is being held as part of the INSTILS programme – a project part-funded by the European Regional Development Fund\, click here to be re-directed to further information about the project. \nFor more information\, click on the programme and speaker profiles below. \nThe workshop will be delivered in partnership with SBRI Healthcare and the East Midlands Academic Health Network. \nEvent Documents: \nProgramme\nSpeaker Biographies\nDelegate List
URL:https://staging.medilinkmidlands.com/event/technology-collaboration-workshop-sbri-healthcare-funding-for-cancer-screening-diagnosis/
LOCATION:Park Inn Nottingham\, Mansfield Road\, Nottingham\, NG5 2BT\, United Kingdom
ATTACH;FMTTYPE=image/jpeg:https://staging.medilinkmidlands.com/wp-content/uploads/2022/04/erdflogo2.jpg
ORGANIZER;CN="Becky Brown":MAILTO:info@medilinkem.com
END:VEVENT
END:VCALENDAR