BEGIN:VCALENDAR
VERSION:2.0
PRODID:-//Medilink Midlands - ECPv6.15.20//NONSGML v1.0//EN
CALSCALE:GREGORIAN
METHOD:PUBLISH
X-ORIGINAL-URL:https://staging.medilinkmidlands.com
X-WR-CALDESC:Events for Medilink Midlands
REFRESH-INTERVAL;VALUE=DURATION:PT1H
X-Robots-Tag:noindex
X-PUBLISHED-TTL:PT1H
BEGIN:VTIMEZONE
TZID:Europe/London
BEGIN:DAYLIGHT
TZOFFSETFROM:+0000
TZOFFSETTO:+0100
TZNAME:BST
DTSTART:20160327T010000
END:DAYLIGHT
BEGIN:STANDARD
TZOFFSETFROM:+0100
TZOFFSETTO:+0000
TZNAME:GMT
DTSTART:20161030T010000
END:STANDARD
BEGIN:DAYLIGHT
TZOFFSETFROM:+0000
TZOFFSETTO:+0100
TZNAME:BST
DTSTART:20170326T010000
END:DAYLIGHT
BEGIN:STANDARD
TZOFFSETFROM:+0100
TZOFFSETTO:+0000
TZNAME:GMT
DTSTART:20171029T010000
END:STANDARD
BEGIN:DAYLIGHT
TZOFFSETFROM:+0000
TZOFFSETTO:+0100
TZNAME:BST
DTSTART:20180325T010000
END:DAYLIGHT
BEGIN:STANDARD
TZOFFSETFROM:+0100
TZOFFSETTO:+0000
TZNAME:GMT
DTSTART:20181028T010000
END:STANDARD
END:VTIMEZONE
BEGIN:VEVENT
DTSTART;TZID=Europe/London:20170905T090000
DTEND;TZID=Europe/London:20170905T163000
DTSTAMP:20260424T231506
CREATED:20171016T105059Z
LAST-MODIFIED:20171016T105059Z
UID:17704-1504602000-1504629000@staging.medilinkmidlands.com
SUMMARY:MPD Training Course: European Medical Device Directive (MDD) Basics and Transition to the Medical Device Regulation (MDR)
DESCRIPTION:This one day training course by Medilink East Midlands together with Medical Device Consultancy (MDC) will be an excellent opportunity to learn about the European MDD and MDR basics and the differences between the two. \nFind out what impact the MDR will have and the key considerations you need to be aware of\, including all timescales. \nThis training course will also cover:\n– How to classify your Medical Device\n– How to choose the Conformity Assessment Routes under the MDR\n– Compiling your technical documentation for a Medical Device\n– How to label your Medical Device\n– Clinical Evaluations of Medical Devices in the EU \nThe final session of the course will cover key considerations for the MDD to MDR Transition\, including suitable action plans. \n \nTo view the programme and further information click on the Event Brochure PDF below. \nEvent Documents: \nEvent Brochure\nDelegate List \n 
URL:https://staging.medilinkmidlands.com/event/mpd-training-course-european-medical-device-directive-mdd-basics-and-transition-to-the-medical-device-regulation-mdr/
LOCATION:MeetPoint Midlands\, Conference Centre\, 28 High Street\, Kegworth\, Derbyshire\, DE74 2DA
ATTACH;FMTTYPE=image/jpeg:https://staging.medilinkmidlands.com/wp-content/uploads/2022/04/cpd_certified_rgb-1-1-small.jpg
ORGANIZER;CN="Jo Rudzki":MAILTO:info@medilinkem.com
END:VEVENT
BEGIN:VEVENT
DTSTART;TZID=Europe/London:20170905T090000
DTEND;TZID=Europe/London:20170906T170000
DTSTAMP:20260424T231506
CREATED:20171016T105509Z
LAST-MODIFIED:20171016T105509Z
UID:17706-1504602000-1504717200@staging.medilinkmidlands.com
SUMMARY:Leicester Executive Development Workshop: Winning in the Crowd Economy
DESCRIPTION:The School of Business are pleased to introduce the Leicester Executive Development Workshop series\, bringing contemporary issues facing managers into focus. \nCrowd based assets\, accessed through techniques like crowdfunding\, crowdsourcing\, open innovation and other disruptive models of engagement outside of the organisation\, are increasingly demonstrating sustained value. Some regard them as the business models of both the now and the future\, but to win and thrive in this new circumstance requires that we develop new understandings\, adopt new approaches and acquire new competencies. \nThis workshop is for you if you are interested in how our engagement with social media is changing the way we innovate\, manage resources\, support communities and develop businesses. \n\nYou are invited to the first workshop in the series ‘Winning in the Crowd Economy’ – for further information including fees or to register your place\, please click here.
URL:https://staging.medilinkmidlands.com/event/leicester-executive-development-workshop-winning-in-the-crowd-economy/
LOCATION:College Court Conference Centre\, Knighton Road\, Leicester\, LE2 3UF
END:VEVENT
BEGIN:VEVENT
DTSTART;TZID=Europe/London:20170906T080000
DTEND;TZID=Europe/London:20170907T170000
DTSTAMP:20260424T231506
CREATED:20171016T103031Z
LAST-MODIFIED:20171016T103031Z
UID:17697-1504684800-1504803600@staging.medilinkmidlands.com
SUMMARY:bioConclave 2017
DESCRIPTION:Big Challenges need Big Ideas\, therefore this year we are bringing new exciting projects\, case studies\, technologies and Innovations which are creating impact in the field of Genomics\, Big Data\, Connected Care and Healthcare Games Globally. \nbioConclave 2017 will explore how these ideas are driving R&D\, the diagnostics and treatment of diseases today and in the future. \nThe audience will hear views from industry leaders\, experience technologies in the exhibition demonstrations\, meet and network with leading academics\, investors and industry innovators. \nThe programme\, taking place in London\, will include: \n\n6th September 2017- Main event in London\n7th September 2017- One say delegation visit to major healthcare and Life Sciences hub in Birmingham\, hosted by Alta Innovation\, BioHub Birmingham and University of Birmingham\n\nTo find out more about this event or book your ticket\, please click here.\n\n*MEDILINK MEMBER DISCOUNT AVAILABLE* \nTo receive 25% off the ticket price\, please email info@medilinkem.com and copy in rekha@economicpolicygroup.com. Medilink EM will then confirm your membership.
URL:https://staging.medilinkmidlands.com/event/bioconclave-2017/
LOCATION:Pennington Manches Cooper LLP\, 125 Wood Street\, London\, EC2V 7AW
END:VEVENT
BEGIN:VEVENT
DTSTART;TZID=Europe/London:20170907T093000
DTEND;TZID=Europe/London:20170907T163000
DTSTAMP:20260424T231506
CREATED:20171016T105656Z
LAST-MODIFIED:20171016T105656Z
UID:17707-1504776600-1504801800@staging.medilinkmidlands.com
SUMMARY:MPD Training Course: Risk Management
DESCRIPTION:Risk Management has been a recurring theme over the last 20 years and the MedTech sector has matured. We have now reached a stage where risk management has become a central mechanism for systems operating in this industry sector. \nRisk Management is a fundamental step for medical device manufacturers to demonstrate compliance to the EU Medical Device Regulations\, ensuring the safety of patients and users. Since the introduction of the ISO14971:2012 there has been a lot of confusion surrounding the implementation of the new standards\, by medical device manufacturers. \nThis course will explore the requirements of ISO14971:2012\, also touching upon what documentation is required. \nJoin this course to find out more about: \n\nThe methodology in design and product management\nWhat considerations should be taken when running this process?\nHow this vital information should be used\, along with other critical elements\n\nThis course is aimed at leading Risk Management Teams\, Quality Regulators\, Senior Managers and those that want to develop their knowledge in Risk Management. \n\nTo find out more information or register your place\, please click here.
URL:https://staging.medilinkmidlands.com/event/mpd-training-course-risk-management/
LOCATION:Millenium Point\, Curzon Street\, Birmingham\, B4 7XG\, United Kingdom
ORGANIZER;CN="Vanessa Bailey":MAILTO:vanessab@medilinkwm.co.uk
END:VEVENT
BEGIN:VEVENT
DTSTART;TZID=Europe/London:20170907T160000
DTEND;TZID=Europe/London:20170907T220000
DTSTAMP:20260424T231506
CREATED:20170929T094041Z
LAST-MODIFIED:20170929T094041Z
UID:17512-1504800000-1504821600@staging.medilinkmidlands.com
SUMMARY:Medilink East Midlands Summer BBQ
DESCRIPTION:Our annual Summer BBQ will provide excellent opportunities for members and non-members to network in a relaxed environment. \nTimings and format for the event are: \n4pm – Registration\, Drinks and Networking\n5pm – Welcome by Darren Clark\, Chief Executive\, Medilink EM\n5:15pm – Sponsor presentation by Shakespeare Martineau\n5:30pm – Food will be served \nOur Summer BBQ is sponsored by Shakespeare Martineau\, who are Patrons of Medilink EM. Shakespeare Martineau have one of the few life sciences specific legal teams in the country.  To find out more visit www.shma.co.uk. \nEvent Documents: \nDelegate List
URL:https://staging.medilinkmidlands.com/event/medilink-east-midlands-summer-bbq/
LOCATION:Welbeck Hall\, Welbeck Road\, West Bridgford\, Nottingham\, NG2 7QW
ORGANIZER;CN="Jo Rudzki":MAILTO:info@medilinkem.com
END:VEVENT
BEGIN:VEVENT
DTSTART;TZID=Europe/London:20170912T093000
DTEND;TZID=Europe/London:20170912T123000
DTSTAMP:20260424T231506
CREATED:20171016T111756Z
LAST-MODIFIED:20171016T111756Z
UID:17709-1505208600-1505219400@staging.medilinkmidlands.com
SUMMARY:MediWales GDPR & Cyber Security Workshop
DESCRIPTION:Join MediWales and Geldards for this workshop providing key advice on the new GDPR framework. \nEvent Programme \n9:30am \nRegistration \n10:00am \n“Data Protection & GDPR Overview for the Life Sciences Sector” – Lowri Phillips & Helen Snow\, Partner and Senior Associate at Geldards LLP \nSo what is the GDPR? The Information Commissioner has called it a “game changer for everyone”. The GDPR is the new EU data protection framework which harmonises standards across all Member States. The GDPR will directly apply in the UK from 25 May 2018. As an organisation in the Life Sciences Sector you will not only be dealing with personal data but you are also likely to be processing sensitive personal data or special categories of data such as genetic\, biometric or health data\, which is given additional protection under the GDPR. Although May 2018 may seem like a long way off\, there is much to be done in terms of preparation. Once it comes in it will have an immediate impact and certain breaches could result in fines of up to €20 million or 4% of global annual turnover. It is\, therefore\, something that should be on your radar now. \n11:15am \nCoffee Break \n11:45am \n“The role of the Data Protection Officer\, Cyber Security and Data Breach Reporting” – Matthew Phillips\, Data Protection Officer at Alert Logic \nUnder the GDPR it is a requirement for organisations whose core activities consist of processing special categories of data on a large scale to appoint a DPO. Matthew Phillips\, Data Protection Officer at Alert Logic\, will discuss the responsibilities and requirements of the DPO under the GDPR and will consider the importance of Cyber Security in the post GDPR era of mandatory breach reporting. \n12:30pm \nLunch & Close \nThis workshop is free to attend\, for more information or to register your place\, please click here. 
URL:https://staging.medilinkmidlands.com/event/mediwales-gdpr-cyber-security-workshop/
LOCATION:Swansea University\, School of Management\, Bay Campus\, Fabian Way\, Swansea\, Wales\, SA1 8EN\, United Kingdom
END:VEVENT
BEGIN:VEVENT
DTSTART;TZID=Europe/London:20170913T090000
DTEND;TZID=Europe/London:20170913T133000
DTSTAMP:20260424T231506
CREATED:20171016T101916Z
LAST-MODIFIED:20171016T101916Z
UID:17695-1505293200-1505309400@staging.medilinkmidlands.com
SUMMARY:Infectious Diseases Special Interest Group (SIG)
DESCRIPTION:The next Infectious Diseases Special Interest Group (SIG) is taking place on Wednesday 13 September in Nottingham.  The theme for this SIG is: Hands\, Surfaces and Devices: Let’s Decontaminate! \nThis free to attend event is being held as part of the INSTILS programme – a project part-funded by the European Regional Development Fund\, click here to be re-directed to further information about the project. \nThe programme includes presentations on:  \n– Surface decontamination – Time for change? Every generation needs a new revolution\n– The piercing cost of pseudomonas\n– Decontamination of Reusable Medical Devices\n– Plus 5 minute presentations during the collaboration forum \nTo find out more\, see the programme and speaker biographies on the links below.\n\nEvent Documents:\n\nProgamme\nSpeaker Biographies\nDelegate List
URL:https://staging.medilinkmidlands.com/event/infectious-diseases-special-interest-group-sig-3/
LOCATION:Village Hotel\, Brailsford Way\, Chilwell\, Nottingham\, NG9 6DL\, United Kingdom
ORGANIZER;CN="Jo Rudzki":MAILTO:info@medilinkem.com
END:VEVENT
BEGIN:VEVENT
DTSTART;TZID=Europe/London:20170918T120000
DTEND;TZID=Europe/London:20170920T130000
DTSTAMP:20260424T231506
CREATED:20171016T095106Z
LAST-MODIFIED:20171016T095106Z
UID:17693-1505736000-1505912400@staging.medilinkmidlands.com
SUMMARY:Refocus on Recovery 2017
DESCRIPTION:Refocus on Recovery 2017 is the largest regular scientific conference in the world on recovery for people with mental health problems. This truly international conference will present world-leading research about how people can live well with illness. Its aims are to advance the field of recovery research and to offer you the opportunity to become part of an international community of influence. \nWith keynote speakers from across the world: \n\nUK (Steve Gillard\, Isabella Goldie\, Jayasree Kalathil\, Anu Singh\, Mike Slade)\nIndia (Manoj Kumar)\nCanada (Kwame McKenzie)\nGermany (Jasna Russo)\nNorway (Mark Hopfenbeck)\n\nWe will also hear from Jenny Edwards (Chief Executive\, Mental Health Foundation) and Ruth Hawkins (Chief Executive\, Nottinghamshire Healthcare NHS Foundation Trust). \nFor the three previous London conferences\, around 500 people came from 25 countries. This year it’s coming to Nottingham\, right in the middle of the country with great road\, rail and air links. It will even be opened by the world-famous Sheriff of Nottingham! \nIt will be a great opportunity for learning and networking. As well as hearing from world-class keynote speakers and a choice of over 100 parallel talks\, you’ll have the opportunity to get involved in the lively creative and social programme\, which features exciting opportunities such as the boomwhacker percussion energiser event\, a ‘Story Shop’ offering a range of stories from people with lived experience\, the Nottingham People’s Choir\, the MAD space\, a Gala Dinner and lots more. \nMain conference themes: \n\nRecovery for different groups\nPrevention of mental ill-health\nRe-situating recovery\nAllocating resources\n\n\nBefore the conference\, there is also the chance to attend Expert Workshops: Developing a national transformation programme; using co-development techniques to shape digital projects in mental health; Coaching for recovery; drums and spears – decolonising recovery; and building on cultures of peer support. These are held on the morning of 18th September.View the full programme here. \nFor booking information or to register your place\, please click here. \n\n 
URL:https://staging.medilinkmidlands.com/event/refocus-on-recovery-2017/
LOCATION:Nottingham Conference Centre\, Burton Street\, Nottingham\, NG1 4BU
END:VEVENT
BEGIN:VEVENT
DTSTART;TZID=Europe/London:20170926T093000
DTEND;TZID=Europe/London:20170926T163000
DTSTAMP:20260424T231506
CREATED:20171016T104059Z
LAST-MODIFIED:20171016T104059Z
UID:17700-1506418200-1506443400@staging.medilinkmidlands.com
SUMMARY:STERIS UK Technical Seminar
DESCRIPTION:Join STERIS for a one day seminar where their industry experts will help attendees gain an in-depth understanding of the relationship between sterilization and medical device design\, validation\, manufacturing and packaging. \nThis exclusive event has limited places available to enable opportunities for audience participation\, workshops and networking/speaking to the experts. \nTo mark the relaunch of STERIS Laboratories\, we are offering a FREE 15 minute laboratory consultation for attendees to discuss your validation or analytical needs. \nSeminar Topics Include: \n  \n\nKeynote speaker Anne Jury\, Anne Jury Associates: New EU Medical Device Regulations and priorities/implications for manufacturers\nMary Rijksen\, STERIS AST Quality Director: ISO13485:2016 – top priorities to consider\nMark Botting\, STERIS Laboratories Director: STERIS Laboratories/ISO 17025\nJenni Tranter\, STERIS AST Senior Marketing Manager: Workshop 1 – Dose establishment and routine monitoring\nTony Sollis\, STERIS AST TechTeam Technical Manager: Workshop 2 –  Radiation (Gamma/EO) validation challenges\nKeith Beaumont\, STERIS AST TechTeam Manager: Workshop 3 – EO validation challenges\n\nThe need to understand and compare the available technologies and take into account the regulatory requirements is essential for any manufacturer of sterile devices. The relationship between manufacturers and sterilization providers is an important element in assisting with the production and supply of products to Customers. \nWith over 40 years experience\, STERIS\, a global supplier of outsourced sterilization services\, is uniquely positioned to provide expert insight into sterilization technologies. This sterilization seminar will provide a valuable overview of the available technologies as well as guidance on understanding the factors needed to take into account when considering sterilization. \nSeminar Fee: \n  \n\n£250 + VAT if you register by 31 August\n£295 + VAT if you register by 22 September\n\nTo find out more information or register your place\, please click here.
URL:https://staging.medilinkmidlands.com/event/steris-uk-technical-seminar/
LOCATION:The Woodland Grange Hotel\, Old Milverton Lane\, Leamington Spa\, Warwickshire\, CV32 6RN
END:VEVENT
BEGIN:VEVENT
DTSTART;TZID=Europe/London:20170927T163000
DTEND;TZID=Europe/London:20170927T190000
DTSTAMP:20260424T231506
CREATED:20171016T105832Z
LAST-MODIFIED:20171016T105832Z
UID:17708-1506529800-1506538800@staging.medilinkmidlands.com
SUMMARY:Big Data Corridor: Drop-in data surgery for business series
DESCRIPTION:Big Data Corridor is a grant funded support programme that aims to accelerate businesses use of data to drive growth and development. Whether you are looking to increase productivity\, improve your competitiveness or develop new products and services\, Big Data Corridor provides access to specialist support. \nWhy Visit?\n\nMeet the experts and discuss how your business can take advantage of a bespoke support package to innovate using data and be a part of tomorrow’s business world today. \nLittle or no experience of using data? Assistance to develop knowledge and skills. Learn how to use information to benefit your company. \nAlready know what you are doing? Technical expertise and business advice to accelerate your product development and/or business plans. \nProgramme \n16:30-16:35 Registrations\n16:35-16:40 Welcome and introduction from Birmingham City Council’s new CIO\, Peter Bishop\n16:40-16:45 An overview of Google’s Digital Garage\n16:50-17:20 Find out more about the Big Data Corridor\n17:20- close Speak to the experts to find out how you can receive expert support and benefit from this opportunity\, followed by pizza and drinks\, sponsored by our partners GoogleUK \nFor more information or to register your place\, please click here\, or email bigdatacorridor@birmingham.gov.uk
URL:https://staging.medilinkmidlands.com/event/big-data-corridor-drop-in-data-surgery-for-business-series/
LOCATION:134B New Street\, Birmingham\, B2 4NS
CATEGORIES:Other Event
END:VEVENT
BEGIN:VEVENT
DTSTART;TZID=Europe/London:20170928T083000
DTEND;TZID=Europe/London:20170929T163000
DTSTAMP:20260424T231506
CREATED:20171016T093540Z
LAST-MODIFIED:20171016T093540Z
UID:17690-1506587400-1506702600@staging.medilinkmidlands.com
SUMMARY:European Forum for Procurement of Healthcare Innovation
DESCRIPTION:Business to Business meetings\, conferences and workshops between European buyers and innovative companies in the healthcare sector. \nProgramme \nThursday 28th September \n8:30-12:00 Conference- Healthcare: Innovation public procurement in Europe\nEHPPA (European Health Public Procurement Alliance) and its members presentation\nPurchasing\, innovation\, R&D projects: feedback from organisations’ members \n12:00-14:00 Cocktail- Networking lunch \n14:00-18:30 Business to Business meetings: buyers to suppliers\nTechnical workshops: Innovation in healthcare\nCountry specific workshops \n18:30 Networking drink \nFriday 29th September \n8:30-12:00 Business to Business meetings: buyers to suppliers \n12:00-14:00 Cocktail- Networking lunch \n14:00-16:30 Business to Business meetings: buyers to suppliers \nTo see the full event information including booking fees and how to register\, please click here.
URL:https://staging.medilinkmidlands.com/event/european-forum-for-procurement-of-healthcare-innovation-2/
LOCATION:Centre Etoile Saint Honoré\, 21-25 rue Balzac\, Paris\, 75008\, France
ORGANIZER;CN="Jennifer Roussel":MAILTO:jroussel@ccifrance-international.org
END:VEVENT
END:VCALENDAR