BEGIN:VCALENDAR
VERSION:2.0
PRODID:-//Medilink Midlands - ECPv6.15.20//NONSGML v1.0//EN
CALSCALE:GREGORIAN
METHOD:PUBLISH
X-ORIGINAL-URL:https://staging.medilinkmidlands.com
X-WR-CALDESC:Events for Medilink Midlands
REFRESH-INTERVAL;VALUE=DURATION:PT1H
X-Robots-Tag:noindex
X-PUBLISHED-TTL:PT1H
BEGIN:VTIMEZONE
TZID:Europe/London
BEGIN:DAYLIGHT
TZOFFSETFROM:+0000
TZOFFSETTO:+0100
TZNAME:BST
DTSTART:20160327T010000
END:DAYLIGHT
BEGIN:STANDARD
TZOFFSETFROM:+0100
TZOFFSETTO:+0000
TZNAME:GMT
DTSTART:20161030T010000
END:STANDARD
BEGIN:DAYLIGHT
TZOFFSETFROM:+0000
TZOFFSETTO:+0100
TZNAME:BST
DTSTART:20170326T010000
END:DAYLIGHT
BEGIN:STANDARD
TZOFFSETFROM:+0100
TZOFFSETTO:+0000
TZNAME:GMT
DTSTART:20171029T010000
END:STANDARD
BEGIN:DAYLIGHT
TZOFFSETFROM:+0000
TZOFFSETTO:+0100
TZNAME:BST
DTSTART:20180325T010000
END:DAYLIGHT
BEGIN:STANDARD
TZOFFSETFROM:+0100
TZOFFSETTO:+0000
TZNAME:GMT
DTSTART:20181028T010000
END:STANDARD
END:VTIMEZONE
BEGIN:VEVENT
DTSTART;TZID=Europe/London:20171205T090000
DTEND;TZID=Europe/London:20171205T170000
DTSTAMP:20260424T183152
CREATED:20170929T090753Z
LAST-MODIFIED:20170929T090753Z
UID:17505-1512464400-1512493200@staging.medilinkmidlands.com
SUMMARY:UK HealthTech Conference
DESCRIPTION:Booking is now open for the UK HealthTech conference in Cardiff. The theme for this year is ‘Looking to the future of patient therapies and the life science industry’. \nOne Conference\, Three Essential Areas \nHealthcare \n\nClinical innovation beyond borders\nAI and the psychology of cancer\nInnovation showcase\nSuccessful strategies for innovation adoption in healthcare\n\nMedtech & Diagnostics \n\nMHRA regulatory update\nUK procurement landscape and market access\nDelivering diagnostics for the NHS and healthcare markets\nAdvice and support for finance and funding\n\nBiopharmacy \n\nThe immunotherapy revolution\nNew developments in pharma manufacturing\nIncreasing patient access to new medicines\n\n\nView the full programme here \nThere are exhibition and sponsorship opportunities available for this event\, to find out more please click here. \nDelegate Fees \nMediWales member & NHS: £195 + VAT\nMember of Medilink UK & other partners: £225 + VAT\nNon-member: £250 + VAT \nTo find out more or register your place\, please click here.
URL:https://staging.medilinkmidlands.com/event/uk-healthtech-conference/
LOCATION:Mercure Holland House Hotel\, Newport Road\, Cardiff\, CF24 0DD\, United Kingdom
ORGANIZER;CN="Isabelle Ford":MAILTO:isabelle.ford@mediwales.com
END:VEVENT
BEGIN:VEVENT
DTSTART;TZID=Europe/London:20171205T100000
DTEND;TZID=Europe/London:20171205T130000
DTSTAMP:20260424T183152
CREATED:20171201T093900Z
LAST-MODIFIED:20171201T093900Z
UID:17734-1512468000-1512478800@staging.medilinkmidlands.com
SUMMARY:BigB2SME Event - First pilot project with GE Healthcare
DESCRIPTION:SEHTA\, Mayor of London and MedCity would like to invite you to register your interest to attend their first event designed to build bridges between small companies (including university and NHS technologists) and GE Healthcare. \nOverview \n  \n\nDo you want to understand more about how to work with multinational health technology companies?\nIs a partnership or other commercial agreement with a large multinational company something you should consider to help develop your business?\nHere’s a challenge to SMEs – Have you got a technology/product/service in AI\, learning algorithms\, medical imaging (earlier diagnosis) which you would like to discuss with experts in GE Healthcare?\n\nAgenda \n10:00 Registration & Refreshments\n10:30 Partnering with GE Healthcare\, Joel Haspel\, Partner\, GE Healthcare Finnamore\n10:50 What GE is looking fo AI\, Learning Algorithms\, Medical Imaging\, Max Jones\, Director\, GE Healthcare Finnamore & Paul Johnson\, Director\, GE Healthcare Finnamore\n11:15 Q&A\n11:30 Pre-arranged 1:1 sessions with GE representatives and selection for follow up\n13:00 Close\n \nYou can register your interest for this event here\, places will be confirmed no later than Friday 24th November. \nThe venue for this event is kindly supported by Hempsons.
URL:https://staging.medilinkmidlands.com/event/bigb2sme-event-first-pilot-project-with-ge-healthcare/
LOCATION:Hempsons\, 100 Wood Street\, London\, EC2V 7AN\, United Kingdom
END:VEVENT
BEGIN:VEVENT
DTSTART;TZID=Europe/London:20171207T090000
DTEND;TZID=Europe/London:20171207T163000
DTSTAMP:20260424T183152
CREATED:20170929T092832Z
LAST-MODIFIED:20170929T092832Z
UID:17509-1512637200-1512664200@staging.medilinkmidlands.com
SUMMARY:NIHR MindTech 2017 Symposium - Digital Technology in Practice
DESCRIPTION:Are you a medtech SME looking for funding\, support or collaborators? \nThe National Institute for Health Research (NIHR) invites you to apply for a place at this roadshow specifically tailored for medtech SMEs to find out more about: \n\nthe mission\, strategic priorities and activities of the NIHR\nopportunities for SMEs via their funding programmes\nhow the NIHR support SMEs in the conduct of clinical trials\nhow the NIHR helps SMEs to formulate research plans and find collaborators\, supporting centres and facilities for R&D\nrelevant contacts in the NIHR and other organisations supporting medtech SMEs\, such as the Academic Health Science Networks (AHSNs) and Medilink\n\nThis is the first of a series of events that will take place across the country. Future events will be publicised on the NIHR website when the venues and dates are finalised. \nTalks  \nThis one day event is organised with South East Health Technologies Alliance (SEHTA) and includes speakers from: \n\nthe Department of Health\nthe NIHR\nmedtech SMEs that have been funded or supported by the NIHR\n\n\nConsultations \nYou can register for a roundtable discussion on: \n\nFunding by the NIHR programmes\nSetting up R&D collaborations with the NIHR Infrastucture\nSupporting SMEs in the conduct of clinical trials by the CRN\n\nYou can register for a 1:1 session with: \n\nAn NIHR programme manager to discuss the suitability of your research plans for an NIHR programme award and ways that the NIHR can assist you with your application process\nRepresentatives from the NIHR Infrastructure – Biomedical Research Centres\, Diagnostic Evidence Co-operatives and Healthcare Technology Co-operatives\nRepresentatives from the CRN\n\nPlaces are limited and will be allocated on a first come\, first served basis. \nTo find out more about this event or to register your free place\, please click here.
URL:https://staging.medilinkmidlands.com/event/nihr-mindtech-2017-symposium-digital-technology-in-practice/
LOCATION:The Royal College of Physicians\, 11 St Andrews Place\, Regent's Park\, London\, NW1 4LE\, United Kingdom
END:VEVENT
BEGIN:VEVENT
DTSTART;TZID=Europe/London:20171207T093000
DTEND;TZID=Europe/London:20171207T163000
DTSTAMP:20260424T183152
CREATED:20171201T094518Z
LAST-MODIFIED:20171201T094518Z
UID:17735-1512639000-1512664200@staging.medilinkmidlands.com
SUMMARY:MPD Training Course: European Medical Device Directive (MDD) Basics and Transition to the Medical Device Regulation (MDR)
DESCRIPTION:This one day training course by Medilink East Midlands together with Medical Device Consultancy (MDC) will be an excellent opportunity to learn about the European MDD and MDR basics and the differences between the two. \nFind out what impact the MDR will have and the key considerations you need to be aware of\, including all timescales. \nThis training course will also cover:\n– How to classify your Medical Device\n– How to choose the Conformity Assessment Routes under the MDR\n– Compiling your technical documentation for a Medical Device\n– How to label your Medical Device\n– Clinical Evaluations of Medical Devices in the EU \nThe final session of the course will cover key considerations for the MDD to MDR Transition\, including suitable action plans. \n \nTo view the programme and further information click on the Event Brochure PDF below.  \nMember cost: £ 150\nNon-Member cost: £ 215 \nplus VAT \nDocuments\nEvent Brochure\nDelegate List
URL:https://staging.medilinkmidlands.com/event/mpd-training-course-european-medical-device-directive-mdd-basics-and-transition-to-the-medical-device-regulation-mdr-2/
LOCATION:Wyboston Lakes Resort\, Great North Road\, Wyboston\, Bedfordshire\, MK44 3AL
ATTACH;FMTTYPE=image/jpeg:https://staging.medilinkmidlands.com/wp-content/uploads/2022/04/cpd_certified_rgb-1-1-small.jpg
ORGANIZER;CN="Jo Rudzki":MAILTO:info@medilinkem.com
END:VEVENT
BEGIN:VEVENT
DTSTART;TZID=Europe/London:20171212T080000
DTEND;TZID=Europe/London:20171212T170000
DTSTAMP:20260424T183152
CREATED:20180108T165518Z
LAST-MODIFIED:20180108T165518Z
UID:17741-1513065600-1513098000@staging.medilinkmidlands.com
SUMMARY:THE ROLE OF DOSE PREDICTION IN INCREASING SUCCESS OF EARLY DRUG DEVELOPMENT
DESCRIPTION:XenoGesis is joining forces with Juniper Pharma Services to host a seminar on ‘The role of dose prediction in increasing success of early drug development’. \nGaining a thorough understanding of the chemical and pharmacological attributes of a drug substance through preclinical studies is paramount for providing an effective dosage form for first-in-human clinical trials. Yet often insufficient consideration is given to ‘knowing the compound’ before selecting a presentation for clinical evaluation. In particular\, an accurate prediction of an appropriate dose range is vitally important for adopting the most appropriate formulation strategy for the compound. If the formulation is not suitable to deliver the required quantity of the drug then the outcome of the clinical trial may be compromised. \nJuniper Pharma Services and XenoGesis work together successfully to provide an integrated biopharmaceutics service offering. The unique combined approach helps to remove the gap between ‘chemical’ and ‘biological’ to provide the most effective drug delivery solutions. \nRichard Weaver joins Rob Harris to provide an insight into how our joint\, consultative approach to drug development can help in understanding the absorption and clearance characteristics of a drug substance and how these properties will influence dose prediction and selection of an appropriate formulation strategy. \nTo find out more about this event or to register your free place\, please click here.
URL:https://staging.medilinkmidlands.com/event/the-role-of-dose-prediction-in-increasing-success-of-early-drug-development/
LOCATION:BioHub\, Alderley Park\, Alderley Edge\, Macclesfield\, SK10 4TG
END:VEVENT
END:VCALENDAR