BEGIN:VCALENDAR
VERSION:2.0
PRODID:-//Medilink Midlands - ECPv6.15.20//NONSGML v1.0//EN
CALSCALE:GREGORIAN
METHOD:PUBLISH
X-ORIGINAL-URL:https://staging.medilinkmidlands.com
X-WR-CALDESC:Events for Medilink Midlands
REFRESH-INTERVAL;VALUE=DURATION:PT1H
X-Robots-Tag:noindex
X-PUBLISHED-TTL:PT1H
BEGIN:VTIMEZONE
TZID:Europe/London
BEGIN:DAYLIGHT
TZOFFSETFROM:+0000
TZOFFSETTO:+0100
TZNAME:BST
DTSTART:20170326T010000
END:DAYLIGHT
BEGIN:STANDARD
TZOFFSETFROM:+0100
TZOFFSETTO:+0000
TZNAME:GMT
DTSTART:20171029T010000
END:STANDARD
BEGIN:DAYLIGHT
TZOFFSETFROM:+0000
TZOFFSETTO:+0100
TZNAME:BST
DTSTART:20180325T010000
END:DAYLIGHT
BEGIN:STANDARD
TZOFFSETFROM:+0100
TZOFFSETTO:+0000
TZNAME:GMT
DTSTART:20181028T010000
END:STANDARD
BEGIN:DAYLIGHT
TZOFFSETFROM:+0000
TZOFFSETTO:+0100
TZNAME:BST
DTSTART:20190331T010000
END:DAYLIGHT
BEGIN:STANDARD
TZOFFSETFROM:+0100
TZOFFSETTO:+0000
TZNAME:GMT
DTSTART:20191027T010000
END:STANDARD
END:VTIMEZONE
BEGIN:VEVENT
DTSTART;TZID=Europe/London:20180110T120000
DTEND;TZID=Europe/London:20180110T133000
DTSTAMP:20260424T165651
CREATED:20180109T102012Z
LAST-MODIFIED:20180109T102012Z
UID:17742-1515585600-1515591000@staging.medilinkmidlands.com
SUMMARY:Legal Advice Seminar: Business Structures for SMEs
DESCRIPTION:Nottingham Trent University invites small and medium sized businesses in Nottinghamshire and Derbyshire to join the Legal Advice team for a seminar on business structures. \nThis lunch session will include important points to consider for newly trading businesses. Focusing on the advantages and disadvantages of the most popular legal structure \nThis lunch session will include important points to consider for newly trading businesses. Focusing on the advantages and disadvantages of the most popular legal structures used to operate your business. This seminar will also consider how different types of entity might secure funding\, and what funding sources require from those they lend money to or invest money within. \nSpeakers will include: \n  \n\n\nAshley Fredericks\, Supervising Solicitor at Nottingham Law School Legal Advice Centre\nBrogan Roache\, Legal Officer at Nottingham Law School Legal Advice Centre\n\nThis informative session is a great opportunity for SMEs to discover more about how NTU can help their business with legal and innovation support. This event is free to attend for all businesses eligible to the Enabling Innovation Programme and refreshments will be provided. \nProgramme \n11:45 Registration\n12:00 Welcome and introduction to the topic\n12:15 Informative session about business structures\n13:15 Q&A\n13:30 Event close \nTo find out more about this event and how you can register\, please click here.
URL:https://staging.medilinkmidlands.com/event/legal-advice-seminar-business-structures-for-smes/
LOCATION:Broadway Cinema\, 14-18 Broad Street\, Nottingham\, NG1 3AL
END:VEVENT
BEGIN:VEVENT
DTSTART;TZID=Europe/London:20180118T110000
DTEND;TZID=Europe/London:20180118T130000
DTSTAMP:20260424T165651
CREATED:20180109T102420Z
LAST-MODIFIED:20180109T102420Z
UID:17744-1516273200-1516280400@staging.medilinkmidlands.com
SUMMARY:Institute of Technology - Second Focus Group
DESCRIPTION:Nottingham Trent University are hosting a second focus group regarding submitting a bid to be one of the Department of Education’s Institute of Technology. \nThe focus group will provide an opportunity for you to discuss whether further and higher education providers are supplying relevant courses and qualified graduates for your sector around digital technologies. Your views are of importance\, and will be used to help NTU and their partners: Burton and South Derbyshire College\, Chesterfield College\, Derby College\, North Notts College\, Nottingham College\, University of Derby and Vision West Nottinghamshire College\, submit a bid to be one of the Department of Education’s Institute of Technology. \nIf you would like to take part in the focus group or you have any queries\, please email Anup Patel. Please respond by Friday 12th January.
URL:https://staging.medilinkmidlands.com/event/institute-of-technology-second-focus-group/
LOCATION:Studio 15\, Antenna Media Centre\, Beck Street\, Nottingham\, NG1 1EQ
END:VEVENT
BEGIN:VEVENT
DTSTART;TZID=Europe/London:20180124T170000
DTEND;TZID=Europe/London:20180124T200000
DTSTAMP:20260424T165651
CREATED:20180109T102241Z
LAST-MODIFIED:20180109T102241Z
UID:17743-1516813200-1516824000@staging.medilinkmidlands.com
SUMMARY:Medical & Healthcare Business Awards 2017
DESCRIPTION:Medilink West Midlands invite you to join them for an evening of celebration and entertainment at the 2017 Medical and Healthcare Business Awards. \nHosted at the Birmingham Conference and Events Centre\, a fabulous venue in central Birmingham\, the evening will consist of plenty of networking opportunities\, entertainment and a deliciously prepared 3 course meal. \nThe Awards Ceremony will begin after the meal\, where you will get the opportunity to meet each of the Awards Sponsors as they present the prestigious awards to each of our winners for the evening. \nTicket Prices: \nMedilink members: £34 + VAT\nNon members: £42 + VAT \nTo find out more information or to book your place\, please click here. \nPlease note: Tickets are limited so book now to avoid disappointment!
URL:https://staging.medilinkmidlands.com/event/medical-healthcare-business-awards-2017/
LOCATION:The Birmingham Conference & Events Centre\, Hill Street\, Birmingham\, B5 4EW
END:VEVENT
BEGIN:VEVENT
DTSTART;TZID=Europe/London:20180129T090000
DTEND;TZID=Europe/London:20180201T170000
DTSTAMP:20260424T165651
CREATED:20171201T095121Z
LAST-MODIFIED:20171201T095121Z
UID:17737-1517216400-1517504400@staging.medilinkmidlands.com
SUMMARY:Arab Health 2018
DESCRIPTION:Arab Health is the largest gathering of healthcare and trade professionals in the MENA region. The 2018 edition of the event is expected to welcome more than 4\,200 exhibiting companies and 103\,000 attendees from 150+ countries. \nAccompanying the exhibition will be 17 business\, leadership and Continuing Medical Education (CME) conferences providing the very latest updates and insights into cutting edge procedures\, techniques and skills. You can view the list of conferences here. \nThe exhibition is free to visit if you register in advance\, please click here to register your free visit. \nThere are still stands available under the Medilink Pavilion\, please click here to find out more about this exhibition opportunity.
URL:https://staging.medilinkmidlands.com/event/arab-health-2018/
LOCATION:Dubai International Convention and Exhibition Centre\, Dubai World Trade Centre\, Dubai\, United Arab Emirates
END:VEVENT
BEGIN:VEVENT
DTSTART;TZID=Europe/London:20180130T073000
DTEND;TZID=Europe/London:20180130T140000
DTSTAMP:20260424T165651
CREATED:20180109T102756Z
LAST-MODIFIED:20180109T102756Z
UID:17746-1517297400-1517320800@staging.medilinkmidlands.com
SUMMARY:Innovation Funding for Ambitious Businesses in the Midlands Engine
DESCRIPTION:Innovation is key to business success. The ability to exploit new ideas\, technologies\, processes or business models ahead of the competition can bring big rewards in a world that is rapidly changing. The UK government has recognised this for many years and has been increasing the support to businesses wanting to innovate and grow. \nAccessing this support\, however\, can still be confusing and complex. That’s why the UK’s innovation agency\, Innovate UK\, and the British Business Bank have come together to help you. This event is for innovators and entrepreneurs to learn about the ways in which ambitious businesses can be supported. \nWhy attend? \n \n\nTo help you understand where to go for innovation funding and practical advice on what is available\nYou’ll get expert insight into future trends\nConnect with potential collaborators\nAccess to expert business advisers\nUnderstand what is required in writing a successful grant applcation\n\n \nWho should attend? \nAmbitious businesses across the Midlands Engine looking to grow\, particularly welcoming companies that have not engaged with Innovate UK before. \nThere are two options for attending this event: \nOption A: \nCome to the ‘fast-track’ breakfast event if you’re short on time. Here you can get the key information over a networking breakfast and still make it to work on time. This is taking place 7.30am-9.00am\, click here to register your free place. \nOption B:\n\nIf you have the time and want to get the most out of the session\, attend the full morning session followed by lunch. Here there’ll be more opportunities for questions and a more detailed agenda. This is taking place 9:30am- 2:00pm\, click here to register your free place.
URL:https://staging.medilinkmidlands.com/event/innovation-funding-for-ambitious-businesses-in-the-midlands-engine/
LOCATION:The Manufacturing Technology Centre\, Ansty Park\, Coventry\, CV7 9JU
END:VEVENT
BEGIN:VEVENT
DTSTART;TZID=Europe/London:20180130T093000
DTEND;TZID=Europe/London:20180130T150000
DTSTAMP:20260424T165651
CREATED:20171201T095414Z
LAST-MODIFIED:20171201T095414Z
UID:17738-1517304600-1517324400@staging.medilinkmidlands.com
SUMMARY:Innovation for Health: Partnership building event
DESCRIPTION:Would you like to engage with the University of Surrey’s world class health technology research and facilities?\nAre you interested in developing collaborative relationships with one of the South East’s foremost Universities?\nDo you need help finding the right people to talk to and sourcing catalyst funding to get things moving?\n\nAgenda \n09:30 Registration and Refreshments\n10:00 Introduction\n10:15 Overview of Key Research Area Themes and Q&A\n10:30 Keynote speakers from the University of Surrey (including areas of Bio-medical monitoring\, therapy development\, tailored nutrition and disease diagnosis using AI)\n11:30 Refreshment Break\n11:45 Funding opportunities: NIHR i4i\, InnovateUK\, Digital Catapult\n12:30 SME Case Study: Overview of their experience with University of Surrey\n12:45 Q&A and Close\n13:15 Networking lunch and opportunity to visit exhibition. 1:1 sessions and Research Group meetings are available to pre-book upon registration. \nTo register your interest please click here. Places will be limited\, and applications will be reviewed and confirmed by a personal email no later than 15th December.
URL:https://staging.medilinkmidlands.com/event/innovation-for-health-partnership-building-event/
LOCATION:School of Veterinary Medicine- University of Surrey\, Daphne Jackson Road\, Guildford\, Surrey\, GU2 7AL
END:VEVENT
BEGIN:VEVENT
DTSTART;TZID=Europe/London:20180130T093000
DTEND;TZID=Europe/London:20180130T173000
DTSTAMP:20260424T165651
CREATED:20180109T102650Z
LAST-MODIFIED:20180109T102650Z
UID:17745-1517304600-1517333400@staging.medilinkmidlands.com
SUMMARY:Meet the Cuban Life Sciences Delegation Visiting the UK
DESCRIPTION:The Department for International Trade team in Havana would like to offer you an opportunity to meet a delegation of Cuban decision-makers from the Life Science sector who are visiting the UK in early 2018. \nWhy Cuba? \nCuba’s pharmaceutical and biotechnology industries have a world-class reputation due to their innovation and high quality standards. BioCubaFarma\, the business group that represents the sector\, comprises 31 companies with 64 production facilities and 20\,000 employees. \nThe company has a global presence\, exporting to more than 40 countries. Cancer treatment drugs\, prophylactic vaccines for infectious diseases\, cardiovascular drugs and treatment of diabetic foot ulceration are just some of BioCubaFarma’s main products. They also have a large portfolio of projects in different development stages focused on different fields such as human\, animal and plants. \nThe delegation is interested in seeing the UK capability in R&D\, manufacturing and translation as well as looking for strategic partners to help develop\, manufacture and market their products internationally. \n\nDon’t miss this unique opportunity to learn about the Cuban market: \n  \n\nDiscover the latest opportunities in the market\nIdentify potential collaboration opportunities and business partners\nBuild business relationships and increase your visibility in the Cuban market\nReceive expert support and advice from DIT market-based staff\n\nRegistration \nPlease click here to see details of the delegation or to register your interest in attending this event. A fuller itinerary will be issued closer to the day after you receive confirmation of your place.
URL:https://staging.medilinkmidlands.com/event/meet-the-cuban-life-sciences-delegation-visiting-the-uk/
LOCATION:The University of Nottingham\, Senate Chamber\, Trent Building\, University Park\, Nottingham\, NG7 2QL
END:VEVENT
END:VCALENDAR