BEGIN:VCALENDAR
VERSION:2.0
PRODID:-//Medilink Midlands - ECPv6.15.20//NONSGML v1.0//EN
CALSCALE:GREGORIAN
METHOD:PUBLISH
X-ORIGINAL-URL:https://staging.medilinkmidlands.com
X-WR-CALDESC:Events for Medilink Midlands
REFRESH-INTERVAL;VALUE=DURATION:PT1H
X-Robots-Tag:noindex
X-PUBLISHED-TTL:PT1H
BEGIN:VTIMEZONE
TZID:Europe/London
BEGIN:DAYLIGHT
TZOFFSETFROM:+0000
TZOFFSETTO:+0100
TZNAME:BST
DTSTART:20170326T010000
END:DAYLIGHT
BEGIN:STANDARD
TZOFFSETFROM:+0100
TZOFFSETTO:+0000
TZNAME:GMT
DTSTART:20171029T010000
END:STANDARD
BEGIN:DAYLIGHT
TZOFFSETFROM:+0000
TZOFFSETTO:+0100
TZNAME:BST
DTSTART:20180325T010000
END:DAYLIGHT
BEGIN:STANDARD
TZOFFSETFROM:+0100
TZOFFSETTO:+0000
TZNAME:GMT
DTSTART:20181028T010000
END:STANDARD
BEGIN:DAYLIGHT
TZOFFSETFROM:+0000
TZOFFSETTO:+0100
TZNAME:BST
DTSTART:20190331T010000
END:DAYLIGHT
BEGIN:STANDARD
TZOFFSETFROM:+0100
TZOFFSETTO:+0000
TZNAME:GMT
DTSTART:20191027T010000
END:STANDARD
END:VTIMEZONE
BEGIN:VEVENT
DTSTART;TZID=Europe/London:20180704T100000
DTEND;TZID=Europe/London:20180704T140000
DTSTAMP:20260424T091214
CREATED:20180523T110925Z
LAST-MODIFIED:20180523T110925Z
UID:17829-1530698400-1530712800@staging.medilinkmidlands.com
SUMMARY:Bid like a PRO! How to Successfully Win NHS Business
DESCRIPTION:Medilink West Midlands is working in partnership with Apsiz Services Ltd to provide a training workshop designed to help understand and navigate the Public Sector procurement landscape. \nThe primary objective of this workshop is to improve the understanding on the what\, where and how to successfully bid for Public Sector Business. \nThis half a day workshop will help all delegates to understand the complex and fragmented procurement landscape that exists within the UK Public Sector. \nYou will learn how you can seek out opportunities and where to focus your efforts to maximise your chances. \nTopics that will be covered include:  \n• Finding NHS opportunities & examples\n• The Tendering Process\n• Tendering and Documentation\n• Understanding Tenders & Leaving Nothing to Chance\n• Planning a Tender Response\n• Evaluation Criteria – what does it mean and how to respond?\n• Increasing your Chances of Winning\n• What to do if things don’t go right!\n• Practical and Life Examples \nCourse Fees \nMedilink members: £50 + VAT\nNon-members: £70 + VAT \nTo find out more information or register your place\, please click here.
URL:https://staging.medilinkmidlands.com/event/bid-like-a-pro-how-to-successfully-win-nhs-business/
LOCATION:TBC\, Birmingham\, United Kingdom
ORGANIZER;CN="Vanessa Bailey":MAILTO:vanessab@medilinkwm.co.uk
END:VEVENT
BEGIN:VEVENT
DTSTART;TZID=Europe/London:20180705T090000
DTEND;TZID=Europe/London:20180705T160000
DTSTAMP:20260424T091214
CREATED:20180607T070143Z
LAST-MODIFIED:20180607T070143Z
UID:17831-1530781200-1530806400@staging.medilinkmidlands.com
SUMMARY:How to get your medical device NHS ready
DESCRIPTION:Please note this event is currently fully booked. If you would like to be added to the waiting list please book using the link below\, and we will let you know if a place becomes available. \nGetting your Medical Device NHS ready is one of the biggest challenges companies face. With several obstacles to overcome and for some\, unknown territory to cross\, working with CHEATA (Centre for Healthcare Equipment & Technology Adoption) at Nottingham University Hospitals NHS Trust we have this great free to attend event. \nThis full day event will guide you through the following topics: \n– Human Factors in medical device development \n– PPI \n– Regulatory support for medical device development \nPlus information will be provided on:  \n– How to undertake a clinical investigation in the NHS \n– How to budget impact assessment \n– And watch a live demo of the new HealthTech Connect from NICE \nThroughout the day opportunities will be created to engage\, exchange ideas and explore possible collaborations between SMEs\, academia and the NHS. \nThis free to attend event was held as part of the INSTILS programme – a project part-funded by the European Regional Development Fund\, click here to be re-directed to further information about the project. \nProgramme\nSpeaker Profiles\nDelegate List  \n 
URL:https://staging.medilinkmidlands.com/event/how-to-get-your-medical-device-nhs-ready/
LOCATION:Village Hotel Nottingham\, Brailsford Way\, Beeston\, Nottinghamshire\, NG9 6DL\, United Kingdom
CATEGORIES:Project Event
ATTACH;FMTTYPE=image/jpeg:https://staging.medilinkmidlands.com/wp-content/uploads/2022/04/erdflogo2.jpg
ORGANIZER;CN="Becky Sharpe":MAILTO:events@medilinkmidlands.com
END:VEVENT
BEGIN:VEVENT
DTSTART;TZID=Europe/London:20180705T093000
DTEND;TZID=Europe/London:20180705T153000
DTSTAMP:20260424T091214
CREATED:20180504T065653Z
LAST-MODIFIED:20180504T065653Z
UID:17818-1530783000-1530804600@staging.medilinkmidlands.com
SUMMARY:MPD Masterclass: Human Factors & Usability Engineering
DESCRIPTION:MedilinkWM and Thay Medical bring to you practical Masterclass designed around the delegate. These intimate sessions are designed to maximise learning outcomes and are created to promote interaction and discussion. \nThe course will –  \n• Give an overview of the current human factors and usability engineering processes for medical device developments.\n• Give an overview of the three most frequently used human factors and usability engineering processes guided by IEC 62366-1\, the US FDA and the UK MHRA.\n• Show how the new European Medical Device Regulation (MDR) requests further evidence of use safety and reduced use-related risk in specific areas of medical devices and systems.\n• Encourage the use of a risk-based approach to scale and incorporate human factors and usability engineering into a medical device development.\n• Show examples of good and less good usability in medical devices and similar products.\n• Show how to predict the level of use-safety a medical device may have whilst it is in development.\n• Show how to perform compliant and effective human factors and usability tests globally.\n• Show how to compile the Human Factors or Usability Engineering File effectively. \nCourse Fees \nMedilink Members: £199\nNon-Members: £250 \nEarly Bird discounts available: book before 25 May 2018 and save £15 off the booking fee. \nYour invoice will be forwarded to you on confirmation of your registration. \nTo find out more information or register your place\, please click here. \n  \n 
URL:https://staging.medilinkmidlands.com/event/mpd-masterclass-human-factors-usability-engineering/
LOCATION:Mercure Banbury Whately Hall Hotel\, 17-19 Horse Fair\, Oxford\, OX16 0AN\, United Kingdom
ORGANIZER;CN="Vanessa Bailey":MAILTO:vanessab@medilinkwm.co.uk
END:VEVENT
BEGIN:VEVENT
DTSTART;TZID=Europe/London:20180712T090000
DTEND;TZID=Europe/London:20180712T133000
DTSTAMP:20260424T091214
CREATED:20180621T093508Z
LAST-MODIFIED:20180621T093508Z
UID:17835-1531386000-1531402200@staging.medilinkmidlands.com
SUMMARY:Food Supplements Special Interest Group (SIG)
DESCRIPTION:Are you in the process of developing a food supplement and ready to take the next step? Do you see yourself trying to sell a food supplement in the future? Attend this Special Interest Group to find out: \n– The importance of branding \n– Marketing/communicating your brand \n– USA Regulatory Compliance \n– 7 easy steps to access non-compliance of a food supplement \n– Customer complaints – an opportunity to learn \nThis free to attend event was held as part of the INSTILS programme – a project part-funded by the European Regional Development Fund\, click here to be re-directed to further information about the project. \nProgramme\nSpeaker Profiles\nDelegate List
URL:https://staging.medilinkmidlands.com/event/food-supplements-special-interest-group-sig-5/
LOCATION:We are Pioneer Group Nottingham\, Innovation Building\, (formerly BioCity)\, Pennyfoot Street\, Nottingham\, NG1 1GF\, United Kingdom
CATEGORIES:Project Event
ATTACH;FMTTYPE=image/jpeg:https://staging.medilinkmidlands.com/wp-content/uploads/2022/04/erdflogo2.jpg
ORGANIZER;CN="Becky Sharpe":MAILTO:events@medilinkmidlands.com
END:VEVENT
BEGIN:VEVENT
DTSTART;TZID=Europe/London:20180713T093000
DTEND;TZID=Europe/London:20180713T150000
DTSTAMP:20260424T091214
CREATED:20180615T103914Z
LAST-MODIFIED:20180615T103914Z
UID:17833-1531474200-1531494000@staging.medilinkmidlands.com
SUMMARY:Meridian LIVE
DESCRIPTION:Meridian LIVE\, taking place on Friday 13 July at the Birmingham Conference and Events Centre. \nSupporting the spread of good practice to deliver improved health and wealth across the West Midlands\, Meridian has grown from strength to strength since it was launched in 2016 and Meridian LIVE will provide delegates with the opportunity to meet the people behind the campaigns and innovations. \nOffering you the chance to network with potential partners and to explore the latest innovations and advances within the region\, this FREE to attend event is a must for medical and healthcare professionals within the West Midlands – and beyond! \nThe features of Meridian LIVE include: \nWorkshops – interactive workshops will be taking place throughout the day\, featuring topics such as the Innovation and Technology Payment. Hear from NHS England and the Innovators already on the tariff. \nSurgery Sessions – book a 1-2-1 session with industry experts. Covering topics such as: Economic Growth\, Intellectual Property\, Commissioning and Procurement \nInnovations – the latest innovations and campaigns from Meridian will come alive\, offering attendees the opportunity to discuss and share best practice \nNetworking – delegates are able to network throughout the duration of the event\, with innovators and potential partners \nTo find out more information or register your free place\, please click here. \n 
URL:https://staging.medilinkmidlands.com/event/meridian-live/
LOCATION:The Birmingham Conference & Events Centre\, Hill Street\, Birmingham\, B5 4EW
END:VEVENT
BEGIN:VEVENT
DTSTART;TZID=Europe/London:20180716T100000
DTEND;TZID=Europe/London:20180716T123000
DTSTAMP:20260424T091214
CREATED:20180629T104207Z
LAST-MODIFIED:20180629T104207Z
UID:17837-1531735200-1531744200@staging.medilinkmidlands.com
SUMMARY:Life Science B2B Event with Chinese Delegation
DESCRIPTION:Based on the established strategic relationship with Nottingham\, Sichuan Provincial Government will send out a business delegation consisting of 19 Chinese life science companies (please see the separate document for all business profiles) to visit Nottingham on Monday 16th July. Nottingham City Council is delighted to organise a b2b event during their visit. This would be a great time for UK companies to explore international trade and investment opportunities at door step. There will be plenty chances to communicate with some of the largest businesses in Sichuan or even in China during this event. \nAgenda \n10:00 -10:10 Welcome Speech by representative from Nottingham City Council \n10:10 -10:20 Welcome Speech by representative from Sichuan delegation \n10:20 – 12:30 Networking \nDelegation List \nYou can view the Sichuan Life Science Business Delegation List here. \nRegistration \nThis event is free to attend; for further information or to register your place\, please complete the application form  and email it to Doris Xia\, International Assistant\, Nottingham City Council. \n 
URL:https://staging.medilinkmidlands.com/event/life-science-b2b-event-with-chinese-delegation/
LOCATION:Winter Garden\, The GSK Centre\, Nottingham\, NG7 2GA\, United Kingdom
END:VEVENT
BEGIN:VEVENT
DTSTART;TZID=Europe/London:20180717T090000
DTEND;TZID=Europe/London:20180719T170000
DTSTAMP:20260424T091214
CREATED:20180109T105349Z
LAST-MODIFIED:20180109T105349Z
UID:17756-1531818000-1532019600@staging.medilinkmidlands.com
SUMMARY:FIME 2018
DESCRIPTION:The Florida International Medical Expo – FIME – now in its 27th year is the largest medical trade fair across the Americas. \nThe exhibition will welcome over 22\,000 medical and trade professionals from North\, Central and South America\, as well as international professionals to do business with 1\,500+ national and international companies showcasing new and refurbished medical and hospital equipment\, technology\, products and supplies. \nAlongside the exhibition\, FIME 2018 also introduces: \nDealer & Distributor Wall \nA dedicated wall onsite and now an online\, digital platform offering dealers / distributors / agents the opportunity to publicise the products / services they are seeking\, with their contact info. Exhibitors in possession of the products / services sought after can then get in touch directly to arrange a meeting onsite. \nMEDLAB Americas \nWelcoming MEDLAB to FIME\, a proven successful exhibition and conference model on an international scale. With year-on-year growth within the MEDLAB portfolio\, from the Middle East\, to Asia and Africa\, MEDLAB Americas comes into play to satisfy the incessant demand for a broad medical laboratory expo in the Americas. \nCME-accredited Conferences \nOffering 3 multi-disciplinary conference tracks in the field of laboratory medicine and diagnostics\, focusing specifically on Clinical Microbiology\, Point of Care Testing (POCT) and Haematology. \nSeminars \nSpecifically designed to educate and inform dealers / distributors / agents on how to monetize their medical device marketing and thus sales\, and maintain consistent with medical device access and regulation. Combined with a dedicated focus on 3D printing and technological innovations to enable profitable patient outcomes. \nExhibitor Director \nOmnia\, the global medical directory is the official exhibitor directory for FIME 2017. Omnia is brought to you by Informa Life Sciences\, the organisers of FIME and some of the world’s largest and reputable healthcare exhibitions. \nTo find out more about attending FIME\, please click here to go to the event website. \nInterested in Exhibiting? \nMedilink are pleased to announce that bookings are now open for UK companies on the Medilink UK Pavilion. To secure your stand at this renowned exhibition\, complete and return the booking form and choose from a range of stand locations. For further information please contact the International team via email or by calling 0114 232 9292.
URL:https://staging.medilinkmidlands.com/event/fime-2018/
LOCATION:Orange County Convention Center\, Orlando\, Florida\, United States
END:VEVENT
BEGIN:VEVENT
DTSTART;TZID=Europe/London:20180719T093000
DTEND;TZID=Europe/London:20180719T153000
DTSTAMP:20260424T091214
CREATED:20180625T085902Z
LAST-MODIFIED:20180625T085902Z
UID:17836-1531992600-1532014200@staging.medilinkmidlands.com
SUMMARY:Preparing your NHS Business Case
DESCRIPTION:  \n  \n  \nThis free interactive training course on ‘Preparing your NHS Business Case’ will enable you to prepare better business cases with input from NHS staff. You will also learn about: \n– What is a business case\, what is its purpose and why it is so important? \n– Who reviews the business case and how are they evaluated from a commissioning point of view? \n– How to construct a good business case \nThe Challenge as a supplier to the NHS is often that when you have a product which from your perspective improves patient outcomes and saves cost you still cannot get it adopted by the NHS. This is often because there is not a fully developed business case\, without this a group within the NHS interested in taking on board a new product or service are unlikely to get approval of the case for change before procurement of the innovation can proceed. \nOrganisations that supply to the NHS are often challenged by the process\, timescales\, evidence and documentary requirements. This can often seem like an unnecessary complication\, or simply a reason to not issue a purchase order. A good business case is fundamental to successful adoption and developing a long term business partnership. Preparing the business case can also be difficult for your NHS contacts because they are busy or not experienced in their preparation and often even more difficult for companies with little or no experience of the process. \nEvent Documents\nProgramme\nSpeaker Profiles\nDelegate List\n \nAbout the Skills Support for the Workforce programme\nThe Skills Support for the Workforce (SSW) programme provides fully funded workplace training to SMEs to meet individual\, employer and regional economic needs. The training includes bespoke and vocationally relevant qualifications that are responsive to the needs identified. All training is delivered in the workplace or at nearby convenient locations. \nlearndirect have Skills Support for the Workforce contracts covering Derbyshire & Nottinghamshire\, Lancashire\, Somerset and Devon. These are delivered in conjunction with specialist delivery partners in each location. To provide you with the best training for your workforce\, we work in partnership with the relevant Local Enterprise Partnership (LEP) in your area. \nThis course has limited spaces available and priority will be given to D2N2 (Derbyshire & Nottinghamshire) SMEs. Non- D2N2 SMEs will be added to a waiting list and we will let you know if a place is available prior to the event.
URL:https://staging.medilinkmidlands.com/event/preparing-an-nhs-business-case/
LOCATION:Discovery Building\, BioCity Nottingham\, Pennyfoot Street\, Nottingham\, NG1 1GF\, United Kingdom
CATEGORIES:Medilink Midlands Event
ATTACH;FMTTYPE=image/png:https://staging.medilinkmidlands.com/wp-content/uploads/2022/04/esf-logo-2.png
ORGANIZER;CN="Becky Sharpe":MAILTO:events@medilinkmidlands.com
END:VEVENT
BEGIN:VEVENT
DTSTART;TZID=Europe/London:20180725T090000
DTEND;TZID=Europe/London:20180725T133000
DTSTAMP:20260424T091214
CREATED:20180703T131955Z
LAST-MODIFIED:20180703T131955Z
UID:17838-1532509200-1532525400@staging.medilinkmidlands.com
SUMMARY:Medical Technologies and Systems Special Interest Group (SIG)
DESCRIPTION:The next Medical Technologies and Systems Special Interest Group (SIG) will explore ‘Smart Materials for Medical Engineering’. \nThis free to attend event was held as part of the INSTILS programme – a project part-funded by the European Regional Development Fund\, click here to be re-directed to further information about the project. \nPresentation topics will include: \n• E-Textiles for Medical Applications\n• Novel electronic textile sensors for the creation of health monitoring devices\n• Design engineering for patient specific healthcare \nProgramme\nSpeaker Profiles\nDelegate List
URL:https://staging.medilinkmidlands.com/event/medical-technologies-and-systems-special-interest-group-sig-3/
LOCATION:Discovery Building\, BioCity Nottingham\, Pennyfoot Street\, Nottingham\, NG1 1GF\, United Kingdom
CATEGORIES:Project Event
ATTACH;FMTTYPE=image/jpeg:https://staging.medilinkmidlands.com/wp-content/uploads/2022/04/erdflogo2.jpg
ORGANIZER;CN="Becky Sharpe":MAILTO:events@medilinkmidlands.com
END:VEVENT
BEGIN:VEVENT
DTSTART;TZID=Europe/London:20180730T093000
DTEND;TZID=Europe/London:20180730T153000
DTSTAMP:20260424T091214
CREATED:20180709T125509Z
LAST-MODIFIED:20180709T125509Z
UID:17841-1532943000-1532964600@staging.medilinkmidlands.com
SUMMARY:Innovation Loans Open Competition: Briefing and Workshop (Midlands)
DESCRIPTION:Innovate UK\, the Knowledge Transfer Network and the Enterprise Europe Network are hosting a briefing event for Innovate UK’s second Open innovation loans competition\, which is currently open for application. \nInnovate UK is running a pilot programme of loan competitions. A total of up to £50 million is available for business innovation projects. Innovate UK is working to broaden the range of innovation finance support available to businesses\, so they can access funding at all stages of innovation. Innovation loans are for UK small or medium-sized enterprises (SMEs) that want to scale up and grow through innovation\, developing new or improved products\, processes or services. They can be used for late-stage research and development (R&D) projects\, which have not yet reached the point of commercialisation. \nInnovate UK is to offer up to £10 million in loans to SMEs for innovative late stage projects. The aim of this competition is to provide loans to help SMEs to undertake game-changing innovations with strong commercial potential across any sector or industry. Innovation loans will offer affordable\, patient\, flexible\, repayable funding for later-stage research & development projects with a clear route to commercial success. More information can be found here. \nThe deadline for registration for this competition is 29th August and the application deadline is noon on 5th September 2018. \nThe purpose of the event is to provide vital information to enable businesses to decide if an innovation loan is appropriate for them and\, if so\, to develop a clear and compelling application that shows that they have an innovative project and are suitable for a loan. \nAgenda \n09:30 – Coffee & Registration \n10:00 – Innovation loans overview: presentation from Innovate UK \n10:45 – Financing growth through innovation: panel discussion including the Enterprise Europe Network and local members of the innovation ecosystem \n11:45 – How to write a compelling project application: presentation from the Knowledge Transfer Network \n12:15 – Our approach to credit: presentation from Innovate UK Loans Ltd \n12:45 – Taking on an innovation loan: case study from a successful borrower \n13:00 – Networking lunch \n14:00 – Optional 1-2-1 or group discussions with Innovation loans team\, KTN\, EEN and local innovation ecosystem members \n15:30 – Close \n  \nTo find out more information or register your place\, please click here. If you are unable to attend this event\, there will be similar events across the UK between 23rd and 31st July\, as well as a webinar. To view these other events\, please click here.
URL:https://staging.medilinkmidlands.com/event/innovation-loans-open-competition-briefing-and-workshop-midlands/
LOCATION:Discovery Building\, BioCity Nottingham\, Pennyfoot Street\, Nottingham\, NG1 1GF
END:VEVENT
BEGIN:VEVENT
DTSTART;TZID=Europe/London:20180730T100000
DTEND;TZID=Europe/London:20180730T160000
DTSTAMP:20260424T091214
CREATED:20180726T091811Z
LAST-MODIFIED:20180726T091811Z
UID:17852-1532944800-1532966400@staging.medilinkmidlands.com
SUMMARY:Cyber Security for SMEs
DESCRIPTION:Enabling Innovation – How to avoid being a statistic \nSchool of Science & Technology’s Enabling Innovation Cyber Security Event is a one-day event for SME’s on Cyber Security and how to avoid being a victim or statistic of it. \nThis one-day event will focus on dissemination of useful and usable information to help small and medium sized businesses better understand the pitfalls of and requirements needed to safeguard themselves and their customers data from hacking or theft. This event will feature practical demonstrations that can be directly applied to businesses. With guest speakers from across the cyber industry\, attendees will gain insights and understanding of what to do and what not to do. \nEnabling Innovation’s Computer Science Innovation hub will be joined by industry experts to offer a day of useful and insightful resource to businesses curious about protecting data in a digital landscape. \nGuests will be able to access further Enabling Innovation support\, meet our advisors\, academics and network with other SMEs to discover how Enabling Innovation can continue to offer your businesses support at no cost to the organisation. \nContent Includes: \n\nHacking\nEncryption\nPrevention techniques\nEnabling Innovation support for SMEs\nData security and GDPR\nHow to access NTU’s expert facilities for your business\n\nTo find out more and to book your place\, please click here.
URL:https://staging.medilinkmidlands.com/event/cyber-security-for-smes/
LOCATION:Teaching and Learning Building\, Nottingham Trent University\, Clifton Campus\, Clifton Lane\, Nottingham\, NG11 8NS\, United Kingdom
END:VEVENT
END:VCALENDAR