BEGIN:VCALENDAR
VERSION:2.0
PRODID:-//Medilink Midlands - ECPv6.15.20//NONSGML v1.0//EN
CALSCALE:GREGORIAN
METHOD:PUBLISH
X-WR-CALNAME:Medilink Midlands
X-ORIGINAL-URL:https://staging.medilinkmidlands.com
X-WR-CALDESC:Events for Medilink Midlands
REFRESH-INTERVAL;VALUE=DURATION:PT1H
X-Robots-Tag:noindex
X-PUBLISHED-TTL:PT1H
BEGIN:VTIMEZONE
TZID:Europe/London
BEGIN:DAYLIGHT
TZOFFSETFROM:+0000
TZOFFSETTO:+0100
TZNAME:BST
DTSTART:20180325T010000
END:DAYLIGHT
BEGIN:STANDARD
TZOFFSETFROM:+0100
TZOFFSETTO:+0000
TZNAME:GMT
DTSTART:20181028T010000
END:STANDARD
BEGIN:DAYLIGHT
TZOFFSETFROM:+0000
TZOFFSETTO:+0100
TZNAME:BST
DTSTART:20190331T010000
END:DAYLIGHT
BEGIN:STANDARD
TZOFFSETFROM:+0100
TZOFFSETTO:+0000
TZNAME:GMT
DTSTART:20191027T010000
END:STANDARD
BEGIN:DAYLIGHT
TZOFFSETFROM:+0000
TZOFFSETTO:+0100
TZNAME:BST
DTSTART:20200329T010000
END:DAYLIGHT
BEGIN:STANDARD
TZOFFSETFROM:+0100
TZOFFSETTO:+0000
TZNAME:GMT
DTSTART:20201025T010000
END:STANDARD
END:VTIMEZONE
BEGIN:VEVENT
DTSTART;TZID=Europe/London:20190205T080000
DTEND;TZID=Europe/London:20190207T170000
DTSTAMP:20260423T225544
CREATED:20180905T082505Z
LAST-MODIFIED:20180905T082505Z
UID:17878-1549353600-1549558800@staging.medilinkmidlands.com
SUMMARY:MD&M West 2019 - Medilink UK Exhibition
DESCRIPTION:MD&M West connects thousands of advanced design and manufacturing professionals with a large collection of global Medtech suppliers\, for three days of networking and business generation. \nIt is North America’s largest annual\, supply chain and OEM event and is regularly attended by around 20\,000 professionals looking for suppliers\, new technologies\, materials\, components\, packaging or anything else needed to bring a concept to market. It is the ideal platform for companies to exhibit their products and services to visitors including R&D engineers and manufacturing & operations personnel. \nRepresentatives from some of the region’s leading Medtech companies (including 3M\, Ametek and Zeus) visited the 2018 edition. There is also an unmissable conference programme for 2019\, showcasing the latest innovations that are reshaping the industry. \nWhen booking an exhibition stand with Medilink\, your company will benefit from:\n– Stand space within the UK area\, amongst other British companies\n– Full pre-event support and advice\n– Access to preferential flight\, accommodation and freight rates\n– Support with regional funding for eligible companies (ask for more information)\n– In market assistance \nFor further information\, prices or to express your interest\, please click here. Alternatively if you wish to discuss the event in more detail\, please contact the Medilink International Team by email click here or call 0114 232 9292.
URL:https://staging.medilinkmidlands.com/event/mdm-west-2019-medilink-uk-exhibition/
LOCATION:Anaheim\, United States
END:VEVENT
BEGIN:VEVENT
DTSTART;TZID=Europe/London:20190205T100000
DTEND;TZID=Europe/London:20190205T163000
DTSTAMP:20260423T225544
CREATED:20190107T092514Z
LAST-MODIFIED:20190107T092514Z
UID:17920-1549360800-1549384200@staging.medilinkmidlands.com
SUMMARY:The new EU Medical Device & IVD Regulations: Implementation Insights Workshop
DESCRIPTION:The new EU Medical Device Regulation (MDR) is in its implementation phase and will be effective from May 2020.  All medical devices will need to comply with this new legislation.  Similarly\, the IVD Regulation (IVDR) will be in force from May 2022.  Many companies are not yet ready for the journey let alone have a roadmap of how to get to compliance. \nJoin this interactive workshop to find out more about the key areas of change within the MDR and IVD regulations. \nThis one-day event will:\n– Provide you with an overview of the key areas likely to need upgrading to comply with the MDR/IVDR\n– Assist you in assessing your company’s current preparedness for the transition\n– Give you a clear\, practical guide to the next steps that you and your company need to take to gain CE Marking under the MDR/IVDR \nOutcomes\n– Gain an overview of the new EU Medical Device and IVD Regulations\n– Understand the key areas of compliance required\n– Understand the technical documentation that should be in place for each device\n– Gain a plan of action for implementation and CE Marking under the new legislation \nMedilink  Member Fee – £180 plus VAT\nMedilink Non Member Fee – £215 plus VAT \nTo find out more and to book your place\, please click here. 
URL:https://staging.medilinkmidlands.com/event/the-new-eu-medical-device-ivd-regulations-implementation-insights-workshop/
LOCATION:Millenium Point\, Curzon Street\, Birmingham\, B4 7XG\, United Kingdom
END:VEVENT
BEGIN:VEVENT
DTSTART;TZID=Europe/London:20190207T173000
DTEND;TZID=Europe/London:20190207T210000
DTSTAMP:20260423T225544
CREATED:20181214T111846Z
LAST-MODIFIED:20181214T111846Z
UID:17916-1549560600-1549573200@staging.medilinkmidlands.com
SUMMARY:Medilink West Midlands: Medical & Healthcare Business Awards 2018
DESCRIPTION:Medilink West Midlands invites you to join us for an evening of celebration and entertainment at the 2018 Medical & Healthcare Business Awards on Thursday 7 February 2019. \nHosted at the Birmingham Conference and Events Centre\, a fabulous venue in central Birmingham\, the evening will consist of plenty of networking opportunities and surprises along the way! Make sure you grab yourself a glass of wine and enjoy the festivities\, before sitting down to a deliciously prepared 3 course meal. \nThe Awards Ceremony will begin after the meal\, where you will get the opportunity to meet each of the Awards Sponsors as they present the prestigious awards to each of our winners for the evening. \nTo view the agenda for the evening and to book your place\, please visit the Medilink West Midlands website here.
URL:https://staging.medilinkmidlands.com/event/medilink-west-midlands-medical-healthcare-business-awards-2018/
LOCATION:The Birmingham Conference & Events Centre\, Hill Street\, Birmingham\, B5 4EW
END:VEVENT
BEGIN:VEVENT
DTSTART;TZID=Europe/London:20190214T093000
DTEND;TZID=Europe/London:20190214T133000
DTSTAMP:20260423T225544
CREATED:20181214T152401Z
LAST-MODIFIED:20181214T152401Z
UID:17914-1550136600-1550151000@staging.medilinkmidlands.com
SUMMARY:Special Interest Group on Infection Prevention
DESCRIPTION:If you’re interested in Infection Prevention\, then this Special Interest Group will be of interest to you. \nDrawing on leading speakers and researchers in Infection Prevention\, this event will cover important topics such as: \n– Understanding the role of disinfectants and how resistance mechanisms are developed\n– Technological advances in detection of contamination and disinfection\n– Testing and development of antimicrobials for resistance in MRSA\n– Comparing persistent and non-persistent infections and their treatment \nThe event will be highly interactive and opportunity will be given to engage with both speakers and other delegates. \nOpportunities available to present for 5 minutes to showcase your products/services that are relevant to this event – click here to email your interest. \nThis free to attend event is being held by Medilink EM and the East Midlands Academic Health Science Network\, under our joint project LARIS (Lincolnshire & Rutland Innovation Support). The project aims to provide Innovation Support for Medical and Life Science businesses based in Lincolnshire & Rutland – to find out more\, click here. \nProgramme \nSpeaker Profiles \nDelegate List
URL:https://staging.medilinkmidlands.com/event/special-interest-group-on-infection-prevention/
LOCATION:Belton Woods Hotel\, Belton\, Grantham\, NG32 2LN\, United Kingdom
CATEGORIES:Medilink Midlands Event
ATTACH;FMTTYPE=image/gif:https://staging.medilinkmidlands.com/wp-content/uploads/2022/04/EMAHSN-logoweb.gif
ORGANIZER;CN="Jo Rudzki":MAILTO:info@medilinkem.com
END:VEVENT
BEGIN:VEVENT
DTSTART;VALUE=DATE:20190221
DTEND;VALUE=DATE:20190224
DTSTAMP:20260423T225544
CREATED:20181112T095755Z
LAST-MODIFIED:20181112T095755Z
UID:17910-1550707200-1550966399@staging.medilinkmidlands.com
SUMMARY:Medical Fair India
DESCRIPTION:ABHI will again be organising the UK Pavilion at Medical Fair India: India’s No. 1 Trade Fair for Hospitals\, Health Centres and Clinics. \nWith India expected to rank amongst the top three global healthcare markets by 2020\, now is the time to forge connections and invest in this dynamic market. Spaces for this ever-popular show are limited and it is anticipated that the event will sell out. \nDIT TAP grants are also available up to the value of £2\,500 (subject to eligibility). \nTo take advantage of this opportunity by exhibiting\, please complete the below forms by Monday\, 3rd of December and send them to Alison Cassells at the ABHI\, via email\, by clicking here \nBook an Exhibition POD here \nBook a Shell Scheme here
URL:https://staging.medilinkmidlands.com/event/medical-fair-india/
LOCATION:Pragati Maidan\, Metro Station\, Mathura Road Near\, Railway Colony\, Pragati Maidan\,\, New Delhi\, Delhi\, Delhi 110002\, India
END:VEVENT
BEGIN:VEVENT
DTSTART;TZID=Europe/London:20190221T080000
DTEND;TZID=Europe/London:20190221T100000
DTSTAMP:20260423T225544
CREATED:20190205T133259Z
LAST-MODIFIED:20190205T133259Z
UID:17933-1550736000-1550743200@staging.medilinkmidlands.com
SUMMARY:Brexit Briefing
DESCRIPTION:This breakfast event in partnership with Maetrics Ltd and Shakespeare Martineau LLP will provide an invaluable opportunity to find out the key legal and regulatory issues impacted by Brexit. \nProgramme \nSpeaker Profiles \nDelegate List \nThis event is free to attend\, spaces are limited and priority will be given to members of Medilink \n 
URL:https://staging.medilinkmidlands.com/event/breakfast-briefing/
LOCATION:Discovery Building\, BioCity Nottingham\, Pennyfoot Street\, Nottingham\, NG1 1GF\, United Kingdom
CATEGORIES:Medilink Midlands Event
ORGANIZER;CN="Jo Rudzki":MAILTO:info@medilinkem.com
END:VEVENT
BEGIN:VEVENT
DTSTART;TZID=Europe/London:20190228T090000
DTEND;TZID=Europe/London:20190228T133000
DTSTAMP:20260423T225544
CREATED:20181206T140846Z
LAST-MODIFIED:20181206T140846Z
UID:17913-1551344400-1551360600@staging.medilinkmidlands.com
SUMMARY:Sensing and Imaging for diagnostics\, detection and monitoring
DESCRIPTION:This event will share a wide range of developments in sensing and imaging technologies which can be used in new medical devices to improve diagnostics\, detection and monitoring of clinical signs. \nPresentation topics include: \n– Sensing inside the cell with miniaturised analytical devices\n– Sensing and imaging at micro and nano-scales using non-invasive biophotonic techniques: for diagnosis\, toxicity assessment and other clinical uses\n– Optical and physiological monitoring – from textiles to critical care to surgical instrumentation\n– From sensing data to advanced diagnostic and therapeutic tools focussing on data analysis\n– Utilising 3D tracking technology and systems for healthcare diagnostics\, detection and monitoring \nPlus the whole process of developing medical devices from bench to bedside will be discussed combining industry\, academia and NHS input with the opportunity to explore new collaborations \nThis free to attend event is being held as part of the INSTILS programme – a project part-funded by the European Regional Development Fund\, click here to be re-directed to further information about the project. \nProgramme \nSpeaker Profiles \nDelegate List
URL:https://staging.medilinkmidlands.com/event/sensing-and-imaging-for-diagnostics-detection-and-monitoring/
LOCATION:Notts County Football Club\, Meadow Lane Stadium\, Meadow Lane\, Nottingham\, NG2 3HJ\, United Kingdom
CATEGORIES:Project Event
ATTACH;FMTTYPE=image/jpeg:https://staging.medilinkmidlands.com/wp-content/uploads/2022/04/erdflogo2.jpg
ORGANIZER;CN="Jo Rudzki":MAILTO:info@medilinkem.com
END:VEVENT
BEGIN:VEVENT
DTSTART;TZID=Europe/London:20190228T100000
DTEND;TZID=Europe/London:20190228T130000
DTSTAMP:20260423T225544
CREATED:20190218T112006Z
LAST-MODIFIED:20190218T112006Z
UID:17934-1551348000-1551358800@staging.medilinkmidlands.com
SUMMARY:Continuing Healthcare
DESCRIPTION:In collaboration with NHS England\, the East Midlands Academic Health Science Network is hosting an Innovation Exchange event on 28th February 2019 to explore digital innovation in the area of Continuing Healthcare. \nIf you are involved in the provision of solutions supporting Continuing Healthcare you will be aware of the National Framework for NHS Continuing Healthcare and NHS funded nursing care report and the expectations it places on Clinical Commissioning Groups. \nBased on feedback from commissioners regarding the challenges presented in meeting the required Continuing Healthcare standards\, the five Sustainability and Transformation Partnerships (STPs) in the East Midlands are keen to explore how innovative digital solutions could assist in addressing some of these challenges. The EMAHSN is\, therefore\, hosting an half-day Innovation Exchange event. \nTo register for this event please click here
URL:https://staging.medilinkmidlands.com/event/continuing-healthcare/
LOCATION:A15\, Ingenuity Centre\, University of Nottingham\, Jubilee Campus\, Triumph Road\, Nottingham\, NG7 2TU\, United Kingdom
ORGANIZER;CN="Aisha Ajij":MAILTO:aisha.ajij@nottingham.ac.uk
END:VEVENT
END:VCALENDAR