BEGIN:VCALENDAR
VERSION:2.0
PRODID:-//Medilink Midlands - ECPv6.15.20//NONSGML v1.0//EN
CALSCALE:GREGORIAN
METHOD:PUBLISH
X-ORIGINAL-URL:https://staging.medilinkmidlands.com
X-WR-CALDESC:Events for Medilink Midlands
REFRESH-INTERVAL;VALUE=DURATION:PT1H
X-Robots-Tag:noindex
X-PUBLISHED-TTL:PT1H
BEGIN:VTIMEZONE
TZID:Europe/London
BEGIN:DAYLIGHT
TZOFFSETFROM:+0000
TZOFFSETTO:+0100
TZNAME:BST
DTSTART:20180325T010000
END:DAYLIGHT
BEGIN:STANDARD
TZOFFSETFROM:+0100
TZOFFSETTO:+0000
TZNAME:GMT
DTSTART:20181028T010000
END:STANDARD
BEGIN:DAYLIGHT
TZOFFSETFROM:+0000
TZOFFSETTO:+0100
TZNAME:BST
DTSTART:20190331T010000
END:DAYLIGHT
BEGIN:STANDARD
TZOFFSETFROM:+0100
TZOFFSETTO:+0000
TZNAME:GMT
DTSTART:20191027T010000
END:STANDARD
BEGIN:DAYLIGHT
TZOFFSETFROM:+0000
TZOFFSETTO:+0100
TZNAME:BST
DTSTART:20200329T010000
END:DAYLIGHT
BEGIN:STANDARD
TZOFFSETFROM:+0100
TZOFFSETTO:+0000
TZNAME:GMT
DTSTART:20201025T010000
END:STANDARD
END:VTIMEZONE
BEGIN:VEVENT
DTSTART;VALUE=DATE:20190702
DTEND;VALUE=DATE:20190703
DTSTAMP:20260423T151826
CREATED:20190201T143115Z
LAST-MODIFIED:20190201T143115Z
UID:17927-1562025600-1562111999@staging.medilinkmidlands.com
SUMMARY:MediWales Connects 2019
DESCRIPTION:The Welsh NHS: clinical\, care and research communities meet to share innovation and showcase collaboration \nSupported by Andrew Goodall\, Chief Executive of NHS Wales\, we are delighted to announce the date for MediWales Connects 2019 \nConference Theme – Delivering Innovation \nClick here to register your interest. \nInformation on last years programme and sponsorship packages here. \nNHS and MediWales member discounts will be available so keep your eyes out more information coming soon!
URL:https://staging.medilinkmidlands.com/event/mediwales-connects-2019/
LOCATION:The Great Hall\, Swansea University\, Swansea
CATEGORIES:Medilink Partner Event
ORGANIZER;CN="Medilink Wales":MAILTO:connects-nhs@mediwales.com
END:VEVENT
BEGIN:VEVENT
DTSTART;TZID=Europe/London:20190702T080000
DTEND;TZID=Europe/London:20190702T093000
DTSTAMP:20260423T151826
CREATED:20190610T154350Z
LAST-MODIFIED:20190610T154350Z
UID:17984-1562054400-1562059800@staging.medilinkmidlands.com
SUMMARY:Study an Executive MBA via an apprenticeship
DESCRIPTION:Julie Rosborough\, MBA Portfolio Leader at Nottingham Business School\, will be hosting a breakfast event to give an insight into the Senior Leaders Master’s Degree Apprenticeship route to study an Executive MBA\, with an overview of the programme and an opportunity to ask questions. The breakfast will give you an idea of what it’s like to study at Nottingham Business School and where it can take you. Information about how your company can use the Senior Leaders Apprenticeship Levy will be provided as well as further information about the course\, and the mentoring and coaching available. \nNottingham Business School launched their Senior Leaders Master’s Degree Apprenticeship (Level 7) in 2017 building upon Government initiatives to promote apprenticeships and applied learning approached in the workplace. The apprenticeship is underpinned by the Executive MBA degree\, an internationally recognised postgraduate management degree. \nThis level 7 qualification is eligible for funding under the Apprenticeship Levy. If your organisation is a levy payer you may be able to fund participation from your existing employer contribution. If you are not currently paying the apprenticeship levy then you may be eligible for support for up to 95% of fees. \nWe would encourage businesses from both the corporate sector and small to medium size enterprises to attend this event on July 2nd at NTU. \nFor further information and to book onto the event please click here.
URL:https://staging.medilinkmidlands.com/event/study-an-executive-mba-via-an-apprenticeship/
LOCATION:Nottingham Trent University\, Pavillion Building\, Clifton Campus\, Nottingham\, NG11 8NS
CATEGORIES:Medilink Partner Event
ORGANIZER;CN="Nottingham Trent University":MAILTO:Siobhan.Urquhart@ntu.ac.uk
END:VEVENT
BEGIN:VEVENT
DTSTART;TZID=Europe/London:20190702T080000
DTEND;TZID=Europe/London:20190702T123000
DTSTAMP:20260423T151826
CREATED:20190624T104736Z
LAST-MODIFIED:20190624T104736Z
UID:17988-1562054400-1562070600@staging.medilinkmidlands.com
SUMMARY:International Business Growth Breakfast
DESCRIPTION:Enterprise Europe Network is offering businesses – both novices and more experienced traders on the international stage – the opportunity to find out about the wealth of support on offer to help grow their business internationally.\nDespite the constant evolution of the international trade landscape\, help for SMEs looking to do business abroad continues to be readily available for companies in the Midlands. Attendees will have the chance to find out more about the support on offer locally and internationally and hear from companies which have cracked international markets with our help. \nFor further information and to book your place please click here.
URL:https://staging.medilinkmidlands.com/event/international-business-growth-breakfast/
LOCATION:Village Hotel Nottingham\, Brailsford Way\, Beeston\, Nottinghamshire\, NG9 6DL\, United Kingdom
CATEGORIES:Medilink Partner Event
END:VEVENT
BEGIN:VEVENT
DTSTART;TZID=Europe/London:20190703T090000
DTEND;TZID=Europe/London:20190703T170000
DTSTAMP:20260423T151826
CREATED:20190611T092531Z
LAST-MODIFIED:20190611T092531Z
UID:17986-1562144400-1562173200@staging.medilinkmidlands.com
SUMMARY:Nottingham Digital Summit 2019
DESCRIPTION:The Nottingham Digital Summit is the Midland’s biggest digital marketing event\, bringing together more than 700 delegates from the marketing\, creative\, and technology communities. \nIt is a unique charity fundraising event\, with all your delegate fee going to our charity of the year\, the Samaritans of Nottingham. \nLast year was sold out\, so don’t miss this unique opportunity to gather with other digital professionals from across the region. \nFor further details and to book your place\, please click here.
URL:https://staging.medilinkmidlands.com/event/nottingham-digital-summit-2019/
LOCATION:The Albert Hall\, N Circus Street\, Nottingham\, NG1 5AA\, United Kingdom
CATEGORIES:Medilink Partner Event
END:VEVENT
BEGIN:VEVENT
DTSTART;TZID=Europe/London:20190704T090000
DTEND;TZID=Europe/London:20190704T170000
DTSTAMP:20260423T151826
CREATED:20181127T171919Z
LAST-MODIFIED:20181127T171919Z
UID:17912-1562230800-1562259600@staging.medilinkmidlands.com
SUMMARY:Medilink East Midlands Innovation Day 2019
DESCRIPTION:Innovation Day sits firmly in our calendar of events and is a must-attend event for those in the Life Sciences sector across the East Midlands. \nHosted by Award-Winning Journalist\, Broadcaster and Writer Sue Nelson\, the conference featured top speakers covering key industry topics. These included: \nDarren Clark\, CEO\, Medilink East Midlands\nChas Bountra\, Pro-Vice-Chancellor for Innovation\, University of Oxford\nChris Barker\, CEO\, Spirit Healthcare\nPeter Anderton\, TEDx speaker and Director\, Internal Alignment\nProfessor Dan Clark\, Head of Clinical Engineering\, Nottingham University Hospital Trust\, Expert member of the NICE Medical Technology Advisory Committee (MTAC)\nJon Michaelis\, Managing Director\, Neater Solutions\nProfessor John Hunt\, Research Theme Leader at NTU for Medical Technologies and Advanced Materials\nDr Mitch Grigoriu\, Managing Director\, AES Group\nSimon McMaster\, Director\, Footfalls and Heartbeats\nLaura Boyd\, Deputy Director\, NHS Innovation Accelerator\nWing Commander Marcus Stow\, Chief Operating Officer\, JHubMed \nPeter Anderton of Internal Alignment has a special offer for all Medilink Members – to view what he can do for your business\, please click here.
URL:https://staging.medilinkmidlands.com/event/medilink-east-midlands-innovation-day-2019/
LOCATION:The Nottingham Belfry\, Mellors Way\, Off Woodhouse Way\, Nottingham\, NG8 6PY\, United Kingdom
CATEGORIES:Medilink Midlands Event
ORGANIZER;CN="Jo Rudzki":MAILTO:info@medilinkem.com
END:VEVENT
BEGIN:VEVENT
DTSTART;TZID=Europe/London:20190704T164500
DTEND;TZID=Europe/London:20190704T190000
DTSTAMP:20260423T151826
CREATED:20190603T135403Z
LAST-MODIFIED:20190603T135403Z
UID:17971-1562258700-1562266800@staging.medilinkmidlands.com
SUMMARY:Medilink East Midlands Summer Networking
DESCRIPTION:Sponsored by the GRIP project\, this evening will provide a great opportunity for members and non-members to network in a relaxed environment. \nDelegate List \nProgramme \n4.45pm – Welcome from Medilink East Midlands \n4.50pm  – Presentation from GRIP – Growing Rehabilitation Industries Project \nGRIP is a local productivity and sector uplift programme aiming to create sustainable economic growth in the Medical Technology / Rehabilitation sector. Businesses in the Nottingham – Loughborough– Leicester area stand to benefit from industry focussed research and innovation opportunities to develop projects\, create jobs and enhance high quality skills. This short presentation will be delivered by the GRIP team and aims to inform the audience regards the opportunity to develop new innovation and to identify potential exemplar projects. \n5.05pm –  Networking and GRIP 1-2-1 engagement with delegates \n7pm – Event Close \nProject Interest Form \nPlease return completed forms by 31st July to Dr Adam Warren:  A.P.Warren@lboro.ac.uk \n  \n  \n    
URL:https://staging.medilinkmidlands.com/event/medilink-east-midlands-summer-networking/
LOCATION:The Nottingham Belfry\, Mellors Way\, Off Woodhouse Way\, Nottingham\, NG8 6PY\, United Kingdom
ATTACH;FMTTYPE=image/jpeg:https://staging.medilinkmidlands.com/wp-content/uploads/2022/04/UoL-Logo-Full-Colour-scaled.jpg
END:VEVENT
BEGIN:VEVENT
DTSTART;TZID=Europe/London:20190709T080000
DTEND;TZID=Europe/London:20190709T160000
DTSTAMP:20260423T151826
CREATED:20190610T144541Z
LAST-MODIFIED:20190610T144541Z
UID:17982-1562659200-1562688000@staging.medilinkmidlands.com
SUMMARY:Impacting Business by Design - Medical Conference
DESCRIPTION:Nottingham Trent University invites small and medium organisations within the medical\, health\, engineering and manufacturing product industries to a day exploring the opportunities for business looking to successfully design\, develop and commercialise new products. \nThis event will provide businesses with the opportunity to hear from leading academic and industry experts in the medical\, design and technology sectors\, and will cover: \nMedical regulations and compliance (ISO13485)\nThe value of design\nHow to obtain design and trade mark registrations in several countries\nAdvances in 3D printing and materials and their application in the medical technology industry\nOpportunities and routes to working with and in the NHS\nMedical app development\nSmart Medical Textiles\nAdditional Information\nFree to attend\nFree parking for delegates\nComplimentary breakfast\, networking lunch and refreshment breaks will be provided \nFor further details and to book your free place\, please click here.
URL:https://staging.medilinkmidlands.com/event/impacting-business-by-design-medical-conference/
LOCATION:Hilton Hotel East Midlands Airport\, Junction 24 M1 Derby Road\, Castle Donington\, DE74 2YZ\, United Kingdom
CATEGORIES:Medilink Partner Event
ORGANIZER;CN="Nottingham Trent University":MAILTO:Siobhan.Urquhart@ntu.ac.uk
END:VEVENT
BEGIN:VEVENT
DTSTART;TZID=Europe/London:20190711T090000
DTEND;TZID=Europe/London:20190711T133000
DTSTAMP:20260423T151826
CREATED:20190401T075515Z
LAST-MODIFIED:20190401T075515Z
UID:17956-1562835600-1562851800@staging.medilinkmidlands.com
SUMMARY:Food Supplements Special Interest Group (SIG)
DESCRIPTION:Cannabidiol (CBD) – Pandora’s Box? A status update \nCannabidiol (CBD) continues to make headlines\, whether as the next big thing in food and drink or being the centre of controversy. In Jan 2019 a change in the status of CBD on the Novel Food Union List caused ripples across the wellness sector. No definitive position has yet to be agreed\, with trade associations lobbying hard both within UK and Europe. Whilst we are unlikely to have all the answers\, there will be external speakers present. There may be some resolution\, but we don’t have a crystal ball. It’s a great opportunity to meet like minds and be informed about this growing sector. \nThis free to attend event is held as part of the INSTILS programme – a project part-funded by the European Regional Development Fund\, click here to be re-directed to further information about the project. \nProgramme  \nSpeaker Profiles \nDelegate List
URL:https://staging.medilinkmidlands.com/event/food-supplements-special-interest-group-sig-7/
LOCATION:We are Pioneer Group Nottingham\, Innovation Building\, (formerly BioCity)\, Pennyfoot Street\, Nottingham\, NG1 1GF\, United Kingdom
CATEGORIES:Project Event
ATTACH;FMTTYPE=image/jpeg:https://staging.medilinkmidlands.com/wp-content/uploads/2022/04/erdflogo2.jpg
ORGANIZER;CN="Jo Rudzki":MAILTO:info@medilinkem.com
END:VEVENT
BEGIN:VEVENT
DTSTART;TZID=Europe/London:20190718T090000
DTEND;TZID=Europe/London:20190718T133000
DTSTAMP:20260423T151826
CREATED:20190610T145149Z
LAST-MODIFIED:20190610T145149Z
UID:17983-1563440400-1563456600@staging.medilinkmidlands.com
SUMMARY:Medical Technologies and Systems Special Interest Group (SIG)
DESCRIPTION:The increasing adoption of new technology is widely recognised as crucial in making health care more cost-effective\, whilst also providing greater benefit to both healthcare professionals and patients. This Medical Technologies & Systems SIG will provide an opportunity for discussion and networking with a range of delegates from industry and academia linked to Connecting Technology with Patient Healthcare. \nThe event will include presentations on: \n-Involving Patients in Administering Their Own Sedative in Surgery \n-Leveraging mobile technology in clinical drug development \nThis free to attend event is being held as part of the INSTILS programme – a project part-funded by the European Regional Development Fund\, click here to be re-directed to further information about the project. \nProgramme \nSpeaker Profiles \nDelegate List
URL:https://staging.medilinkmidlands.com/event/medical-technologies-and-systems-special-interest-group-sig-4/
LOCATION:We are Pioneer Group Nottingham\, Innovation Building\, (formerly BioCity)\, Pennyfoot Street\, Nottingham\, NG1 1GF\, United Kingdom
CATEGORIES:Project Event
ATTACH;FMTTYPE=image/jpeg:https://staging.medilinkmidlands.com/wp-content/uploads/2022/04/erdflogo2.jpg
ORGANIZER;CN="Jo Rudzki":MAILTO:info@medilinkem.com
END:VEVENT
END:VCALENDAR