BEGIN:VCALENDAR
VERSION:2.0
PRODID:-//Medilink Midlands - ECPv6.15.20//NONSGML v1.0//EN
CALSCALE:GREGORIAN
METHOD:PUBLISH
X-ORIGINAL-URL:https://staging.medilinkmidlands.com
X-WR-CALDESC:Events for Medilink Midlands
REFRESH-INTERVAL;VALUE=DURATION:PT1H
X-Robots-Tag:noindex
X-PUBLISHED-TTL:PT1H
BEGIN:VTIMEZONE
TZID:Europe/London
BEGIN:DAYLIGHT
TZOFFSETFROM:+0000
TZOFFSETTO:+0100
TZNAME:BST
DTSTART:20190331T010000
END:DAYLIGHT
BEGIN:STANDARD
TZOFFSETFROM:+0100
TZOFFSETTO:+0000
TZNAME:GMT
DTSTART:20191027T010000
END:STANDARD
BEGIN:DAYLIGHT
TZOFFSETFROM:+0000
TZOFFSETTO:+0100
TZNAME:BST
DTSTART:20200329T010000
END:DAYLIGHT
BEGIN:STANDARD
TZOFFSETFROM:+0100
TZOFFSETTO:+0000
TZNAME:GMT
DTSTART:20201025T010000
END:STANDARD
BEGIN:DAYLIGHT
TZOFFSETFROM:+0000
TZOFFSETTO:+0100
TZNAME:BST
DTSTART:20210328T010000
END:DAYLIGHT
BEGIN:STANDARD
TZOFFSETFROM:+0100
TZOFFSETTO:+0000
TZNAME:GMT
DTSTART:20211031T010000
END:STANDARD
END:VTIMEZONE
BEGIN:VEVENT
DTSTART;TZID=Europe/London:20200206T093000
DTEND;TZID=Europe/London:20200206T130000
DTSTAMP:20260423T040353
CREATED:20191218T131035Z
LAST-MODIFIED:20191218T131035Z
UID:18027-1580981400-1580994000@staging.medilinkmidlands.com
SUMMARY:Introduction to NHS Market Access
DESCRIPTION:LIMITED SPACES AVAILABLE \nDelivered by EMAHSN staff the Introduction to NHS Market Access workshop gives innovators key insights into the complexities of the NHS and wider healthcare ecosystem\, as well as the support available to help you to introduce your health technology product or service. \nThe briefings are for small groups of companies or innovators to allow the session to be informal and interactive and for you to benefit from insider knowledge of those working in the NHS system. \nThis is the first part of a 3 workshop programme ‘Getting Ready for NHS Market Entry’\, designed to get you ready to successfully secure business with NHS Organisations. Please see below for details of part 2 & 3. \nThis free to attend event is being held as part of the SoLSTICE programme – a project part-funded by the European Regional Development Fund\, click here to be re-directed to further information about the project. \nProgramme \nSpeaker Profiles \nDelegate List \n[popup_trigger id=”1980″ tag=”button” classes=”eventbutton”]Book Now[/popup_trigger] \n  \nPlaces are strictly limited to one delegate per organisation. Priority will be given to SMEs. \nNon-Attendance: should you book on Medilink East Midlands events and fail to attend on two occasions without letting us know\, we reserve the right to refuse to accept bookings from your organisation in the future. \nHow to find Leicester City Football Club: \nFor full address details and directions\, please click here to visit the venue’s website. There is complimentary parking available on site. The sat nav postcode is LE2 7FL.  The nearest main train station is Leicester\, which is 1.5 miles away. \n \nALTERNATIVE DATES \n\nWednesday 22 April – Lincolnshire\, Venue TBC. Please click here for further details.\nTuesday 9 June – Northamptonshire. Please click here for further details.\nThursday 6 August – Derbyshire. Please click here for further details.\n\n  \nPart 2 – ‘Is your Business Case NHS Ready?’  Wednesday 4 March\, BioCity Nottingham. For further details please click here. \nPart 3 – ‘Creating Valid Evidence & Evaluation for the NHS’  Thursday 19 March\, Venue TBC\, Northampton. For further details please click here. \n 
URL:https://staging.medilinkmidlands.com/event/introduction-to-nhs-market-access/
LOCATION:Leicester City Football Club\, Filbert Way\, LE2 7FL\, United Kingdom
CATEGORIES:Project Event
ATTACH;FMTTYPE=image/jpeg:https://staging.medilinkmidlands.com/wp-content/uploads/2022/04/cpd_certified_rgb11-2.jpg
ORGANIZER;CN="Jo Rudzki":MAILTO:info@medilinkem.com
END:VEVENT
BEGIN:VEVENT
DTSTART;TZID=Europe/London:20200213T103000
DTEND;TZID=Europe/London:20200213T160000
DTSTAMP:20260423T040353
CREATED:20200108T142119Z
LAST-MODIFIED:20200108T142119Z
UID:18051-1581589800-1581609600@staging.medilinkmidlands.com
SUMMARY:CE Marking and FDA Regulations Workshop
DESCRIPTION:SEHTA and Psephos Biomedica are running their next workshop on 13 February in London\, on CE Marking and FDA Regulations requirements. \nWhy attend? : Medical technology developers are faced with choices on which markets to access first. The EU and the US represent 2/3 of all spend on medical devices and so understanding what is required to access these two markets is essential. \nDate: Thursday 13th February 2020 \nVenue: Hill Dickinson\, Broadgate Tower\, 20 Primrose Street\, London EC2A 2EW \nTime: 10:30 – 16.00 \nCost: SEHTA members fee: £270 + VAT / Non-Members: £320 + VAT per delegate \nFor further information and to register\, please click here. \nNot a member of SEHTA? It’s free to join – just click here
URL:https://staging.medilinkmidlands.com/event/ce-marketing-and-fda-regulations-workshop/
LOCATION:Hill Dickinson\, Broadgate Tower\, 20 Primrose Street\, London\, EC2A 2EW
CATEGORIES:Medilink Partner Event
ORGANIZER;CN="Clare Ansett":MAILTO:clare.ansett@sehta.co.uk
END:VEVENT
BEGIN:VEVENT
DTSTART;TZID=Europe/London:20200213T180000
DTEND;TZID=Europe/London:20200213T213000
DTSTAMP:20260423T040353
CREATED:20200106T115504Z
LAST-MODIFIED:20200106T115504Z
UID:18043-1581616800-1581629400@staging.medilinkmidlands.com
SUMMARY:Medilink West Midlands Medical & Healthcare Business Awards
DESCRIPTION:Join Medilink West Midlands on Thursday 13 February 2020 to celebrate its 18th year supporting the West Midlands life sciences\, health care and med-tech community and showcase the ‘best of the best’ in the region. \nAs Medilink West Midlands proudly approaches its 18th year supporting the regions life sciences\, health care and med-tech community\, we invite you to join us on Thursday 13 February at our annual Medical and Healthcare Business Awards at the Burlington Hotel\, Birmingham. The West Midlands boasts a world-class innovation infrastructure\, with ambitious businesses delivering positive impact into health and care and with your help we want to shine the light on the brilliance in our region. \nWe want you – we know you’re out there! Why not apply or nominate an award candidate?  \nThis year we have six awards; \n\nStart-up\nDelivering innovation into health and care\nExport\nInnovation\nOutstanding Achievement\nSupply Chain\n\nClick here to find out more on each award category. \nAward benefits: \n\nAll shortlisted applicants will be invited to attend our awards on 13 February 2020 with two free tickets\nAll winners are automatically included in the Medilink UK National Awards on 1 April in Birmingham\, part of the Med-Tech Innovation Expo – The UK’s leading medical design and manufacturing technology event\nRegional and national publicity.\n\nJoin us to celebrate our 18th year anniversary and the success of our local community. \nTo find out more on how to apply or secure your place at the awards please click here
URL:https://staging.medilinkmidlands.com/event/medilink-west-midlands-medical-healthcare-business-awards/
LOCATION:The Burlington Hotel\, 126 New Street\, Birmingham\, B2 4JQ\, United Kingdom
CATEGORIES:Medilink Partner Event
ORGANIZER;CN="Zoe Heather":MAILTO:info@medilinkmidlands.com
END:VEVENT
END:VCALENDAR