BEGIN:VCALENDAR
VERSION:2.0
PRODID:-//Medilink Midlands - ECPv6.15.20//NONSGML v1.0//EN
CALSCALE:GREGORIAN
METHOD:PUBLISH
X-ORIGINAL-URL:https://staging.medilinkmidlands.com
X-WR-CALDESC:Events for Medilink Midlands
REFRESH-INTERVAL;VALUE=DURATION:PT1H
X-Robots-Tag:noindex
X-PUBLISHED-TTL:PT1H
BEGIN:VTIMEZONE
TZID:Europe/London
BEGIN:DAYLIGHT
TZOFFSETFROM:+0000
TZOFFSETTO:+0100
TZNAME:BST
DTSTART:20200329T010000
END:DAYLIGHT
BEGIN:STANDARD
TZOFFSETFROM:+0100
TZOFFSETTO:+0000
TZNAME:GMT
DTSTART:20201025T010000
END:STANDARD
BEGIN:DAYLIGHT
TZOFFSETFROM:+0000
TZOFFSETTO:+0100
TZNAME:BST
DTSTART:20210328T010000
END:DAYLIGHT
BEGIN:STANDARD
TZOFFSETFROM:+0100
TZOFFSETTO:+0000
TZNAME:GMT
DTSTART:20211031T010000
END:STANDARD
BEGIN:DAYLIGHT
TZOFFSETFROM:+0000
TZOFFSETTO:+0100
TZNAME:BST
DTSTART:20220327T010000
END:DAYLIGHT
BEGIN:STANDARD
TZOFFSETFROM:+0100
TZOFFSETTO:+0000
TZNAME:GMT
DTSTART:20221030T010000
END:STANDARD
END:VTIMEZONE
BEGIN:VEVENT
DTSTART;TZID=Europe/London:20211102T133000
DTEND;TZID=Europe/London:20211102T143000
DTSTAMP:20260421T193058
CREATED:20211004T073355Z
LAST-MODIFIED:20211004T073355Z
UID:18770-1635859800-1635863400@staging.medilinkmidlands.com
SUMMARY:*Cancelled *Virtual Workshop: Is your Business Case NHS Ready?
DESCRIPTION:Unfortunately this event has been cancelled due to unforeseen circumstances. Please accept our apologies for any inconvenience this may cause. \n  \nJoin the second of our two-part CPD accredited virtual workshops\, Is your Business Case NHS Ready?\, delivered by the East Midlands Academic Health Science Network (EMAHSN). \nThe challenge as innovators and companies selling to the NHS is often that when you have a product that improves patient outcomes and saves cost you still cannot get it adopted by the NHS. This is frequently because there isn’t a fully developed business case. \nPART 1 is a pre-recorded 40 minute webinar that you can watch at a time convenient to you. \nThe webinar will cover: \n– What a business case is\, what is its purpose and why is it so important? \n– Who reviews the business case and how are they evaluated? \n– How to construct a good business case \n—————— \nPART 2 is a live 1-hour Q&A session that will take place on Tuesday 2nd November. \nIn order to gain access to this live session\, delegates are required to watch the pre-recorded webinar prior to attending\, by close of play on Monday 1st November \nThe Q&A session will be held with a panel of experts from the EMAHSN and delegates will have the opportunity to ask questions directly to the team. \n  \n  \nUpon registration you will be sent a link to the pre-recorded webinar by a member of the Medilink East Midlands events team.  Joining details for the live Q&A session will be distributed separately once the webinar has been viewed.  \nLIVE Q&A PANEL: \nJulian Patel\, Commercial Manager\, EMAHSN (CHAIR) \n  \n  \n  \n  \n  \n \n  \nTim Robinson\, Commercial Director\, EMAHSN \n  \n  \n  \n  \nSPEAKER PROFILE (WEBINAR): \n \nNicholas Brown\, Commercial Manager\, East Midlands Academic Health Science Network \nNick joined the East Midlands Academic Health Science Network as Commercial Manager in 2015. Prior to this\, Nick has more than 20 years’ experience of the medical industry working with manufacturers\, distributors and clinical staff from the UK and European health sectors\, from both the sales and marketing side\, as well as in a consulting and advisory role. His Commercial Manager role focuses on building closer links between healthcare and businesses; identifying new services and products that can be introduced for the benefit of patients throughout the region – as well as marketed throughout the UK and abroad\, providing wealth creation opportunities across the East Midlands.
URL:https://staging.medilinkmidlands.com/event/virtual-workshop-is-your-business-case-nhs-ready-2/
CATEGORIES:Medilink Midlands Event
ATTACH;FMTTYPE=image/jpeg:https://staging.medilinkmidlands.com/wp-content/uploads/2022/04/MM-Badge-for-EMAHSN-Webinars-2.jpg
ORGANIZER;CN="Jo Rudzki":MAILTO:info@medilinkem.com
END:VEVENT
BEGIN:VEVENT
DTSTART;TZID=Europe/London:20211111T100000
DTEND;TZID=Europe/London:20211111T110000
DTSTAMP:20260421T193058
CREATED:20210928T081420Z
LAST-MODIFIED:20210928T081420Z
UID:18765-1636624800-1636628400@staging.medilinkmidlands.com
SUMMARY:WEBINAR: Digital Technology and the Future of Healthcare
DESCRIPTION:This webinar will explore how digital technologies have been used during the pandemic and consider the potential for driving change in health and social care provision. \nThe potential of ‘big data’ approaches are increasingly being recognised\, and the value of people’s data signatures as indicators of activity\, well-being\, and broader social trends is being explored in various healthcare settings. \nHosted by Medilink Midlands\, this webinar will feature speakers from De Montfort University’s Digital Health research team and partner organisation Howz. Howz is a member of TSA\, the industry body for Technology Enabled Care (TEC)\, representing the largest industry specific network in Europe and bringing together a growing membership of organisations across local government\, health and the private sector. \nKey areas explored at the webinar will include:\n• Findings from an ongoing project on using a smart-meter app to detect electricity usage patterns within the home\, and the potential to identify significant changes in an individual’s physical ability.\n• Capacity for digital technology to enhance health and well-being.\n• The long-term trends of digital technology in healthcare. \nThis free-to-attend event is held as part of the SoLSTICE programme – a project part-funded by the European Regional Development Fund\, click here to be re-directed to further information about the project. This event is classed as State Aid to participating businesses\, the value of which is £127\, but is delivered completely free of charge to participants. \nPlease note: whilst this event is held as part of the SoLSTICE programme\, attendance is not restricted to companies in the LLEP area and is open to all. \n  \nSpeaker Profiles \n  \n \n  \nDr Simon Oldroyd\, Interim Deputy Vice-Chancellor \nDr Simon Oldroyd became Interim Deputy Vice-Chancellor in April 2019. Prior to this he had been PVC/Dean for the Faculty of Health and Life Sciences since February 2015 and Deputy Dean to the faculty since October 2011. \n  \n  \n  \n  \n \nProfessor Bertha Ochieng\, Professor of Integrated Health and Social Care\, DMU \nBertha Ochieng is Professor of Integrated Health and Social Care\, Faculty of Health and Life Sciences\, De Montfort University. A key aspect of her research is in examining digital solutions that support development of integrated models of health and social care and community engagement. \n  \n  \n  \n  \n \nProfessor Ivan Browne\, Director of Public Health at Leicester City Council \nIvan Browne is the Director of Public Health at Leicester City Council and has been spearheading the local response to COVID 19 in the City.  He is a professor of public health practice with De Montfort University and has a particular interest in the potential of digital technologies to improve population health and wellbeing. \n  \n  \n  \n \nLouise Rogerson\, Chief Operating Officer\, Howz \nLouise Rogerson is a physiotherapist with 18 years experience working within the NHS as a frontline clinician\, operational service manager\, and latterly as a commissioner.  As a commissioner Louise was responsible for development of healthcare service pathways at a population level including stroke\, palliative care\, and CVD.  Seeing the data available to her as a commissioner Louise realised that more needed to be done to fill the data gap for older people to enable access to support services before they hit crisis point. \nAs Chief Operating Officer for Howz\, Louise is responsible for the customer experience\, building partnerships\, project management\, and team development. Howz describes the daily routine for an individual through smart meter data and other sensors and aims to detect changes earlier.  Louise is part of the Surrey NHS project management team providing expertise in both development and implementation of remote monitoring.  Louise also continues to run her own practice as a physiotherapist with a special interest in neurology and older people. \n  \n  \n This webinar is part of Leicester Business Festival 8-18th November. For further details please click here. \n  \n  \n  \n 
URL:https://staging.medilinkmidlands.com/event/webinar-digital-technology-and-the-future-of-healthcare/
CATEGORIES:Project Event
ATTACH;FMTTYPE=image/jpeg:https://staging.medilinkmidlands.com/wp-content/uploads/2022/04/Louise-Rogerson-headshot.jpg
ORGANIZER;CN="Jo Rudzki":MAILTO:info@medilinkem.com
END:VEVENT
BEGIN:VEVENT
DTSTART;TZID=Europe/London:20211116T080000
DTEND;TZID=Europe/London:20211116T170000
DTSTAMP:20260421T193058
CREATED:20210816T092101Z
LAST-MODIFIED:20210816T092101Z
UID:18755-1637049600-1637082000@staging.medilinkmidlands.com
SUMMARY:Pharma Integrates 2021
DESCRIPTION:Focused on pharma and healthcare senior leadership \nBroadcast live online on the 16th of November 2021\, Pharma Integrates is a unique event bringing together pharma and healthcare leaders across the pharmaceutical pipeline to address their needs\, to share insights and create debate on crucial topics that influence the future of patient outcomes. \nThis year the three core themes for the event are: \nPeople – How do we ensure our people have the right skills and support to succeed? How do we develop the best partnerships and engage with patients? \nProcesses – How can we adapt our processes to accelerate the development and delivery of medicines? \nPredictions – How can we predict future pharma needs and prevent the next pandemics? How can we use the current focus on pharma to demystify medicines? \nMEDILINK MEMBERS OFFER: As a partner of Pharma Integrates\, Medilink have secured a limited number of complementary tickets for Medilink Members. Please contact us by 17:00 on 11 November 2021 to obtain a promo code to obtain your free ticket – click here. \nPlease note: The complimentary tickets are on a first come\, first served basis. Registrations cannot be accepted after this date of 11 November. \nTo find more information\, register and to view the agenda and high-profile speakers\, please click here.
URL:https://staging.medilinkmidlands.com/event/pharma-integrates-2021/
CATEGORIES:Medilink Partner Event
ATTACH;FMTTYPE=image/jpeg:https://staging.medilinkmidlands.com/wp-content/uploads/2022/04/Pharma-main-date.jpg
END:VEVENT
BEGIN:VEVENT
DTSTART;TZID=Europe/London:20211116T143000
DTEND;TZID=Europe/London:20211116T160000
DTSTAMP:20260421T193058
CREATED:20211013T080011Z
LAST-MODIFIED:20211013T080011Z
UID:18778-1637073000-1637078400@staging.medilinkmidlands.com
SUMMARY:IN-PERSON EVENT: Medilink Midlands Annual General Meeting (AGM)
DESCRIPTION:The Medilink Midlands Annual General Meeting (AGM) will take place on Tuesday 16 November from 2.30 pm – 4.00 pm. \nHosted at the School of Health Sciences\, at Medilink patron Birmingham City University\, City South Campus. \nFollowing the formal presentations\, you will have the chance to meet and network with fellow members and representatives from the Board of Directors. \nYou will also hear from our members sharing their recent experiences and how they have benefited from their membership. \nAt the end of the formal proceedings\, guests will have the opportunity for an optional tour of the School of Health Sciences facilities (4pm-4:30pm). \nWe’re looking forward to seeing our members in person and hope you can join us. \nPlease note: Non-members are welcome to attend the AGM. \nTo book your place\, please complete the online booking form below.  \n[popup_trigger id=”2016″ tag=”button” classes=”eventbutton”]Book Now[/popup_trigger] \nOnce your booking form has been received a member of the events team will be in touch to confirm your place\, please note this is not an automated system
URL:https://staging.medilinkmidlands.com/event/in-person-event-medilink-midlands-annual-general-meeting-agm/
LOCATION:Room SCT153\, Birmingham City University\, Seacold Building\, City South Campus - School of Health Sciences\, Westbourne Road\, Birmingham\, B15 3TN
CATEGORIES:Medilink Midlands Event
ORGANIZER;CN="Zoe Heather":MAILTO:info@medilinkmidlands.com
END:VEVENT
BEGIN:VEVENT
DTSTART;TZID=Europe/London:20211117T100000
DTEND;TZID=Europe/London:20211117T113000
DTSTAMP:20260421T193058
CREATED:20211013T074941Z
LAST-MODIFIED:20211013T074941Z
UID:18771-1637143200-1637148600@staging.medilinkmidlands.com
SUMMARY:WEBINAR: An update on current changes to MDR\, IVDR & Role of the Person Responsible (PRRC)
DESCRIPTION:The next MedTech Regulatory Special Interest Group (SIG)\, hosted by regulatory affairs expert Ben Jacoby\, from Cambridge RA Ltd\, will provide a comprehensive update on the current Medical Device Regulation (MDR) and In Vitro Diagnostic Regulation (IVDR) landscape\, plus an overview of the requirements and practical considerations needed within a company to meet regulatory compliance. \nThe next MedTech Regulatory Special Interest Group (SIG)\, hosted by regulatory affairs expert Richard Young\, from AcclaimBiomedical Consulting Ltd\, will provide a comprehensive update on the current Medical Device Regulation (MDR) and In Vitro Diagnostic Regulation (IVDR) landscape\, plus an overview of the requirements and practical considerations needed within a company to meet regulatory compliance. \nBen will be joined by Anne Jury\, a regulatory affairs consultant with over 18 years experience in the medical and diagnostic healthcare products industries\, and Alexander Pearce\, Educo Life Sciences\, well experienced in helping medical device professionals develop their skills and knowledge through learning and development. \nDuring the presentations\, they will cover: \n– Introduction to current changes to requirements MDR & IVDR\n– ISO13485 minimum Quality Management Systems (QMS) requirements\n– Clinical Evidence\n– General Safety and Performance Requirements (GSPR)\n– Lay Users (individuals who do not have formal education in a relevant field of healthcare or medicine display)\n– Roles of the Person Responsible for Regulatory Compliance (PRRC)\n– There will be time at the end of the presentations for a Q&A session. Please submit any questions in advance for the panel to discuss during the presentation on the online booking form. \nCLICK HERE TO SECURE YOUR PLACE\nThis free-to-attend event is held as part of the ACTIS programme – a project part-funded by the European Regional Development Fund\, click here to be re-directed to further information about the project. This event is classed as State Aid to participating businesses\, the value of which is £190\, but is delivered completely free of charge to participants. \nPlease note: whilst this event is held as part of the ACTIS programme\, attendance is not restricted to companies in the SEMLEP area and is open to all. \nDuration: 1 hour and 30 minutes \nSpeaker Profiles: \n \nBen Jacoby\, Director\, Cambridge RA Ltd\nBen is an experienced regulatory consultant who has worked with clients in the diagnostic\, medical device and pharmaceutical industries to help them bring innovative products to market. He provides regulatory and strategic guidance on EU\, UK and US issues to clients.  Core competencies include technical files\, Clinical studies; EU and UK legislation including IVD’s\, companion diagnostics and medical devices; EU legislative requirements for instruments; and classification of devices. With more than 25 years of experience in regulatory affairs\, he was a European-authorized representative at Ortho-Clinical Diagnostics (a Johnson & Johnson company at the time). He is an effective partner in project management and in achieving goals and deadlines. He is a skilled and persuasive communicator with clients and colleagues at all levels; and flexible and adaptable to changing environments and business needs. Ben has a PhD in Biochemistry from the University of London. \n \nAlexander Pearce\, MBA | Director of Educo Life Sciences\nAlexander is the Director of Educo Life Sciences\, designing learning programmes to meet the needs of life science professionals. He is a specialist in learning product development and was previously Product Manager for a leading Life Science training organisation. He has extensive knowledge of learning pathways\, content creation and digital training solutions and was responsible for managing a portfolio of over 300 courses. He was instrumental in designing and delivering online learning solutions.\nAlexander is a firm believer that technical training can be delivered in an interactive and impactful way to avoid it being repetitive and boring. He believes training solutions that combine online learning tools and techniques with face-to-face learning delivers greater improved skill retentions and performance.\nAlexander has a BSc in Medical Physiology and an MBA from the University of Leicester. \n \nAnne Jury\, Director of Anne Jury Associates\, Medical Devices Regulatory Affairs Consultancy\nAnne Jury is a consultant and trainer in medical devices EU & UK regulatory compliance and quality assurance systems. Starting out as a company microbiologist for Smith & Nephew Textiles Anne went on to work for Notified Bodies\, BSI and then TÜV Product Service as a lead auditor and later as UK Regional Manager.\nAnne has run her own consultancy business since 2000 providing medical device regulatory support to companies ranging from research institutes and start-up companies to SMEs and multi-national market leaders. Anne was one of the founders and visiting lecturers to the MSc in Medical Technology Regulatory Affairs run by TOPRA and Cranfield University where she was also an external examiner from 2009 to 2012. Anne is also a course leader for Educo Life Sciences\, the learning and development specialist\, since 2020. Anne is Vice-President of Team-PRRC\, a non-profit organization set up in March 2020 to support individuals in the role of PRRC under the EU medical device regulations.
URL:https://staging.medilinkmidlands.com/event/webinar-an-update-on-current-changes-to-mdr-ivdr-role-of-the-person-responsible-prrc/
CATEGORIES:Project Event
ATTACH;FMTTYPE=image/jpeg:https://staging.medilinkmidlands.com/wp-content/uploads/2022/04/Alex.jpg
ORGANIZER;CN="Zoe Heather":MAILTO:info@medilinkmidlands.com
END:VEVENT
BEGIN:VEVENT
DTSTART;TZID=Europe/London:20211124T090000
DTEND;TZID=Europe/London:20211124T163000
DTSTAMP:20260421T193058
CREATED:20210803T115013Z
LAST-MODIFIED:20210803T115013Z
UID:18712-1637744400-1637771400@staging.medilinkmidlands.com
SUMMARY:IN-PERSON EVENT: Midlands Health and Life Science Symposium
DESCRIPTION:                                                        \n \n \n\n\n\n\n\nSponsored by Midlands Engine Health \n \n  \nThe Midlands Health and Life Science Symposium event will shine a light on the powerhouse of Health and Life Sciences research strength that is the Midlands\, as well as the role it can play in supporting the delivery of national innovation policies\, achievement through the place agenda and adoption/innovation within the NHS. The incredible collaborations that delivered over £53 million of cutting-edge research in the fight against COVID-19\, will bring together stakeholders from across the Midlands region with interests in Health and Life Sciences research\, local strategies\, innovation. \nToday\, the Midlands is home to: \n– the highest number of Medical Technologies companies of any region in the UK (pumping £1.6bn into the UK economy pa)\n– 14% of all UK Life Sciences employment (30\,565 jobs)\n– 2 of the 3 largest UK NHS Trusts\n– the 2nd largest Clinical Trials cluster in Europe\n– 7 leading Medical Schools (producing over 20% of the UK’s medical students)\n– a stable\, ethnically diverse population of over 10 million citizens (making it the ideal test bed for global health and multimorbidity interventions) \nThis event will bring together academic\, business and clinical experts\, alongside civic and regional leaders from the Midlands and beyond to highlight what the region has to offer and to explore how excellence can be harnessed to address global healthcare challenges for increased wellbeing and productivity. \nConfirmed keynote speakers: \n– Sir John Peace\, Chairman\, Midlands Engine\n– Professor Dame Anne Johnson\, President of The Academy of Medical Science\n– Professor Andrew Morris\, Director\, Health Data Research UK\n– Dr Louise Wood\, Director of Science\, Research and Evidence\, Department of Health and Social Care and Co-lead of NIHR \nProgramme \nSpeaker Biographies and Breakout Session details\nDelegate List\n \nWhy you should attend:\nIn addition to learning about our exciting Health and Life Sciences expertise and the role that innovation can play in levelling up the economy\, we are also expecting 300 delegates\, providing an excellent networking opportunity with those in Health and Life Sciences. Delegates will hear about:\n– The work the Midlands is doing to tackle health inequalities and to support the levelling-up agenda\n– The nationally leading cutting-edge Health and Life Sciences research being delivered in the Midlands in topics such as Diabetes\, Imaging\, Advanced Therapies and Biobanks\n– How academic\, industry and NHS partners across the region are collaborating\, including best practice and opportunities to get involved\n– Investment Opportunities such as the National Rehabilitation Centre and the Birmingham Health Innovation Campus\n– Speakers will be drawn from UKRI\, government departments and the NHS \nCompanies joining us for the exhibition are:\n– Accelerate Associates \n– Achiever Medical \n– Birmingham Health Innovation Campus \n– Callisto Life Science Partners\n– Dignio \n– Fluidigm \n– Guardtech Cleanrooms\n– HORIBA Medical \n– Hospital Services Limited\n– i3 Simulations\n– Life Science Group\n– Medical Technologies Innovation Facility \n– Medilink Midlands\n– MI Health\n– Miltenyi Biotec \n– National Institute for Health Research\n– Wren Healthcare\nPlease note\, all exhibition opportunities have now sold out – view the exhibition floor plan and exhibitor details here.\n \nThe Big Ask 2021 – Pitching Session 1:15-2pm:\nDuring the lunch and networking break the stage will be open for booked 5-minute pitches with your Big Ask.  We have some dynamic and interesting requests from our community to present\, as we are hoping we can get relevant connections and link-up’s which will lead to some great collaborations and partnerships.  Details of which will be shared soon. \nThis event is brought to you by MI Health\, event managed by Medilink Midlands.\n\nVenue and Delegate – COVID-19 Compliance: \n– All participants will be required to adhere to social distancing guidelines at all times\n– The rooms will be laid out with relevant spacing between tables/delegates\n– All rooms will be adequately ventilated with outside air\n– Additional cleaning will be carried out throughout the day\n– All rooms have hand sanitiser nearby\n– Social distancing measures will be in effect for all toilets\n– Delegates/staff have the option to wear a face covering upon entering the venue and whilst in attendance at the event\n– It is recommended that all delegates and speakers complete a lateral flow test before attending this event\nYou can read the National Conference Centre\, Birmingham’s ‘Staying COVID-19 Secure in 2020 and beyond’ document online here.  \nIn addition to the above we will closely monitor any updates/changes from government and will keep delegates and speakers updated \nTravelling to the National Conference Centre\, Birmingham: \nThe conference centre is centrally located at J6 of the M42\, follow signs to The National Motorcycle Museum from all approach roads. Using postcode B92 0EJ\, there are 1000 free parking spaces on site\, including charge points for electric cars and disabled parking. If travelling by train Birmingham International is a 5 minute taxi drive.  For full travel details\, please see here.
URL:https://staging.medilinkmidlands.com/event/midlands-health-and-life-science-symposium/
LOCATION:National Conference Centre Birmingham\, Coventry Road\, Bickenhill\, Solihull\, B92 0EJ\, United Kingdom
CATEGORIES:Other Event
ATTACH;FMTTYPE=image/png:https://staging.medilinkmidlands.com/wp-content/uploads/2022/04/MI_HEALTH_sub_logo_RGB.png
ORGANIZER;CN="Becky Sharpe":MAILTO:events@medilinkmidlands.com
END:VEVENT
END:VCALENDAR